BEGIN:VCALENDAR
VERSION:2.0
PRODID:-//Câmara Municipal de Santiago do Cacém - ECPv6.15.18//NONSGML v1.0//EN
CALSCALE:GREGORIAN
METHOD:PUBLISH
X-WR-CALNAME:Câmara Municipal de Santiago do Cacém
X-ORIGINAL-URL:https://www.cm-santiagocacem.pt
X-WR-CALDESC:Eventos para Câmara Municipal de Santiago do Cacém
REFRESH-INTERVAL;VALUE=DURATION:PT1H
X-Robots-Tag:noindex
X-PUBLISHED-TTL:PT1H
BEGIN:VTIMEZONE
TZID:Europe/Paris
BEGIN:DAYLIGHT
TZOFFSETFROM:+0100
TZOFFSETTO:+0200
TZNAME:CEST
DTSTART:20160327T010000
END:DAYLIGHT
BEGIN:STANDARD
TZOFFSETFROM:+0200
TZOFFSETTO:+0100
TZNAME:CET
DTSTART:20161030T010000
END:STANDARD
BEGIN:DAYLIGHT
TZOFFSETFROM:+0100
TZOFFSETTO:+0200
TZNAME:CEST
DTSTART:20170326T010000
END:DAYLIGHT
BEGIN:STANDARD
TZOFFSETFROM:+0200
TZOFFSETTO:+0100
TZNAME:CET
DTSTART:20171029T010000
END:STANDARD
BEGIN:DAYLIGHT
TZOFFSETFROM:+0100
TZOFFSETTO:+0200
TZNAME:CEST
DTSTART:20180325T010000
END:DAYLIGHT
BEGIN:STANDARD
TZOFFSETFROM:+0200
TZOFFSETTO:+0100
TZNAME:CET
DTSTART:20181028T010000
END:STANDARD
BEGIN:DAYLIGHT
TZOFFSETFROM:+0100
TZOFFSETTO:+0200
TZNAME:CEST
DTSTART:20190331T010000
END:DAYLIGHT
BEGIN:STANDARD
TZOFFSETFROM:+0200
TZOFFSETTO:+0100
TZNAME:CET
DTSTART:20191027T010000
END:STANDARD
END:VTIMEZONE
BEGIN:VEVENT
DTSTART;VALUE=DATE:20170930
DTEND;VALUE=DATE:20180107
DTSTAMP:20260420T070530
CREATED:20170921T082143Z
LAST-MODIFIED:20170921T085150Z
UID:14096-1506729600-1515283199@www.cm-santiagocacem.pt
SUMMARY:Pinturas com História...
DESCRIPTION:No dia 30 de setembro\, às 16h30\, no Museu Municipal de Santiago do Cacém\, é inaugurada a exposição de Nelson Pires\, que vai estar patente de 30 de setembro a 6 de janeiro de 2018.
URL:https://www.cm-santiagocacem.pt/evento/pinturas-com-historia/
LOCATION:Museu Municipal de Santiago do Cacém\, Portugal
CATEGORIES:cultura
ATTACH;FMTTYPE=image/jpeg:https://www.cm-santiagocacem.pt/wp-content/uploads/Nelson-Pires-Expo_cartaz.jpg
GEO:38.0164199;-8.6919527
END:VEVENT
BEGIN:VEVENT
DTSTART;VALUE=DATE:20171130
DTEND;VALUE=DATE:20180208
DTSTAMP:20260420T070530
CREATED:20170830T085306Z
LAST-MODIFIED:20171222T124433Z
UID:13717-1512000000-1518047999@www.cm-santiagocacem.pt
SUMMARY:Boletim Municipal 45
DESCRIPTION:Veja as últimas notícias do Município de Santiago do Cacém. Boas leituras! \n Boletim Municipal 45 \n Separata 45
URL:https://www.cm-santiagocacem.pt/evento/boletim-municipal-45/
CATEGORIES:boletim
ATTACH;FMTTYPE=image/jpeg:https://www.cm-santiagocacem.pt/wp-content/uploads/capa-1.jpg
END:VEVENT
BEGIN:VEVENT
DTSTART;VALUE=DATE:20171201
DTEND;VALUE=DATE:20180107
DTSTAMP:20260420T070530
CREATED:20171130T130508Z
LAST-MODIFIED:20171214T161041Z
UID:15258-1512086400-1515283199@www.cm-santiagocacem.pt
SUMMARY:Animação de Natal 2017
DESCRIPTION:De 1 de dezembro a 6 de janeiro\, está a decorrer\, nas lojas aderentes o Sorteio Natal. Música\, animação infantil\, feira de artesanato\, fotografias com o Pai Natal e muito mais.! Não perca! No Natal compre no Comércio Tradicional! \nINFORMAÇÃO:\nDevido às condições climatéricas previstas para amanhã\, dia 15 de dezembro\, as atividades de “Animação de Natal” programadas para o Parque da Quinta do Chafariz em Santiago do Cacém\, serão realizadas nos Pavilhões de Feiras e Exposições (Entrada Nascente). \nMantém-se o programado para o dia 16 de dezembro\, sábado. \nConsulte programa –  Animação de Natal – Programa \n 
URL:https://www.cm-santiagocacem.pt/evento/animacao-de-natal-2017/
LOCATION:Município de Santiago do Cacém
CATEGORIES:Festas
ATTACH;FMTTYPE=image/jpeg:https://www.cm-santiagocacem.pt/wp-content/uploads/CMSC-Natal-Poster-Com®rcio-Tradicional-A3.jpg
GEO:37.9380587;-8.6994583
END:VEVENT
BEGIN:VEVENT
DTSTART;TZID=Europe/Paris:20171203T080000
DTEND;TZID=Europe/Paris:20180106T233000
DTSTAMP:20260420T070530
CREATED:20171128T185458Z
LAST-MODIFIED:20171128T185545Z
UID:15213-1512288000-1515281400@www.cm-santiagocacem.pt
SUMMARY:A'Bella uma família um presépio
DESCRIPTION:De 3 de dezembro a 6 de janeiro de 2018\, visite Abela e deixe-se surpreender pelos presépios executados pelos habitantes da localidade.
URL:https://www.cm-santiagocacem.pt/evento/abella-uma-familia-um-presepio/
CATEGORIES:artesanato
ATTACH;FMTTYPE=image/jpeg:https://www.cm-santiagocacem.pt/wp-content/uploads/ABELA-696x891.jpg
END:VEVENT
BEGIN:VEVENT
DTSTART;VALUE=DATE:20171205
DTEND;VALUE=DATE:20171231
DTSTAMP:20260420T070530
CREATED:20171127T105851Z
LAST-MODIFIED:20171127T105851Z
UID:15147-1512432000-1514678399@www.cm-santiagocacem.pt
SUMMARY:Pelos Caminhos da Inclusão - Cercisiago
DESCRIPTION:De 5 a 30 de dezembro\, está patente na Biblioteca Municipal Manuel da Fonseca\, em Santiago do Cacém\, a exposição Pelos Caminhos da Inclusão da Cercisiago\, no âmbito do Dia Internacional da Deficiência\, comemorado a 3 de dezembro. \nExposiçao Cercisiago
URL:https://www.cm-santiagocacem.pt/evento/pelos-caminhos-da-inclusao-cercisiago/
LOCATION:Biblioteca Municipal Manuel da Fonseca
CATEGORIES:exposições
ATTACH;FMTTYPE=image/jpeg:https://www.cm-santiagocacem.pt/wp-content/uploads/exposiçao-cercisiago.jpg
GEO:38.0194123;-8.6947907
END:VEVENT
BEGIN:VEVENT
DTSTART;VALUE=DATE:20171207
DTEND;VALUE=DATE:20180108
DTSTAMP:20260420T070530
CREATED:20171207T164339Z
LAST-MODIFIED:20171207T164339Z
UID:15948-1512604800-1515369599@www.cm-santiagocacem.pt
SUMMARY:Presépio Tradicional Português
DESCRIPTION:De 7 de dezembro 2017 a 7 de janeiro de 2018 está exposto no Antigo Quartel dos Bombeiros Voluntários de Santiago do Cacém um Presépio Tradicional Português. Não perca a oportunidade faça a sua visita! \nUm Presépio comunitário que recupera velhas práticas \nSob a orientação do arquitecto Ricardo Pereira\, da conservadora-restauradora Sara Fonseca e da pintora Raquel Ventura\, mais de meia centena de pessoas\, entre adultos e crianças\, trabalharam afincadamente\, ao longo de vários dias\, na construção do Presépio. Na retaguarda\, o escultor Vasco Tavares da Silva\, o mestre serralheiro Gonçalo Cavalinhos e a professora aposentada Ivone Pereira Bento foram velando para que tudo avançasse da melhor maneira. A palavra passou de boca em boca. \nDe início\, uma equipa recolheu pedaços de cortiça\, troncos\, bolotas e ervas aromáticas nas matas litorais\, tendo o cuidado de preservar espécies protegidas; outra concebeu a estrutura de base\, ergueu a sua “alma”\, usando cadeiras e mesas\, e forrou-a com papéis coloridos\, fabricados por uma empresa da zona; outra foi desembrulhando e alinhando centenas de figuras – todas com mais de 50 anos\, todas feitas em materiais tradicionais –\, emprestadas por famílias e instituições da terra; outra ainda ocupou-se de alguns restauros imprescindíveis.
URL:https://www.cm-santiagocacem.pt/evento/presepio-tradicional-portugues/
LOCATION:Santiago do Cacém
CATEGORIES:cultura
ATTACH;FMTTYPE=image/jpeg:https://www.cm-santiagocacem.pt/wp-content/uploads/presépio-convite-a.jpg
GEO:38.0117398;-8.794709,12
END:VEVENT
BEGIN:VEVENT
DTSTART;TZID=Europe/Paris:20171212T000000
DTEND;TZID=Europe/Paris:20171229T000000
DTSTAMP:20260420T070530
CREATED:20171212T172914Z
LAST-MODIFIED:20171212T173801Z
UID:16006-1513036800-1514505600@www.cm-santiagocacem.pt
SUMMARY:Dançarita
DESCRIPTION:Inscrições e novos horários das aulas de ballet da Dançarita\, em Santiago do Cacém e Vila Nova de Santo André.
URL:https://www.cm-santiagocacem.pt/evento/dancarita/
CATEGORIES:Dança
ATTACH;FMTTYPE=image/jpeg:https://www.cm-santiagocacem.pt/wp-content/uploads/AULAS-DE-A-DANÇARITA-ASS.-ARTÍSTICA-E-CULTURAL.jpg
END:VEVENT
BEGIN:VEVENT
DTSTART;TZID=Europe/Paris:20171228T220000
DTEND;TZID=Europe/Paris:20171228T220000
DTSTAMP:20260420T070530
CREATED:20171221T192057Z
LAST-MODIFIED:20171221T192127Z
UID:16141-1514498400-1514498400@www.cm-santiagocacem.pt
SUMMARY:Teatro - Crise no Parque Eduardo VII
DESCRIPTION:Dia 28 de dezembro\, 22h00\, no Auditório do Centro de Atividades Pedagógicas Alda Guerreiro em Vila Nova de Santo André\, pela Comuna Teatro de Pesquisa. Entrada Livre. \nDestilar a vida…Dois velhos sentados num banco de jardim…O tempo parece suspenso nas horas imóveis do parque\, no outono esquecido da vida. Adivinham se as voltas do mundo na música que vem de longe\, da infância ou do futuro\, e que nos vai ensinando que “a beira do fim é tão preciosa como a beira do principio” ….\nAtores: Carlos Paulo\, Elsa Galvão\, Gonçalo Botelho\, Hugo Franco\, Igor Sampaio\, Maria Ana Filipe e Miguel Sermão \nSaiba Mais  Crise_Parque Eduardo VII
URL:https://www.cm-santiagocacem.pt/evento/teatro-crise-no-parque-eduardo-vii/
CATEGORIES:teatro
ATTACH;FMTTYPE=image/jpeg:https://www.cm-santiagocacem.pt/wp-content/uploads/CRISE-28dez-cartaz-A3_completo.jpg
END:VEVENT
END:VCALENDAR