BEGIN:VCALENDAR
VERSION:2.0
PRODID:-//Câmara Municipal de Santiago do Cacém - ECPv6.15.18//NONSGML v1.0//EN
CALSCALE:GREGORIAN
METHOD:PUBLISH
X-WR-CALNAME:Câmara Municipal de Santiago do Cacém
X-ORIGINAL-URL:https://www.cm-santiagocacem.pt
X-WR-CALDESC:Eventos para Câmara Municipal de Santiago do Cacém
REFRESH-INTERVAL;VALUE=DURATION:PT1H
X-Robots-Tag:noindex
X-PUBLISHED-TTL:PT1H
BEGIN:VTIMEZONE
TZID:Europe/Lisbon
BEGIN:DAYLIGHT
TZOFFSETFROM:+0000
TZOFFSETTO:+0100
TZNAME:WEST
DTSTART:20220327T010000
END:DAYLIGHT
BEGIN:STANDARD
TZOFFSETFROM:+0100
TZOFFSETTO:+0000
TZNAME:WET
DTSTART:20221030T010000
END:STANDARD
BEGIN:DAYLIGHT
TZOFFSETFROM:+0000
TZOFFSETTO:+0100
TZNAME:WEST
DTSTART:20230326T010000
END:DAYLIGHT
BEGIN:STANDARD
TZOFFSETFROM:+0100
TZOFFSETTO:+0000
TZNAME:WET
DTSTART:20231029T010000
END:STANDARD
BEGIN:DAYLIGHT
TZOFFSETFROM:+0000
TZOFFSETTO:+0100
TZNAME:WEST
DTSTART:20240331T010000
END:DAYLIGHT
BEGIN:STANDARD
TZOFFSETFROM:+0100
TZOFFSETTO:+0000
TZNAME:WET
DTSTART:20241027T010000
END:STANDARD
BEGIN:DAYLIGHT
TZOFFSETFROM:+0000
TZOFFSETTO:+0100
TZNAME:WEST
DTSTART:20250330T010000
END:DAYLIGHT
BEGIN:STANDARD
TZOFFSETFROM:+0100
TZOFFSETTO:+0000
TZNAME:WET
DTSTART:20251026T010000
END:STANDARD
END:VTIMEZONE
BEGIN:VEVENT
DTSTART;TZID=Europe/Lisbon:20231024T100000
DTEND;TZID=Europe/Lisbon:20240630T140000
DTSTAMP:20260423T161348
CREATED:20231023T091440Z
LAST-MODIFIED:20231023T091806Z
UID:58492-1698141600-1719756000@www.cm-santiagocacem.pt
SUMMARY:Hora do Conto
DESCRIPTION:Inicia-se nas bibliotecas municipais\, a partir de 24 de outubro\, a Hora do Conto\, um projeto continuado de promoção do livro e da leitura através da narração de contos para a infância. A iniciativa\, vai ser desenvolvida durante o ano letivo de 2023/2024\, é dirigida aos alunos dos jardins de infância e do 1.º CEB. \nA Hora do Conto irá realizar-se na Biblioteca Municipal Manuel da Fonseca\, terças e sextas-feiras\, às 10h00 e às 14h00\, e na Biblioteca Municipal Manuel José “do Tojal”\, terças e quintas-feiras\, às 10h00 e às 14h00. \nIniciativa inserida nas Comemorações do Nascimento de Manuel da Fonseca.
URL:https://www.cm-santiagocacem.pt/evento/hora-do-conto/
LOCATION:Biblioteca Municipal Manuel da Fonseca e Biblioteca Municipal Manuel José “do Tojal”
CATEGORIES:Bibliotecas,leitura
ATTACH;FMTTYPE=image/jpeg:https://www.cm-santiagocacem.pt/wp-content/uploads/Hora-do-Conto-2023-BMSC-e-BMSA-Comemoracoes-nascimento-de-Manuel-da-Fonseca.jpg
END:VEVENT
BEGIN:VEVENT
DTSTART;VALUE=DATE:20240110
DTEND;VALUE=DATE:20240301
DTSTAMP:20260423T161348
CREATED:20231222T160655Z
LAST-MODIFIED:20231222T161215Z
UID:59621-1704844800-1709251199@www.cm-santiagocacem.pt
SUMMARY:Exposição "Unidade através das dimensões da existência" de Fernanda Brito
DESCRIPTION:A Biblioteca Municipal Manuel José “do Tojal” recebe\, de 10 de janeiro a 29 de fevereiro\, a exposição a “Unidade através das dimensões da existência”\, de Fernanda Brito. \n“A Exposição acompanha\, visualmente\, a construção de uma relação íntima com a paisagem\, sempre em metamorfose. Esta viagem revela muitas vezes o espaço onde habito\, onde me encontro e me recolho\, onde me reconheço e me entrego\, neste ambiente que me envolve e que me presenteia com uma autêntica paleta viva\, permitindo-me mergulhar nela para me dar a inspiração para criar e descobrir as várias dimensões da existência”.
URL:https://www.cm-santiagocacem.pt/evento/exposicao-unidade-atraves-das-dimensoes-da-existencia-de-fernanda-brito/
LOCATION:Biblioteca Municipal Manuel José “do Tojal”\, Vila Nova de Santo André\, Portugal
CATEGORIES:AR|Exposições,exposições
ATTACH;FMTTYPE=image/jpeg:https://www.cm-santiagocacem.pt/wp-content/uploads/kline_Unidade-atraves-das-dimensoes-da-existencia.jpg
GEO:38.0531218;-8.7524636
END:VEVENT
BEGIN:VEVENT
DTSTART;VALUE=DATE:20240201
DTEND;VALUE=DATE:20240301
DTSTAMP:20260423T161348
CREATED:20240131T121018Z
LAST-MODIFIED:20240131T133817Z
UID:60155-1706745600-1709251199@www.cm-santiagocacem.pt
SUMMARY:Santiago do Cacém – Município em Agenda – fevereiro de 2024
DESCRIPTION:O impacto da revolução trouxe a democratização do acesso à cultura\, às artes ao desporto\, à liberdade de expressão. ‘Santiago do Cacém – Município em Agenda’ apresenta um conjunto de iniciativas que\, algumas\, decorrem sob o tema das Comemorações dos 50 anos do 25 de Abril\, como é exemplo a exposição “17 Retratos – A Condição da Mulher do Campo: 1950 e 1960 – concelho de Castro Verde”. \nEste ano o calendário volta a marcar o Carnaval para fevereiro e\, como é tradição\, vamos poder sair à rua para ver os desfiles das escolas nas freguesias. Também os seniores vão poder passar uma tarde cheia de animação no Baile de Carnaval que lhes preparámos. \nOutro destaque que quero fazer para este mês chega-nos através da música com o concerto da Orquestra Sinfónica Juvenil e que conta com a presença do clarenista santiaguense\, Pedro Guerreiro. \nO Festival da Enguia da Lagoa de Santo André\, que está quase a completar uma década de existência\, continua neste mês a decorrer nos restaurantes aderentes à iniciativa\, trazendo muitos visitantes que vêm degustar esta iguaria única na nossa Região. \nVenha! Vamos viver as nossas atividades em Liberdade. \n Santiago do Cacém – Município em Agenda – fevereiro de 2024
URL:https://www.cm-santiagocacem.pt/evento/santiago-do-cacem-municipio-em-agenda-fevereiro-de-2024/
LOCATION:Município de Santiago do Cacém
CATEGORIES:AR|Desporto,AR|Exposições,AR|Festivais,AR|Literatura,AR|Música,AR|Teatro,cultura,Dança,desenvolvimento económico,desporto,Festas,gastronomia,leitura,Música,teatro,Turismo
ATTACH;FMTTYPE=image/jpeg:https://www.cm-santiagocacem.pt/wp-content/uploads/Agenda-Cultural-FEV_2024.jpg
GEO:37.9380587;-8.6994583
END:VEVENT
BEGIN:VEVENT
DTSTART;VALUE=DATE:20240209
DTEND;VALUE=DATE:20240311
DTSTAMP:20260423T161348
CREATED:20240209T124951Z
LAST-MODIFIED:20240229T093039Z
UID:60326-1707436800-1710115199@www.cm-santiagocacem.pt
SUMMARY:Eleições para a Assembleia da República 2024
DESCRIPTION:Edital – Locais e Horários de Funcionamento das Assembleias ou Secções de Voto e Eleitores que nelas votam \n Edital – Listas Definitivamente Admitidas \n Edital – Mapa Definitivo das Assembleias e Secções de Voto – Eleição da Assembleia da República \n  \n\nVoto dos Cidadãos recenseados no território nacional e deslocados no estrangeiro no dia da eleição\nVoto antecipado de eleitores Deslocados no Estrangeiro \n Quem pode votar antecipadamente estando deslocado no\nestrangeiro? \n– Podem votar antecipadamente no estrangeiro os eleitores recenseados em território nacional que aí estejam deslocados: \n\npor inerência do exercício de funções públicas1 ou privadas;\nem representação oficial de seleção nacional\, organizada por federação desportiva dotada de estatuto de utilidade pública desportiva;\nenquanto estudantes\, investigadores\, docentes e bolseiros de investigação deslocados no estrangeiro em instituições de ensino superior\, unidades de investigação ou equiparadas reconhecidas pelo ministério competente;\nque sejam doentes em tratamento no estrangeiro;\nque vivam com os eleitores mencionados nas situações anteriores ou os acompanhem.\n\n– Como faço para votar antecipadamente? E quando? \nEntre os dias 27 e 29 de fevereiro\, dirija-se às secções consulares das embaixadas\, aos consulados ou às delegações externas das instituições públicas portuguesas previamente definidas pelo Ministério dos Negócios Estrangeiros\, identifique-se (de preferência através do CC/BI) e indique a freguesia de inscrição no recenseamento eleitoral.\nDe seguida\, vota e é-lhe entregue um comprovativo do exercício do direito de voto. \n– Saiba onde está recenseado: \nNo estrangeiro:\n• Na Internet: www.recenseamento.mai.gov.pt\n• Através de SMS para +351 962 171 000\, com a mensagem RE (espaço) número de BI/CC (espaço) data de nascimento=aaaammdd Ex: RE 1444880 19531007 \nNo território nacional:\n• Na Internet: www.recenseamento.mai.gov.pt\n• Através de SMS (gratuito) para 3838\, com a mensagem RE (espaço) número de BI/CC (espaço) data de nascimento=aaaammdd Ex: RE 72386718 19820803\n• Na Junta de Freguesia do seu local de residência. \n1 Se o Ministério dos Negócios Estrangeiros reconhecer a impossibilidade da deslocação destes eleitores às representações diplomáticas\, designa um funcionário diplomático\, que procede à recolha do voto. \n ​Lista com os Locais de voto antecipado no estrangeiro –  27\, 28 e 29 de fevereiro de 2024 (informação COREPE) \n  \nVoto Antecipado dos Presos e Doentes Internados\n\n Voto antecipado em mobilidade (para todos os concelhos)  \n  Voto antecipado para presos não privados de direitos políticos  \n Quem pode votar antecipadamente? \n\nPRESOS – Cidadãos recenseados em Portugal que se encontrem presos e não privados de direitos políticos.\nDOENTES INTERNADOS – Cidadãos recenseados em Portugal e que\, por motivo de doença\, se encontrem internados ou presumivelmente internados em estabelecimento hospitalar e impossibilitados de se deslocar à assembleia de voto no dia da eleição.\n\n– Como faço para votar antecipadamente? E quando? \nAté ao dia 19 de fevereiro\, faça chegar à administração eleitoral da Secretaria-Geral do Ministério da Administração Interna\, por meios eletrónicos (www.votoantecipado.mai.gov.pt) ou pelo correio (para Secretaria-Geral da Administração Interna\, Praça do Comércio\, Ala Oriental\, 1149-015 LISBOA)\, o seu requerimento para exercer o direito de voto antecipado\, devendo\, para o efeito:\n• Indicar o número do documento de identificação civil (Cartão de Cidadão ou Bilhete de Identidade); e\n• Juntar documento comprovativo do impedimento invocado\, emitido pelo diretor do estabelecimento prisional (presos) ou pelo médico assistente e confirmado pela direção do estabelecimento hospitalar (doentes internados). \nA comunicação por meios eletrónicos pode ser feita\, a pedido do eleitor\, pelo diretor do estabelecimento\, que juntará relação nominal dos eleitores que manifestaram vontade de exercer o seu direito de voto antecipadamente e\, no caso\, dos internados em estabelecimento hospitalar\, declarações dos respetivos médicos assistentes. \nEntre 26 e 29 de fevereiro\, o presidente da câmara municipal da área do estabelecimento prisional/hospitalar ou vereador credenciado desloca-se ao estabelecimento em que se encontre para recolher o seu voto1. \n– Saiba onde está recenseado: \n• Na Internet: www.recenseamento.mai.gov.pt\n• Através de SMS (gratuito) para 3838\, com mensagem RE (espaço) número de BI/CC (espaço) data de nascimento=aaaammdd (Ex: RE72386718 19820803)\n• Na junta de freguesia do seu local de residência \n1 O documento comprovativo do impedimento invocado não deve ser colocado\, juntamente com o sobrescrito de cor branca\, no\nsobrescrito de cor azul. \n\n ​Requerimento via postal – VA Doentes internados \n ​Requerimento via postal – VA Presos\n\n\n  \nVoto Antecipado em Mobilidade de Cidadãos recenseados no território nacional\n Voto antecipado em mobilidade (para todos os concelhos) \n Quem pode votar antecipadamente em mobilidade no território nacional? \n\nTodos os eleitores recenseados no território nacional e que pretendam votar em data anterior ao dia da eleição.\n\n– Como faço para votar em mobilidade? E quando? \nEntre 25 e 29 de fevereiro\, inscreva-se: \n• Por meio eletrónico em www.votoantecipado.mai.gov.pt;\n• Ou por carta (para Secretaria-Geral da Administração Interna\, Praça do Comércio\, Ala Oriental\, 1149-015 LISBOA)\, de modo a que seja recebida até 29 de fevereiro\, comunicando o nome completo\, a data de nascimento\, o número de identificação civil\, a morada\, a mesa de voto onde pretende votar e o endereço de correio eletrónico ou o contacto telefónico. \nNo dia 3 de março\, deve dirigir-se à mesa de voto no município por si\, identificar-se (de preferência através do Cartão de Cidadão ou do Bilhete de Identidade) e indicar a freguesia onde está recenseado. \nApós votar\, é-lhe entregue um documento comprovativo do exercício do direito de voto. \n– Saiba onde está recenseado: \n• Na Internet: www.recenseamento.mai.gov.pt\n• Através de SMS (gratuito) para 3838\, com mensagem RE (espaço) número de BI/CC (espaço) data de nascimento=aaaammdd (Ex:RE72386718 19820803)\n• Na junta de freguesia do seu local de residência. \n\n ​Requerimento via postal – VA em Mobilidade
URL:https://www.cm-santiagocacem.pt/evento/eleicoes-para-a-assembleia-da-republica-2024/
ATTACH;FMTTYPE=image/jpeg:https://www.cm-santiagocacem.pt/wp-content/uploads/logotipo-Eleicoes-Legislativas-24_Horizontal-cores-com-data_Horizontal-cores-com-data.jpg
END:VEVENT
BEGIN:VEVENT
DTSTART;VALUE=DATE:20240215
DTEND;VALUE=DATE:20240331
DTSTAMP:20260423T161348
CREATED:20240212T120631Z
LAST-MODIFIED:20240212T120631Z
UID:60400-1707955200-1711843199@www.cm-santiagocacem.pt
SUMMARY:Exposição - "17 Retratos - A condição da Mulher do Campo: 1950 e 1960 - Concelho de Castro Verde"
DESCRIPTION:Está patente\, de 15 de fevereiro a 30 de março\, a Exposição – “17 Retratos – A condição da Mulher do Campo: 1950 e 1960 – Concelho de Castro Verde”  na Biblioteca Municipal Manuel da Fonseca\, em Santiago do Cacém. \nFoi no contexto económico e social traçado\, referente aos campos do Sul nas décadas de 1950 e 1960\, que as 17 mulheres do concelho de Castro Verde\, cujo retrato se faz nesta exposição\, viveram parte significativa da sua vida. \nDo conjunto das 17 vidas retratadas emerge uma condição de subalternidade na sociedade\, no trabalho e na família\, o que fez de cada dia destas mulheres um tempo de resistência\, de luta e de esperança. \nIniciativa inserida nas Comemorações dos 50 anos do 25 de Abril
URL:https://www.cm-santiagocacem.pt/evento/exposicao-17-retratos-a-condicao-da-mulher-do-campo-1950-e-1960-concelho-de-castro-verde/
LOCATION:Biblioteca Municipal Manuel da Fonseca
CATEGORIES:AR|Exposições,Bibliotecas,comemorações,exposições
ATTACH;FMTTYPE=image/jpeg:https://www.cm-santiagocacem.pt/wp-content/uploads/Exposicao_17-retratos_A-condicao-da-mulher-do-campo_25-de-abril.jpg
GEO:38.0194123;-8.6947907
END:VEVENT
END:VCALENDAR