BEGIN:VCALENDAR
VERSION:2.0
PRODID:-//Câmara Municipal de Santiago do Cacém - ECPv6.15.18//NONSGML v1.0//EN
CALSCALE:GREGORIAN
METHOD:PUBLISH
X-WR-CALNAME:Câmara Municipal de Santiago do Cacém
X-ORIGINAL-URL:https://www.cm-santiagocacem.pt
X-WR-CALDESC:Eventos para Câmara Municipal de Santiago do Cacém
REFRESH-INTERVAL;VALUE=DURATION:PT1H
X-Robots-Tag:noindex
X-PUBLISHED-TTL:PT1H
BEGIN:VTIMEZONE
TZID:Europe/Lisbon
BEGIN:DAYLIGHT
TZOFFSETFROM:+0000
TZOFFSETTO:+0100
TZNAME:WEST
DTSTART:20240331T010000
END:DAYLIGHT
BEGIN:STANDARD
TZOFFSETFROM:+0100
TZOFFSETTO:+0000
TZNAME:WET
DTSTART:20241027T010000
END:STANDARD
BEGIN:DAYLIGHT
TZOFFSETFROM:+0000
TZOFFSETTO:+0100
TZNAME:WEST
DTSTART:20250330T010000
END:DAYLIGHT
BEGIN:STANDARD
TZOFFSETFROM:+0100
TZOFFSETTO:+0000
TZNAME:WET
DTSTART:20251026T010000
END:STANDARD
BEGIN:DAYLIGHT
TZOFFSETFROM:+0000
TZOFFSETTO:+0100
TZNAME:WEST
DTSTART:20260329T010000
END:DAYLIGHT
BEGIN:STANDARD
TZOFFSETFROM:+0100
TZOFFSETTO:+0000
TZNAME:WET
DTSTART:20261025T010000
END:STANDARD
END:VTIMEZONE
BEGIN:VEVENT
DTSTART;VALUE=DATE:20250401
DTEND;VALUE=DATE:20250525
DTSTAMP:20260421T094212
CREATED:20250331T151837Z
LAST-MODIFIED:20250401T075952Z
UID:67665-1743465600-1748131199@www.cm-santiagocacem.pt
SUMMARY:Exposição "Ventos de Liberdade - 25 de Abril na Banda Desenhada - A Revista Visão" de Paulo Monteiro
DESCRIPTION:Está patente na Biblioteca Municipal Manuel da Fonseca\, em Santiago do Cacém\, de 1 de abril a 24 de maio\, a exposição “Ventos de Liberdade – 25 de Abril na Banda Desenhada – A Revista Visão” de Paulo Monteiro . \nO 25 de abril de 1974 trouxe com ele todas as liberdades. E a banda desenhada não ficou alheia a esse facto. \nO país\, flagelado por 48 anos de ditadura e por 13 de guerra colonial em África\, era ainda um país retrógrado e atrasado quando comparado com as democracias da Europa Ocidental. A possibilidade de se poderem discutir todos os assuntos sem medo da repressão constituía-se\, por isso\, como um bem verdadeiramente precioso. \nO primeiro número da revista Visão foi lançado no dia 1 de abril de 1975\, abarcando temáticas nunca antes afloradas entre nós: a exploração dos pobres pelos mais ricos\, a guerra colonial\, a libertação sexual\, o consumo das drogas leves\, a violência doméstica\, etc. \nA revista desapareceu tão depressa como surgiu. Mas ficou como um marco notável na História da Banda Desenhada Portuguesa. \n Exposição “Ventos de Liberdade – 25 de Abril na Banda Desenhada – A Revista Visão” de Paulo Monteiro
URL:https://www.cm-santiagocacem.pt/evento/exposicao-ventos-de-liberdade-25-de-abril-na-banda-desenhada-a-revista-visao-de-paulo-monteiro/
CATEGORIES:AR|Exposições,Bibliotecas,exposições
ATTACH;FMTTYPE=image/png:https://www.cm-santiagocacem.pt/wp-content/uploads/Exposicao-25-de-abril-banda-desenhada_BMSC.png
END:VEVENT
BEGIN:VEVENT
DTSTART;VALUE=DATE:20250401
DTEND;VALUE=DATE:20250801
DTSTAMP:20260421T094212
CREATED:20250408T153631Z
LAST-MODIFIED:20260317T091259Z
UID:67820-1743465600-1754006399@www.cm-santiagocacem.pt
SUMMARY:IX Concurso de Fotografia – Num instante…Um novo olhar
DESCRIPTION:Até  31 de julho está a decorrer o IX Concurso de Fotografia – Num instante…Um novo olhar. \nCom este Concurso pretende-se\, com a objetiva do fotógrafo amador ou profissional\, captar imagens originais de um município pleno de património construído com rostos marcados pelo tempo\, pela história e estórias\, culturas\, pessoas que nos visitam\, doçaria\, gastronomia\, a incontestável beleza natural e de recantos escondidos\, percursos e das inúmeras vertentes do que temos para oferecer e que possa ser desfrutado por quem aqui vive e nos visita. \nEste Concurso tem como objetivo principal destacar o potencial do turismo em Santiago do Cacém levando-o a ser vivido quer pelos visitantes\, quer pelos munícipes; pretende-se que cada trabalho fotográfico revele um olhar único e original sobre tradições existentes\, a riqueza tradicional\, cultural\, gastronómica\, humana\, paisagística\, arquitetónica\, histórica\, natural e biodiversidade. \nO Concurso é de âmbito internacional e destina-se a todos os que habitem ou visitem o município de Santiago do Cacém e retratem o mesmo através de fotografias originais. \nNo Concurso serão premiados 3 (três) trabalhos\, que serão anunciados na primeira quinzena de setembro de 2025. O júri poderá ainda atribuir a distinção de Menção\nHonrosa ou selecionar mais trabalhos (fotografias e textos) que revelem qualidade ou que se diferenciem em algum aspeto\, podendo ainda selecionar um trabalho de\ncada participante para integrar uma exposição coletiva. \n1.º Prémio 500 € (quinhentos euros) \n2.º Prémio 300 € (trezentos euros) \n3.º Prémio 200 € (duzentos euros) \nSerão ainda atribuídos Certificados de Participação a todos os participantes. \nConsulte as Normas de Participação aqui. \nPara esclarecimento de qualquer dúvida ou pedido de mais informações pode contactar: Divisão de Desenvolvimento Económico e Turismo – Posto de Turismo – Santiago do Cacém | Tel.: 269 826 696 (rede fixa nacional) ou pelos e-mails: ddet@cm-santiagocacem.pt ou turismo@cm-santiagocacem.pt
URL:https://www.cm-santiagocacem.pt/evento/ix-concurso-de-fotografia-num-instanteum-novo-olhar/
LOCATION:Município de Santiago do Cacém
CATEGORIES:AR|Artes e Ofícios,Fotografia,Turismo
ATTACH;FMTTYPE=image/jpeg:https://www.cm-santiagocacem.pt/wp-content/uploads/IX_Concurso-de-Fotografia_redes-sociais.jpg
GEO:37.9380587;-8.6994583
END:VEVENT
BEGIN:VEVENT
DTSTART;VALUE=DATE:20250419
DTEND;VALUE=DATE:20250524
DTSTAMP:20260421T094212
CREATED:20250327T113301Z
LAST-MODIFIED:20250516T072826Z
UID:67538-1745020800-1748044799@www.cm-santiagocacem.pt
SUMMARY:Exposição Coletiva de Pintura
DESCRIPTION:Está patente\, de 19 de abril a 23 de maio\, no Cine Teatro Vitória – Artur de Sousa Pinto\, em Ermidas-Sado\, a Exposição Coletiva de Pintura dos Alunos das Oficinas de Prática Criativa. \nTrabalhos realizados pelos participantes das Oficinas de Prática Criativa Itinerantes\, um projeto promovido pelo Município de Santiago do Cacém\, nas freguesias de Ermidas-Sado e Alvalade. \n Exposição coletiva de Pintura
URL:https://www.cm-santiagocacem.pt/evento/exposicao-coletiva-de-pintura/
LOCATION:Cine Teatro Vitória – Artur de Sousa Pinto (Ermidas-Sado)
CATEGORIES:AR|Exposições,exposições,freguesias
ATTACH;FMTTYPE=image/jpeg:https://www.cm-santiagocacem.pt/wp-content/uploads/Exposicao-coletiva-de-Pintura.jpg
GEO:38.0067997;-8.4198869
END:VEVENT
BEGIN:VEVENT
DTSTART;VALUE=DATE:20250428
DTEND;VALUE=DATE:20250601
DTSTAMP:20260421T094212
CREATED:20250415T141207Z
LAST-MODIFIED:20250415T143531Z
UID:67907-1745798400-1748735999@www.cm-santiagocacem.pt
SUMMARY:Exposição "Olhares da ASAS"
DESCRIPTION:Está patente de 28 de abril a 31 de maio\, na Biblioteca Municipal Manuel José “do Tojal”\, em Vila Nova de Santo André\, a exposição “Olhares da ASAS”\, uma exposição comemorativa do 20.º aniversário da ASAS Associação Sénior de Artes e Saberes. \n“Festejamos 20 anos!\nÉ nossa intenção não somente recordar o que temos feito\, mas acima de tudo relembrar que há sempre muito mais para fazer!\nEsta exposição\, que mistura as cores da harmonia\, do convívio\, da alegria com o branco experiente dos cabelos\, é uma mostra do muito que se faz nos vários ateliês que a ASAS oferece aos seus associados.\nNo nosso dia a dia\, nas nossas aulas e nas várias atividades\, falamos da vida\, recordamos\, sonhamos\, rimos\, damos vida aos nossos pensamentos e vemos como das nossas mãos nascem devagarinho autênticas obras de arte!\nEsta é a nossa exposição!\nEstá aqui o que hoje com muito carinho queremos mostrar!\nSabemos que enquanto a vida nos deixar tempo e espaço para a aproveitar não hesitaremos!\nUsaremos o nosso tempo e os nossos olhares!”\n“A beleza das coisas existe no espírito de quem as contempla.” David Hume \n Exposição “Olhares da ASAS”
URL:https://www.cm-santiagocacem.pt/evento/exposicao-olhares-da-asas/
LOCATION:Biblioteca Municipal Manuel José “do Tojal”\, Vila Nova de Santo André\, Portugal
ATTACH;FMTTYPE=image/jpeg:https://www.cm-santiagocacem.pt/wp-content/uploads/Olhares-da-ASAS.jpg
GEO:38.0531218;-8.7524636
END:VEVENT
BEGIN:VEVENT
DTSTART;VALUE=DATE:20250501
DTEND;VALUE=DATE:20250601
DTSTAMP:20260421T094212
CREATED:20250430T090842Z
LAST-MODIFIED:20250430T090842Z
UID:68127-1746057600-1748735999@www.cm-santiagocacem.pt
SUMMARY:Santiago do Cacém – Município em Agenda – maio de 2025
DESCRIPTION:Mês após mês celebramos a cultura no nosso Município com uma pluralidade de iniciativas que trazemos até si. \nO grande destaque deste mês vai para aquele que é considerado o maior certame do Município e da Região\, a SANTIAGRO – XXXVII – Feira Agropecuária e do Cavalo. Com um programa repleto de atividades para todas as idades\, junta num só espaço propostas relacionadas com a agricultura\, a pecuária\, a floresta\, exposições e demonstração de produtos regionais\, a gastronomia\, o showcooking\, o espaço Natura dedicado às crianças\, os colóquios e os espetáculos equestres e musicais. Ao longo de quatro dias são milhares de pessoas que aproveitam a oportunidade para estarem presentes neste grande evento. \nOs equipamentos municipais abrem portas para o/a receber com atividades destinadas para toda a família. É neste âmbito que recebemos a nova edição do FITA – Festival Internacional de Teatro do Alentejo\, que realiza três espetáculos no nosso Município. \nTambém as iniciativas desportivas têm de ser evidenciadas e é nesta área que está inserida a Meia Maratona Terra Única\, uma prova que se realiza pela primeira vez no Município logo no início do mês. \nTodas as iniciativas têm um papel principal para nós\, mas sempre direcionadas para si\, porque o mais importante são as pessoas. \n Santiago do Cacém – Município em Agenda – maio de 2025
URL:https://www.cm-santiagocacem.pt/evento/santiago-do-cacem-municipio-em-agenda-maio-de-2025/
LOCATION:Município de Santiago do Cacém
CATEGORIES:AR|Desporto,AR|Exposições,AR|Festas/Feiras/Romarias,AR|Infantil,AR|Literatura,AR|Música,AR|Teatro,Bibliotecas,cultura,desporto,feiras,leitura,Música
ATTACH;FMTTYPE=image/jpeg:https://www.cm-santiagocacem.pt/wp-content/uploads/CAPA_AGENDA_MAIO_2025.jpg
GEO:37.9380587;-8.6994583
END:VEVENT
BEGIN:VEVENT
DTSTART;VALUE=DATE:20250502
DTEND;VALUE=DATE:20250630
DTSTAMP:20260421T094212
CREATED:20250429T102316Z
LAST-MODIFIED:20250429T102316Z
UID:68112-1746144000-1751241599@www.cm-santiagocacem.pt
SUMMARY:TERRAmorfose - Exposição de pintura
DESCRIPTION:Está patente\, de 2 de maio a 29 de junho\, no Auditório Municipal António Chainho\, em Santiago do Cacém\, a exposição de pintura TERRAmorfose de Fernando Arriaga. \n Horário: De terça a sexta-feira das 10h00 às 12h30 e das 13h30 às 16h00 e em dia de espetáculo/cinema.
URL:https://www.cm-santiagocacem.pt/evento/terramorfose-exposicao-de-pintura/
LOCATION:Auditório Municipal António Chainho
CATEGORIES:AR|Exposições,cultura,exposições
ATTACH;FMTTYPE=image/jpeg:https://www.cm-santiagocacem.pt/wp-content/uploads/Exposicao-TerraMorfose_amac-1-scaled.jpg
GEO:38.020338;-8.6939476
END:VEVENT
BEGIN:VEVENT
DTSTART;VALUE=DATE:20250519
DTEND;VALUE=DATE:20250531
DTSTAMP:20260421T094212
CREATED:20250410T130815Z
LAST-MODIFIED:20250519T073211Z
UID:67865-1747612800-1748649599@www.cm-santiagocacem.pt
SUMMARY:Reinscrições Escola Municipal de Música – ano letivo 2025/2026
DESCRIPTION:Decorrem entre 19 e 30 de maio as reinscrições para a Escola Municipal de Música de Santiago do Cacém\, para o ano letivo 2025/2026\, para as crianças e jovens entre os 4 e os 18 anos. \nAs reinscrições serão efetuadas via online através do  seguinte e-mail: escola@cm-santiagocacem.pt . \n É necessário a ficha de reinscrição preenchida e assinada e uma fotografia tipo passe. \n A Ficha de reinscrição Escola Municipal de Música – ano letivo 2025-2026 \nPara mais informações pode contactar a Divisão de Cultura e Desporto através do 269 829 416 (rede fixa nacional) ou a Escola Municipal de Música de Santiago do Cacém através do 269 822 211 (rede fixa nacional) ou através do 962 561 179 (rede móvel nacional). \nOferta pedagógica: \n\nAteliês Temáticos / História da Música\nClasses de Conjunto\nExpressão Musical\nFormação Musical\nGuitarra Clássica\nPrática de Teclado\nSopros\n\n Reinscrições Escola Municipal de Música – ano letivo 2025/2026
URL:https://www.cm-santiagocacem.pt/evento/reinscricoes-escola-municipal-de-musica-ano-letivo-2025-2026/
LOCATION:Escola Municipal de Música
CATEGORIES:AR|Infantil,AR|Música,educação,Infantil,juventude,Música
ATTACH;FMTTYPE=image/jpeg:https://www.cm-santiagocacem.pt/wp-content/uploads/Reinscricao-EMM_2025-2026.jpg
END:VEVENT
BEGIN:VEVENT
DTSTART;VALUE=DATE:20250519
DTEND;VALUE=DATE:20250524
DTSTAMP:20260421T094212
CREATED:20250516T092603Z
LAST-MODIFIED:20250516T092710Z
UID:68537-1747612800-1748044799@www.cm-santiagocacem.pt
SUMMARY:Presidência nas Freguesias 2025 – Santo André
DESCRIPTION:No sentido de contactar com a população de Santo André e de se inteirar das suas preocupações\, o Sr. Presidente da Câmara Municipal\, acompanhado dos Srs. Vereadores com pelouros e de técnicos das respetivas áreas\, irá visitar a freguesia de Santo André\, nos dias 19\, 20\, 22 e 23 de maio de 2025. \n Programa – Presidência nas Freguesias 2025 – Santo André \n Atendimento – Presidência nas Freguesias 2025 – Santo André \n \nNo âmbito da visita da Presidência à Freguesia de Santo André\, o Presidente da Câmara Municipal e os Vereadores com pelouros estarão presentes no Gabinete Municipal de Santo André\, em Vila Nova de Santo André\, no dia 23 de maio (sexta-feira)\, entre as 09h30 e as 11h30\, para realizar atendimento ao público. \nCaso seja do seu interesse\, deverá proceder à marcação do atendimento até às 16h30 do dia 21 de maio\, através dos telefones:\n• 269 829 401 (Gabinete de Apoio à Presidência)\n• 269 829 402 (Gabinete de Apoio à Vereação)\n• 269 708 390 (Junta de Freguesia de Santo André)\nOu através do e-mail GAP@cm-santiagocacem.pt\nOu\, ainda\, presencialmente nas instalações dos locais acima mencionados.
URL:https://www.cm-santiagocacem.pt/evento/presidencia-nas-freguesias-2025-santo-andre/
CATEGORIES:desenvolvimento económico,freguesias
ATTACH;FMTTYPE=image/jpeg:https://www.cm-santiagocacem.pt/wp-content/uploads/Programa-–-Presidencia-nas-Freguesias-2025-–-Santo-Andre.jpg
END:VEVENT
BEGIN:VEVENT
DTSTART;VALUE=DATE:20250522
DTEND;VALUE=DATE:20250524
DTSTAMP:20260421T094212
CREATED:20250515T075815Z
LAST-MODIFIED:20250515T075815Z
UID:68508-1747872000-1748044799@www.cm-santiagocacem.pt
SUMMARY:Inscrições Férias Jovens 2025
DESCRIPTION:As inscrições para as Férias Jovens 2025 vão decorrer entre as 8h00 do dia 22 de maio e as 23h59 do dia 23 de maio\, através de um formulário criado e disponibilizado para o efeito em https://form.jotform.com/251332786989373 e\, no site do município de Santiago do Cacém\, em: https://www.cm-santiagocacem.pt/. \nSe tens entre 7 e 14 anos inscreve-te nas Férias Jovens 2025 que decorrem de 30 de junho a 11 de julho (1.ª quinzena) e de 14 a 24 de julho (2.ª quinzena). \nO município de Santiago do Cacém volta a promover o Programa Férias Jovens em Santiago\, em colaboração com as Juntas de Freguesia. \nOs participantes poderão praticar atividades aquáticas\, visitas às Ruínas Romanas de Miróbriga\, oficinas lúdicas\, assistir a sessões de cinema e desfrutar de dias de praia e visitas a parques temáticos. \n Antes de efetuar a inscrição do/a seu/sua educando/a deverá ler as Normas de Participação do Projeto Férias Jovens 2025 \nApós preenchimento do formulário de inscrição e submissão do mesmo\, receberá um e-mail de validação por cada inscrição efetuada. \nCaso não receba o referido e-mail\, deverá proceder a nova submissão da inscrição. \n A inscrição no Projeto Férias Jovens 2025 só é válida mediante submissão do respetivo formulário devidamente preenchido e acompanhado de Certidão de domicílio fiscal em nome do participante\, datado até três meses antes da data de inscrição. \n Normas de Participação do Projeto Férias Jovens 2025
URL:https://www.cm-santiagocacem.pt/evento/inscricoes-ferias-jovens-2025/
LOCATION:Município de Santiago do Cacém
CATEGORIES:AR|Desporto,desporto,juventude
ATTACH;FMTTYPE=image/png:https://www.cm-santiagocacem.pt/wp-content/uploads/Ferias-Jovens-2025.png
GEO:37.9380587;-8.6994583
END:VEVENT
END:VCALENDAR