BEGIN:VCALENDAR
VERSION:2.0
PRODID:-//Câmara Municipal de Santiago do Cacém - ECPv6.15.18//NONSGML v1.0//EN
CALSCALE:GREGORIAN
METHOD:PUBLISH
X-ORIGINAL-URL:https://www.cm-santiagocacem.pt
X-WR-CALDESC:Eventos para Câmara Municipal de Santiago do Cacém
REFRESH-INTERVAL;VALUE=DURATION:PT1H
X-Robots-Tag:noindex
X-PUBLISHED-TTL:PT1H
BEGIN:VTIMEZONE
TZID:Europe/Lisbon
BEGIN:DAYLIGHT
TZOFFSETFROM:+0000
TZOFFSETTO:+0100
TZNAME:WEST
DTSTART:20230326T010000
END:DAYLIGHT
BEGIN:STANDARD
TZOFFSETFROM:+0100
TZOFFSETTO:+0000
TZNAME:WET
DTSTART:20231029T010000
END:STANDARD
BEGIN:DAYLIGHT
TZOFFSETFROM:+0000
TZOFFSETTO:+0100
TZNAME:WEST
DTSTART:20240331T010000
END:DAYLIGHT
BEGIN:STANDARD
TZOFFSETFROM:+0100
TZOFFSETTO:+0000
TZNAME:WET
DTSTART:20241027T010000
END:STANDARD
BEGIN:DAYLIGHT
TZOFFSETFROM:+0000
TZOFFSETTO:+0100
TZNAME:WEST
DTSTART:20250330T010000
END:DAYLIGHT
BEGIN:STANDARD
TZOFFSETFROM:+0100
TZOFFSETTO:+0000
TZNAME:WET
DTSTART:20251026T010000
END:STANDARD
END:VTIMEZONE
BEGIN:VEVENT
DTSTART;VALUE=DATE:20240401
DTEND;VALUE=DATE:20240501
DTSTAMP:20260421T044341
CREATED:20240328T121359Z
LAST-MODIFIED:20240402T144144Z
UID:61167-1711929600-1714521599@www.cm-santiagocacem.pt
SUMMARY:Santiago do Cacém – Município em Agenda – abril de 2024
DESCRIPTION:Liberdade\, Democracia\, Igualdade – três direitos conquistados há meio século no nosso país. Vamos celebrar os 50 anos da revolução dos cravos! \nAs diferentes iniciativas que decorrem no nosso Município durante este mês foram preparadas para dignificarmos Abril. A noite de 24 de abril\, em Santiago do Cacém\, começa com o espetáculo de rua “Vozes ao Alto!”\, que conta com a participação da comunidade local e de associações do nosso Município para retratar alguns acontecimentos de resistência e luta daquela época por melhores condições de vida. Segue-se o concerto com a banda ímpar do rock & roll em português – Xutos & Pontapés\, que fazem a festa no Parque de Feiras e Exposições de Santiago do Cacém nesta noite memorável que irá continuar com muita animação. \n‘Santiago do Cacém – Município em Agenda’ compõe-se também de diversas iniciativas que não estão inseridas no programa das comemorações dos 50 anos do 25 de Abril. Venha fazer parte delas connosco! \nTemos um mês completo de dinamismo cultural que só é possível com a conquista do 25 de Abril. \nJuntos seguimos em frente e vamos fazer com que este momento seja digno da memória de todos. Lá estaremos! \nViva o 25 de Abril! \n Santiago do Cacém – Município em Agenda – abril de 2024
URL:https://www.cm-santiagocacem.pt/evento/santiago-do-cacem-municipio-em-agenda-abril-de-2024/
LOCATION:Município de Santiago do Cacém
CATEGORIES:AR|25 de Abril,AR|Desporto,AR|Exposições,AR|Festas/Feiras/Romarias,AR|Festivais,AR|Infantil,AR|Literatura,AR|Música,AR|Teatro,Bibliotecas,comemorações,concertos,cultura,desporto,educação,exposições,leitura,Música
ATTACH;FMTTYPE=image/jpeg:https://www.cm-santiagocacem.pt/wp-content/uploads/Santiago-do-Cacem-–-Municipio-em-Agenda-–-abril-de-2024_CAPA.jpg
GEO:37.9380587;-8.6994583
END:VEVENT
END:VCALENDAR