BEGIN:VCALENDAR
VERSION:2.0
PRODID:-//Câmara Municipal de Santiago do Cacém - ECPv6.15.18//NONSGML v1.0//EN
CALSCALE:GREGORIAN
METHOD:PUBLISH
X-WR-CALNAME:Câmara Municipal de Santiago do Cacém
X-ORIGINAL-URL:https://www.cm-santiagocacem.pt
X-WR-CALDESC:Eventos para Câmara Municipal de Santiago do Cacém
REFRESH-INTERVAL;VALUE=DURATION:PT1H
X-Robots-Tag:noindex
X-PUBLISHED-TTL:PT1H
BEGIN:VTIMEZONE
TZID:Europe/Lisbon
BEGIN:DAYLIGHT
TZOFFSETFROM:+0000
TZOFFSETTO:+0100
TZNAME:WEST
DTSTART:20230326T010000
END:DAYLIGHT
BEGIN:STANDARD
TZOFFSETFROM:+0100
TZOFFSETTO:+0000
TZNAME:WET
DTSTART:20231029T010000
END:STANDARD
BEGIN:DAYLIGHT
TZOFFSETFROM:+0000
TZOFFSETTO:+0100
TZNAME:WEST
DTSTART:20240331T010000
END:DAYLIGHT
BEGIN:STANDARD
TZOFFSETFROM:+0100
TZOFFSETTO:+0000
TZNAME:WET
DTSTART:20241027T010000
END:STANDARD
BEGIN:DAYLIGHT
TZOFFSETFROM:+0000
TZOFFSETTO:+0100
TZNAME:WEST
DTSTART:20250330T010000
END:DAYLIGHT
BEGIN:STANDARD
TZOFFSETFROM:+0100
TZOFFSETTO:+0000
TZNAME:WET
DTSTART:20251026T010000
END:STANDARD
END:VTIMEZONE
BEGIN:VEVENT
DTSTART;VALUE=DATE:20240401
DTEND;VALUE=DATE:20240501
DTSTAMP:20260421T014202
CREATED:20240328T121359Z
LAST-MODIFIED:20240402T144144Z
UID:61167-1711929600-1714521599@www.cm-santiagocacem.pt
SUMMARY:Santiago do Cacém – Município em Agenda – abril de 2024
DESCRIPTION:Liberdade\, Democracia\, Igualdade – três direitos conquistados há meio século no nosso país. Vamos celebrar os 50 anos da revolução dos cravos! \nAs diferentes iniciativas que decorrem no nosso Município durante este mês foram preparadas para dignificarmos Abril. A noite de 24 de abril\, em Santiago do Cacém\, começa com o espetáculo de rua “Vozes ao Alto!”\, que conta com a participação da comunidade local e de associações do nosso Município para retratar alguns acontecimentos de resistência e luta daquela época por melhores condições de vida. Segue-se o concerto com a banda ímpar do rock & roll em português – Xutos & Pontapés\, que fazem a festa no Parque de Feiras e Exposições de Santiago do Cacém nesta noite memorável que irá continuar com muita animação. \n‘Santiago do Cacém – Município em Agenda’ compõe-se também de diversas iniciativas que não estão inseridas no programa das comemorações dos 50 anos do 25 de Abril. Venha fazer parte delas connosco! \nTemos um mês completo de dinamismo cultural que só é possível com a conquista do 25 de Abril. \nJuntos seguimos em frente e vamos fazer com que este momento seja digno da memória de todos. Lá estaremos! \nViva o 25 de Abril! \n Santiago do Cacém – Município em Agenda – abril de 2024
URL:https://www.cm-santiagocacem.pt/evento/santiago-do-cacem-municipio-em-agenda-abril-de-2024/
LOCATION:Município de Santiago do Cacém
CATEGORIES:AR|25 de Abril,AR|Desporto,AR|Exposições,AR|Festas/Feiras/Romarias,AR|Festivais,AR|Infantil,AR|Literatura,AR|Música,AR|Teatro,Bibliotecas,comemorações,concertos,cultura,desporto,educação,exposições,leitura,Música
ATTACH;FMTTYPE=image/jpeg:https://www.cm-santiagocacem.pt/wp-content/uploads/Santiago-do-Cacem-–-Municipio-em-Agenda-–-abril-de-2024_CAPA.jpg
GEO:37.9380587;-8.6994583
END:VEVENT
BEGIN:VEVENT
DTSTART;VALUE=DATE:20240501
DTEND;VALUE=DATE:20240601
DTSTAMP:20260421T014202
CREATED:20240503T085409Z
LAST-MODIFIED:20240503T111954Z
UID:61900-1714521600-1717199999@www.cm-santiagocacem.pt
SUMMARY:Santiago do Cacém – Município em Agenda – maio de 2024
DESCRIPTION:Depois de celebrarmos o mês da Liberdade\, maio prossegue a comemoração desta conquista com a festa do Primeiro de Maio\, uma data comemorada no nosso país há 50 anos. \n‘Santiago do Cacém – Município em Agenda’ continua a reunir um conjunto de iniciativas\, umas no âmbito das comemorações dos 50 anos do 25 de Abril\, outras já programadas habitualmente\, como é exemplo a SANTIAGRO – Feira Agropecuária e do Cavalo\, que realiza a sua 36.ª edição. Este evento que é uma referência\, não só no nosso Município\, mas também na região\, devido ao seu potencial turístico\, económico\, agropecuário e cultural junta milhares de visitantes oriundos de vários pontos do país. Neste mês de maio em que se assinala o Dia dos Museus (18 de maio) convido-o(a) a conhecer os equipamentos museológicos do Município\, para os quais temos ao seu dispor a Rota dos Museus. A cultura divide-se em vários temas\, entre os quais\, a literatura\, as exposições\, o teatro\, a música e muito mais. \nO desporto volta a estar em destaque nesta edição de ‘Santiago do Cacém – Município em Agenda’\, desta vez com a realização da 24.ª edição da mediática prova de BTT\, que liga Alvalade ao Porto Covo\, com paisagens de grande beleza e trilhos para descobrir. O Trilho do Infinito é também um evento desportivo de referência no nosso Concelho. São diversas as iniciativas desta programação  e que têm tanto para dar conhecer. \nAceita o convite para fazer parte delas? \n Santiago do Cacém – Município em Agenda_maio de 2024
URL:https://www.cm-santiagocacem.pt/evento/santiago-do-cacem-municipio-em-agenda-maio-de-2024/
LOCATION:Município de Santiago do Cacém
CATEGORIES:AR|Artes e Ofícios,AR|Dança,AR|Desporto,AR|Exposições,AR|Festas/Feiras/Romarias,AR|Festivais,AR|Infantil,AR|Literatura,AR|Música,AR|Teatro,Bibliotecas,comemorações,concertos,cultura,Dança,desporto,exposições,Festas,Inauguração,Infantil,juventude,leitura,Música
ATTACH;FMTTYPE=image/png:https://www.cm-santiagocacem.pt/wp-content/uploads/Santiago-do-Cacem-–-Municipio-em-Agenda-–-maio-de-2024_CAPA.png
GEO:37.9380587;-8.6994583
END:VEVENT
BEGIN:VEVENT
DTSTART;TZID=Europe/Lisbon:20240502T100000
DTEND;TZID=Europe/Lisbon:20240529T113000
DTSTAMP:20260421T014202
CREATED:20240306T123124Z
LAST-MODIFIED:20240506T074410Z
UID:60763-1714644000-1716982200@www.cm-santiagocacem.pt
SUMMARY:Ateliês Escolares - A maleta pedagógica vai à escola
DESCRIPTION:De 2 a 29 de maio realizam-se nas Escolas Básicas do Município ateliês escolares. A maleta pedagógica do Museu de Arqueologia de Alvalade vai às escolas e mostra instrumentos e tem histórias para contar da Era do Neolítico. \nA iniciativa tem como destinatários os alunos do 1º. ciclo do ensino básico.
URL:https://www.cm-santiagocacem.pt/evento/atelies-escolares-a-maleta-pedagogica-vai-a-escola/
LOCATION:Escolas Básicas do Município
CATEGORIES:AR|Artes e Ofícios,AR|Infantil,cultura,educação,Infantil
ATTACH;FMTTYPE=image/jpeg:https://www.cm-santiagocacem.pt/wp-content/uploads/202303-04_ATELIE_MALETA_PEDAGOGICA_EB1_N3_SANTO_ANDRE_pag-10.jpeg
END:VEVENT
BEGIN:VEVENT
DTSTART;TZID=Europe/Lisbon:20240504T160000
DTEND;TZID=Europe/Lisbon:20240504T183000
DTSTAMP:20260421T014202
CREATED:20240419T120110Z
LAST-MODIFIED:20240419T121528Z
UID:61585-1714838400-1714847400@www.cm-santiagocacem.pt
SUMMARY:Workshop Flores de Mãe - Oficina de Pintura de T-Shirts
DESCRIPTION:Realiza-se no dia 4 de maio\, pelas 16h00\, na Biblioteca Municipal Manuel José “do Tojal”\, em Vila Nova de Santo André\, o workshop Flores de Mãe – Oficina de Pintura de T-Shirts dinamizado por Madalena Palminha. \n“Na véspera do Dia da Mãe\, mães e filhos terão a oportunidade de aprender a técnica de pintura de t-shirts com a direção de Madalena Palminha. Vamos passar uma tarde muito especial\, desfrutar de uma oficina artística e criar peças em família\, numa atividade que ficará na memória.” \n Destinatários: 12 crianças acompanhadas por um adulto\n Mediante inscrição prévia: smba@cm-santiagocacem.pt ou nos balcões de atendimento das bibliotecas municipais \n Workshop Flores de Mãe – Oficina de Pintura de T-Shirts
URL:https://www.cm-santiagocacem.pt/evento/workshop-flores-de-mae-oficina-de-pintura-de-t-shirts/
LOCATION:Biblioteca Municipal Manuel José “do Tojal”\, Empreendimento Brasil\, Edifício Copacabana\, Bloco A e B\, Vila Nova de Santo André\, 7500-170\, Portugal
CATEGORIES:AR|Artes e Ofícios,AR|Infantil,Bibliotecas,Infantil,oficinas,workshop
ATTACH;FMTTYPE=image/jpeg:https://www.cm-santiagocacem.pt/wp-content/uploads/Workshop-Flores-de-Mae-Oficina-de-Pintura-de-T-Shirts-scaled.jpg
GEO:38.060881;-8.786755
X-APPLE-STRUCTURED-LOCATION;VALUE=URI;X-ADDRESS=Biblioteca Municipal Manuel José “do Tojal” Empreendimento Brasil Edifício Copacabana Bloco A e B Vila Nova de Santo André 7500-170 Portugal;X-APPLE-RADIUS=500;X-TITLE=Empreendimento Brasil\, Edifício Copacabana\, Bloco A e B:geo:-8.786755,38.060881
END:VEVENT
END:VCALENDAR