BEGIN:VCALENDAR
VERSION:2.0
PRODID:-//Câmara Municipal de Santiago do Cacém - ECPv6.15.18//NONSGML v1.0//EN
CALSCALE:GREGORIAN
METHOD:PUBLISH
X-ORIGINAL-URL:https://www.cm-santiagocacem.pt
X-WR-CALDESC:Eventos para Câmara Municipal de Santiago do Cacém
REFRESH-INTERVAL;VALUE=DURATION:PT1H
X-Robots-Tag:noindex
X-PUBLISHED-TTL:PT1H
BEGIN:VTIMEZONE
TZID:Europe/Lisbon
BEGIN:DAYLIGHT
TZOFFSETFROM:+0000
TZOFFSETTO:+0100
TZNAME:WEST
DTSTART:20240331T010000
END:DAYLIGHT
BEGIN:STANDARD
TZOFFSETFROM:+0100
TZOFFSETTO:+0000
TZNAME:WET
DTSTART:20241027T010000
END:STANDARD
BEGIN:DAYLIGHT
TZOFFSETFROM:+0000
TZOFFSETTO:+0100
TZNAME:WEST
DTSTART:20250330T010000
END:DAYLIGHT
BEGIN:STANDARD
TZOFFSETFROM:+0100
TZOFFSETTO:+0000
TZNAME:WET
DTSTART:20251026T010000
END:STANDARD
BEGIN:DAYLIGHT
TZOFFSETFROM:+0000
TZOFFSETTO:+0100
TZNAME:WEST
DTSTART:20260329T010000
END:DAYLIGHT
BEGIN:STANDARD
TZOFFSETFROM:+0100
TZOFFSETTO:+0000
TZNAME:WET
DTSTART:20261025T010000
END:STANDARD
END:VTIMEZONE
BEGIN:VEVENT
DTSTART;VALUE=DATE:20250101
DTEND;VALUE=DATE:20250201
DTSTAMP:20260419T152713
CREATED:20241227T122235Z
LAST-MODIFIED:20241227T122235Z
UID:66003-1735689600-1738367999@www.cm-santiagocacem.pt
SUMMARY:Santiago do Cacém – Município em Agenda – janeiro de 2025
DESCRIPTION:Início de um novo ano\, entramos em 2025 e prosseguimos com novas iniciativas ou novas edições de outras que têm sido relevantes nas várias áreas de atuação da Câmara Municipal\, bem como de atividades promovidas pelo movimento associativo. \nA cultura\, o desporto e o convívio desempenham papéis cruciais no desenvolvimento da sociedade. Estes elementos complementam-se e com eles temos trabalhado para promover um Município mais dinâmico\, mais coeso\, onde cada um de nós pode contribuir para o bem comum. \nÉ com esta convicção que preparamos mensalmente iniciativas a pensar em si e na sua família. \nNeste mês destacamos o Festival da Enguia\, que nos chega no final deste mês de janeiro e contabiliza uma década a promover uma iguaria única da Lagoa de Santo André. \nJuntam-se outros temas\, ‘Santiago do Cacém – Município em Agenda’ apresenta nas páginas seguintes sugestões de exposições\, desporto\, música\, literatura e contos. \nLeve o “Município em Agenda” consigo\, escolha o que mais lhe desperta o interesse e dê a conhecer as nossas atividades. \n  \n Santiago do Cacém – Município em Agenda – janeiro de 2025
URL:https://www.cm-santiagocacem.pt/evento/santiago-do-cacem-municipio-em-agenda-janeiro-de-2025/
LOCATION:Município de Santiago do Cacém
CATEGORIES:AR|Desporto,AR|Exposições,AR|Festivais,AR|Literatura,AR|Música,comemorações,concertos,desenvolvimento económico,desporto,exposições,gastronomia,Música
ATTACH;FMTTYPE=image/jpeg:https://www.cm-santiagocacem.pt/wp-content/uploads/Santiago-do-Cacem-Municipio-em-Agenda-janeiro-de-2025.jpg
GEO:37.9380587;-8.6994583
END:VEVENT
BEGIN:VEVENT
DTSTART;TZID=Europe/Lisbon:20250117T213000
DTEND;TZID=Europe/Lisbon:20250117T213000
DTSTAMP:20260419T152713
CREATED:20241226T122309Z
LAST-MODIFIED:20241226T124334Z
UID:65964-1737149400-1737149400@www.cm-santiagocacem.pt
SUMMARY:Litá Folk Band - música tradicional ucraniana nas Cextas de Cultura
DESCRIPTION:As Cextas de Cultura trazem\, no dia 17 de janeiro\, às 21h30\, ao Auditório Mário Primo\, na Escola Secundária Padre António Macedo\, em Vila Nova de Santo André\, Litá Folk Band – música tradicional ucraniana. \nO grupo de música tradicional ucraniana Litá transmite\, através das suas vozes\, a sabedoria dos seus antepassados. Com uma vibração poderosa\, conseguem conectar-nos às nossas origens. Surgiram no início da guerra em grande escala na Ucrânia e estabeleceram-se em Lisboa\, Portugal. Uniram-se para popularizar as canções tradicionais\, a música\, a dança e a arte dos instrumentos ucranianos. \nApresentam canções e danças de várias regiões da Ucrânia\, com destaque para a polifonia e os elementos rituais. Os Litá acreditam que a música tradicional tem\num lugar no mundo contemporâneo. \nMembros:\nIvanna Korzh – voz\, sopilka\, violino\nSofia Tsyvinska – voz\, sopilka\, violoncelo\nDanylo Klyutsko – voz\, kobza\, bandura\, pandeiro\nMargarita Kulichova – voz\, violoncelo \nBilhetes: 5\,00 € Sócios Quadricultura | 8\,00 € Público em geral\nLocais de venda:\nVila Nova de Santo André: Biblioteca Municipal Manuel José “do Tojal”\nSantiago do Cacém: Auditório Municipal António Chainho \nOrganização: Quadricultura Associação\nApoio: Câmara Municipal de Santiago do Cacém \n Litá Folk Band – música tradicional ucraniana nas Cextas de Cultura
URL:https://www.cm-santiagocacem.pt/evento/lita-folk-band-musica-tradicional-ucraniana-nas-cextas-de-cultura/
LOCATION:Auditório Mário Primo (ESPAM)\, Largo da Escola\, Vila Nova de Santo André\, 7500-160\, Portugal
CATEGORIES:AR|Música,Música
ATTACH;FMTTYPE=image/jpeg:https://www.cm-santiagocacem.pt/wp-content/uploads/Litafolkband_cextas-de-cultura-janeiro-de-2025.jpg
GEO:38.061519;-8.779878
X-APPLE-STRUCTURED-LOCATION;VALUE=URI;X-ADDRESS=Auditório Mário Primo (ESPAM) Largo da Escola Vila Nova de Santo André 7500-160 Portugal;X-APPLE-RADIUS=500;X-TITLE=Largo da Escola:geo:-8.779878,38.061519
END:VEVENT
END:VCALENDAR