BEGIN:VCALENDAR
VERSION:2.0
PRODID:-//Câmara Municipal de Santiago do Cacém - ECPv6.15.18//NONSGML v1.0//EN
CALSCALE:GREGORIAN
METHOD:PUBLISH
X-WR-CALNAME:Câmara Municipal de Santiago do Cacém
X-ORIGINAL-URL:https://www.cm-santiagocacem.pt
X-WR-CALDESC:Eventos para Câmara Municipal de Santiago do Cacém
REFRESH-INTERVAL;VALUE=DURATION:PT1H
X-Robots-Tag:noindex
X-PUBLISHED-TTL:PT1H
BEGIN:VTIMEZONE
TZID:Europe/Lisbon
BEGIN:DAYLIGHT
TZOFFSETFROM:+0000
TZOFFSETTO:+0100
TZNAME:WEST
DTSTART:20240331T010000
END:DAYLIGHT
BEGIN:STANDARD
TZOFFSETFROM:+0100
TZOFFSETTO:+0000
TZNAME:WET
DTSTART:20241027T010000
END:STANDARD
BEGIN:DAYLIGHT
TZOFFSETFROM:+0000
TZOFFSETTO:+0100
TZNAME:WEST
DTSTART:20250330T010000
END:DAYLIGHT
BEGIN:STANDARD
TZOFFSETFROM:+0100
TZOFFSETTO:+0000
TZNAME:WET
DTSTART:20251026T010000
END:STANDARD
BEGIN:DAYLIGHT
TZOFFSETFROM:+0000
TZOFFSETTO:+0100
TZNAME:WEST
DTSTART:20260329T010000
END:DAYLIGHT
BEGIN:STANDARD
TZOFFSETFROM:+0100
TZOFFSETTO:+0000
TZNAME:WET
DTSTART:20261025T010000
END:STANDARD
END:VTIMEZONE
BEGIN:VEVENT
DTSTART;TZID=Europe/Lisbon:20250612T213000
DTEND;TZID=Europe/Lisbon:20250613T230000
DTSTAMP:20260423T181754
CREATED:20250527T135300Z
LAST-MODIFIED:20250527T135300Z
UID:68705-1749763800-1749855600@www.cm-santiagocacem.pt
SUMMARY:EmCena apresenta A Pérola - Companhia da Esquina
DESCRIPTION:O projeto EmCena apresenta a peça “A Pérola” pela Companhia da Esquina\, de John Steinbeck com encenação de Jorge Gomes Ribeiro\, nos dias 12 e 13 de junho\, às 21h30\, no Auditório Municipal António Chainho\, em Santiago do Cacém\, e no Auditório Mário Primo\, na Escola Secundária Padre António Macedo\, em Vila Nova de Santo André\, respetivamente.\n‘‘A Pérola’’ constitui uma parábola poética sobre as grandezas e misérias do mundo. Um mundo contraditório\, objectivado nas ambiguidades entre pobreza e riqueza\, poder e despojamento\, humano e mais-do-que-humano. \nDuração: 100 min. | M12 \nBilhetes: 5\,00 público em geral – 3\,00€ menores de 21 anos\, maiores de 65 anos – gratuito para sócios da AJAGATO\nLocais de Venda:\n– Vila Nova de Santo André: CAPAG – 269 751 296 (rede fixa nacional)\n– Santiago do Cacém: Auditório Municipal António Chainho – 269 750 410 (rede fixa nacional) – Reservas também através do CAPAG \nOrganização: AJAGATO – Associação Juvenil Amigos do Gato\nParceria: Câmara Municipal de Santiago do Cacém e Câmara Municipal de Sines \n EmCena 2025 – A Pérola \nSinopse: A partir da obra homónima de Steinbeck\, narrativa com origem num conto tradicional mexicano\, conhecemos aquilo a que chamam a “pérola do mundo” e a sua interferência na vida de uma família de pescadores em busca de uma vida melhor. Paradoxalmente\, a descoberta desta pérola altera a ordem que sempre conheceram\, catalisando reacções numa comunidade marcada pela desigualdade social extremada em que as possibilidades de luta de classes são reduzidas e\naproveitadas. Vemos assim a tentativa de manutenção do fino equilíbrio entre uma vida simples\, em harmonia com a terra\, mas de frágil subsistência. Por contraste\, assistimos também à vontade de acesso a bens materiais que permitam à sua prole alcançar o conhecimento e o poder de não ser subjugado. \nFicha Artística e Técnica:\nELENCO Ana Lúcia Palminha\, Carla Chambel\, Paula Neves\, Pedro Martinho\, Pedro Pernas\, Rita Fernandes\, Rui Luís Brás e Tiago Costa | ENCENAÇÃO E DRAMATURGIA Jorge Gomes Ribeiro | VÍDEO Nuno Barroca | DESENHO DE LUZ José Carlos Pontes | SONOPLASTIA Adriano Filipe | APOIO AO MOVIMENTO Joana Furtado | APOIO À DRAMATURGIA Sofia Santana | CENOGRAFIA Marta Fernandes da Silva e Jorge Gomes Ribeiro |FIGURINOS Rita Fernandes e\nJorge Gomes Ribeiro | MESTRA DE GUARDAROUPA Atelier Alda Cabrita | DESIGN GRÁFICO João Afonso | SITE Magaworks – Margarida Fernandes | COMUNICAÇÃO Rita Fernandes | PRODUÇÃO Manuela Morais | ASSISTENTE DE PRODUÇÃO Beatriz Nabais \nJohn Steinbeck:\nNasceu em Salinas\, na Califórnia\, em 1902\, numa família de parcos haveres. Chegou a frequentar a Universidade de Stanford\, sem concluir nenhuma licenciatura. Alcançou o seu primeiro êxito em 1935\, com O Milagre de São Francisco\, confirmado depois\, em 1937\, com a novela Ratos e Homens. A sua ficção está marcada por uma imensa preocupação com os problemas dos trabalhadores rurais e também por um grande fascínio para com a terra. Em 1939\, publicaria aquela que\, por muitos\, é considerada a sua obra-prima\, As Vinhas da Ira. Recebeu o Prémio Nobel da Literatura em 1962. Faleceu em Nova Iorque\, a 20 de dezembro de 1968.
URL:https://www.cm-santiagocacem.pt/evento/emcena-apresenta-a-perola-companhia-da-esquina/
LOCATION:Auditório Municipal António Chainho e Auditório Mário Primo na Escola Secundária Padre António Macedo
CATEGORIES:AR|Teatro,cultura,teatro
ATTACH;FMTTYPE=image/png:https://www.cm-santiagocacem.pt/wp-content/uploads/emcena_junho_2025_cartaz.png
END:VEVENT
BEGIN:VEVENT
DTSTART;TZID=Europe/Lisbon:20250614T173000
DTEND;TZID=Europe/Lisbon:20250614T173000
DTSTAMP:20260423T181754
CREATED:20250611T105239Z
LAST-MODIFIED:20250611T105732Z
UID:68961-1749922200-1749922200@www.cm-santiagocacem.pt
SUMMARY:"E se as árvores falassem?" - Inauguração das Obras de Valorização do Jardim Municipal de Santiago do Cacém e Espaço Envolvente
DESCRIPTION:Realiza-se no dia 14 de junho\, pelas 17h30\, o espetáculo “E se as árvores falassem?”\, no âmbito da inauguração das Obras de Valorização do Jardim Municipal de Santiago do Cacém e Espaço Envolvente. \nO Jardim Municipal de Santiago do Cacém celebra este ano o seu 110.º aniversário. \nAs personalidades históricas que o construíram em 1915\, acordam deslumbradas com a sua requalificação. Descem do seu sono secular e envolvem o público numa viagem sensorial pela história do lugar que\, durante mais de um século\, foi o ponto de encontro para várias gerações que ali se cruzaram para desfrutar os seus momentos de lazer\, criando vida no interior da cidade. Do cante\, ao fado e outras surpresas\, o público será embalado numa viagem no tempo. \nParticipações: Fanfarra dos Bombeiros Mistos de Santiago do Cacém\, Coral Harmonia Juvenil\, “Puro Cante”\, Grupo Coral “Bafos de Baco”\, Fernando Vicente\, Carlos Silva\, Joana Luz e Ricardo Martins\, grupo de alunos da AMSA (Academia de Música de Santo André) e grupo de acrobatas do Chapitô.
URL:https://www.cm-santiagocacem.pt/evento/o-espetaculo-e-se-as-arvores-falassem-no-ambito-da-inauguracao-das-obras-de-valorizacao-do-jardim-municipal-de-santiago-do-cacem-e-espaco-envolvente/
LOCATION:Jardim Municipal de Santiago do Cacém
CATEGORIES:AR|Festas/Feiras/Romarias,AR|Música,AR|Teatro,história,Inauguração,Música,teatro
ATTACH;FMTTYPE=image/jpeg:https://www.cm-santiagocacem.pt/wp-content/uploads/cartaz_inauguracao-obras-de-valorizacao-jardimMunicipal--scaled.jpg
GEO:38.0167943;-8.6946722,17
END:VEVENT
BEGIN:VEVENT
DTSTART;TZID=Europe/Lisbon:20250628T213000
DTEND;TZID=Europe/Lisbon:20250628T233000
DTSTAMP:20260423T181754
CREATED:20250618T084253Z
LAST-MODIFIED:20250618T084253Z
UID:69105-1751146200-1751153400@www.cm-santiagocacem.pt
SUMMARY:TRÊS\, A CONTA QUE DEUS FEZ – Teatro de Revista
DESCRIPTION:No dia 28 de junho\, pelas 21h30\, sobe ao palco do Cine Teatro Vitória – Artur de Sousa Pinto\, em Ermidas-Sado\, o espetáculo de teatro de revista “TRÊS\, A CONTA QUE DEUS FEZ”. Um espetáculo musical e revisteiro com António Calvário\, Maria Tavares\, Natalina José e Fátima Severino apresentado pela Sonhos em Cena. \nBilhetes: Entrada gratuita mediante levantamento prévio de bilhete no Auditório Municipal António Chainho ou na Junta de Freguesia de Ermidas-Sado \nTRÊS\, A CONTA QUE DEUS FEZ é um espetáculo de humor e de música inspirado no teatro de revista\, mas estruturado de uma forma original. Este espetáculo tem como base a crítica social e política; o humor mordaz e elegante; o “dedo na ferida” em assuntos essenciais da sociedade e os trocadilhos inteligentes que são marcas dominantes nas rábulas originais protagonizadas pelas veteranas Natalina José e Maria Tavares.\nPor sua vez\, António Calvário\, o eterno rei da rádio\, abrilhanta o espetáculo com as suas canções mais populares; com temas com novos arranjos musicais\, mas também com outros que surpreendem pela novidade e ousadia.\nA acompanhar estes três artistas está a atriz Fátima Severino que\, fazendo uso da sua graça\, do seu talento e da sua boa disposição\, é a participação especial do espetáculo.\nJá imaginou uma noiva e uma viúva a conversar com Santo António? Um miniconcerto da cantora Rosinha? Duas misses com 80 anos? Tudo isto e muito mais…\nPrepare-se para uma hora e quarenta de muito talento\, ou não estivéssemos na presença de grandes nomes da cultura portuguesa – ainda no ativo\, cheios de vitalidade e a precisarem muito de “respeirar o palco” e de sentirem os aplausos do público. \n TRÊS\, A CONTA QUE DEUS FEZ – Teatro de Revista
URL:https://www.cm-santiagocacem.pt/evento/tres-a-conta-que-deus-fez-teatro-de-revista/
LOCATION:Cine Teatro Vitória – Artur de Sousa Pinto (Ermidas-Sado)
CATEGORIES:AR|Teatro,cultura,teatro
ATTACH;FMTTYPE=image/png:https://www.cm-santiagocacem.pt/wp-content/uploads/Cartaz_3-A-conta-que-Deus-fez.png
GEO:38.0067997;-8.4198869
END:VEVENT
END:VCALENDAR