BEGIN:VCALENDAR
VERSION:2.0
PRODID:-//Câmara Municipal de Santiago do Cacém - ECPv6.15.18//NONSGML v1.0//EN
CALSCALE:GREGORIAN
METHOD:PUBLISH
X-WR-CALNAME:Câmara Municipal de Santiago do Cacém
X-ORIGINAL-URL:https://www.cm-santiagocacem.pt
X-WR-CALDESC:Eventos para Câmara Municipal de Santiago do Cacém
REFRESH-INTERVAL;VALUE=DURATION:PT1H
X-Robots-Tag:noindex
X-PUBLISHED-TTL:PT1H
BEGIN:VTIMEZONE
TZID:Europe/Lisbon
BEGIN:DAYLIGHT
TZOFFSETFROM:+0000
TZOFFSETTO:+0100
TZNAME:WEST
DTSTART:20240331T010000
END:DAYLIGHT
BEGIN:STANDARD
TZOFFSETFROM:+0100
TZOFFSETTO:+0000
TZNAME:WET
DTSTART:20241027T010000
END:STANDARD
BEGIN:DAYLIGHT
TZOFFSETFROM:+0000
TZOFFSETTO:+0100
TZNAME:WEST
DTSTART:20250330T010000
END:DAYLIGHT
BEGIN:STANDARD
TZOFFSETFROM:+0100
TZOFFSETTO:+0000
TZNAME:WET
DTSTART:20251026T010000
END:STANDARD
BEGIN:DAYLIGHT
TZOFFSETFROM:+0000
TZOFFSETTO:+0100
TZNAME:WEST
DTSTART:20260329T010000
END:DAYLIGHT
BEGIN:STANDARD
TZOFFSETFROM:+0100
TZOFFSETTO:+0000
TZNAME:WET
DTSTART:20261025T010000
END:STANDARD
END:VTIMEZONE
BEGIN:VEVENT
DTSTART;VALUE=DATE:20250701
DTEND;VALUE=DATE:20250801
DTSTAMP:20260423T165229
CREATED:20250630T155749Z
LAST-MODIFIED:20250701T105953Z
UID:69362-1751328000-1754006399@www.cm-santiagocacem.pt
SUMMARY:Santiago do Cacém – Município em Agenda – julho de 2025
DESCRIPTION:O verão é uma época especial do ano\, cheia de energia\, cores e possibilidades de diversão. O Município promove mensalmente atividades culturais pensadas para quem aqui vive e para quem nos visita\, como festivais\, concertos ao ar livre\, exposições\, teatro\, dança e oficinas criativas. \nA cor e a animação vivem-se na cidade de Santiago do Cacém\, em mais uma edição do Santiago Style Weekend\, e em Vila Nova de Santo André\, na 11.ª edição do Festival das Cores. Duas iniciativas que proporcionam momentos de lazer e entretenimento\, mas também fortalecem o sentimento de comunidade\, promovem a diversidade cultural e estimulam a criatividade de todos. \nNo âmbito do Dia do Município\, este ano\, realiza-se a Cerimónia de Entrega de Medalhas de Honra e Medalhas de Mérito do Município\, que presta homenagem a diversas personalidades e entidades dignas de reconhecimento público pela sua intervenção nas mais variadas áreas. \nMuitas outras atividades vão acontecer à medida que o mês avança\, e estão nas próximas páginas do seu ‘Santiago do Cacém – Município em Agenda’. Fica o convite para que venha assistir a cada uma delas. \n Santiago do Cacém – Município em Agenda – julho de 2025
URL:https://www.cm-santiagocacem.pt/evento/santiago-do-cacem-municipio-em-agenda-julho-de-2025/
LOCATION:Município de Santiago do Cacém
CATEGORIES:AR|Artes e Ofícios,AR|Dança,AR|Desporto,AR|Exposições,AR|Festas/Feiras/Romarias,AR|Festivais,AR|Literatura,AR|Música,AR|Teatro,Bibliotecas,concertos,Dança,desporto,exposições,feiras,Festas,Magia,Moda,Música,teatro
ATTACH;FMTTYPE=image/jpeg:https://www.cm-santiagocacem.pt/wp-content/uploads/CAPA_Agenda-Cultural_julho2025_.jpg
GEO:37.9380587;-8.6994583
END:VEVENT
BEGIN:VEVENT
DTSTART;TZID=Europe/Lisbon:20250709T213000
DTEND;TZID=Europe/Lisbon:20250712T213000
DTSTAMP:20260423T165229
CREATED:20250627T144327Z
LAST-MODIFIED:20250627T161641Z
UID:69277-1752096600-1752355800@www.cm-santiagocacem.pt
SUMMARY:EmCena apresenta "Aguenta Princesa que o Mar está Bravo" - pela Companhia GATO SA - ESTREIA
DESCRIPTION:O projeto EmCena apresenta a estreia da peça “Aguenta Princesa que o Mar está Bravo”\, pela Companhia GATO SA\, a partir de Dom Quixote de Miguel Cervantes\, com encenação de Ricardo Moura\, nos dias 9\, 10 e 12 de junho\, às 21h30\, no Auditório Mário Primo\, na Escola Secundária Padre António Macedo\, em Vila Nova de Santo André\, e no Auditório Municipal António Chainho\, em Santiago do Cacém\, respetivamente. \nÉ um projeto pensado num dia de vento. Uma tempestade em forma de espetáculo. Interpretação livre e criativa\, que se propõe olhar\, indiretamente e sob vários ângulos\, “Dom Quixote”\, obra-prima e intemporal de Miguel Cervantes. \nDuração: 60 min. | M12 \nBilhetes: 5\,00 público em geral – 3\,00€ menores de 21 anos\, maiores de 65 anos – gratuito para sócios da AJAGATO\nLocais de Venda:\n– Vila Nova de Santo André: CAPAG – 269 751 296 (rede fixa nacional)\n– Santiago do Cacém: Auditório Municipal António Chainho – 269 750 410 (rede fixa nacional) – Reservas também através do CAPAG \nOrganização: AJAGATO – Associação Juvenil Amigos do Gato\nParceria: Câmara Municipal de Santiago do Cacém e Câmara Municipal de Sines \n EmCena – “Aguenta Princesa que o Mar está Bravo” – pela Companhia GATO SA \nSinopse: “Neste diálogo contemporâneo\, com as questões universais que moviam Dom Quixote de la Mancha\, pouco ou nada sobrou. O guião voou para parte incerta…\npara um lugar entre o real e o imaginário. Cervantes merecia melhor. E o melhor que conseguimos foi dar corpo e voz a um Quixote só no teatro de todas as operações.\nUm homem que\, acompanhado da sua sombra\, se pergunta: Por onde anda o amor? Onde está a honra? O que é feito da palavra? Já não há memória\, fidelidade\, dignidade…onde estamos nós neste campo inóspito e deserto\, onde já nem os moinhos nos incentivam a combater?\nSonho meu\, sonho meu\, vai buscar quem mora longe sonho meu e traz-me de volta à utopia. No dia em que os moinhos voltarem a girar\, acordem-me\, por favor.” – Luís Hipólito (inteligência natural) \nFicha Artística e Técnica:\nCRIAÇÃO E ENCENAÇÃO Ricardo Moura | INTERPRETAÇÃO Raul Oliveira |APOIO DRAMATÚRGICO/ TEXTO Luís Hipólito |AMBIENTE SONORO Francisco Moura\n|DESENHO DE LUZ/OPERAÇÃO Catarina Côdea |CENOGRAFIA Natália Terlecka |PRODUÇÃO AJAGATO |FOTOGRAFIA João Freire |DESIGN GRÁFICO Ana Cristina\nMartins \nRicardo Moura\nRicardo Moura\, um dos elementos pioneiros do GATO SA\, em que integrou vários espectáculos e encenou “Playground”\, onde era por demais evidente a herança estética e de criação do GATO SA. Fundador da companhia D’AS ENTRANHAS\, criou e encenou espectáculos singulares pela imaginação irreverência e dinâmica em palco\, muitos dos quais apresentados entre nós sempre com muito êxito.\nRicardo Moura regressa às origens para um trabalho com o ator Raul Oliveira\, desafiando-o\, desafiando-se e desafiando-nos para mais esta criação\, a 41.ª da história do GATO SA – Teatro de Santo André. \n 
URL:https://www.cm-santiagocacem.pt/evento/emcena-apresenta-a-estreia-de-aguenta-princesa-que-o-mar-esta-bravo-pela-companhia-gato-sa/
LOCATION:Auditório da Escola Secundária Padre António Macedo e Auditório Municipal António Chainho
CATEGORIES:AR|Teatro,teatro
ATTACH;FMTTYPE=image/png:https://www.cm-santiagocacem.pt/wp-content/uploads/emcena_julho_2025_cartaz.png
END:VEVENT
END:VCALENDAR