BEGIN:VCALENDAR
VERSION:2.0
PRODID:-//Câmara Municipal de Santiago do Cacém - ECPv6.15.18//NONSGML v1.0//EN
CALSCALE:GREGORIAN
METHOD:PUBLISH
X-ORIGINAL-URL:https://www.cm-santiagocacem.pt
X-WR-CALDESC:Eventos para Câmara Municipal de Santiago do Cacém
REFRESH-INTERVAL;VALUE=DURATION:PT1H
X-Robots-Tag:noindex
X-PUBLISHED-TTL:PT1H
BEGIN:VTIMEZONE
TZID:Europe/Lisbon
BEGIN:DAYLIGHT
TZOFFSETFROM:+0000
TZOFFSETTO:+0100
TZNAME:WEST
DTSTART:20240331T010000
END:DAYLIGHT
BEGIN:STANDARD
TZOFFSETFROM:+0100
TZOFFSETTO:+0000
TZNAME:WET
DTSTART:20241027T010000
END:STANDARD
BEGIN:DAYLIGHT
TZOFFSETFROM:+0000
TZOFFSETTO:+0100
TZNAME:WEST
DTSTART:20250330T010000
END:DAYLIGHT
BEGIN:STANDARD
TZOFFSETFROM:+0100
TZOFFSETTO:+0000
TZNAME:WET
DTSTART:20251026T010000
END:STANDARD
BEGIN:DAYLIGHT
TZOFFSETFROM:+0000
TZOFFSETTO:+0100
TZNAME:WEST
DTSTART:20260329T010000
END:DAYLIGHT
BEGIN:STANDARD
TZOFFSETFROM:+0100
TZOFFSETTO:+0000
TZNAME:WET
DTSTART:20261025T010000
END:STANDARD
END:VTIMEZONE
BEGIN:VEVENT
DTSTART;VALUE=DATE:20250524
DTEND;VALUE=DATE:20250831
DTSTAMP:20260419T170553
CREATED:20250514T094358Z
LAST-MODIFIED:20250808T141945Z
UID:68497-1748044800-1756598399@www.cm-santiagocacem.pt
SUMMARY:Exposição de fotografia e instalação audiovisual "VIVER O FUTURO - A Cooperativa Agrícola Estrela Vermelha"
DESCRIPTION:Está patente de 24 de maio a 30 de agosto\, no Museu Municipal de Santiago do Cacém\, a exposição de fotografia e instalação audiovisual “VIVER O FUTURO – A Cooperativa Agrícola Estrela Vermelha”\, de Alex Jordan. \nA revolução dos cravos vermelhos\, as gigantescas manifestações de alegria nas ruas\, as avenidas de Lisboa que a televisão alemã do Oeste mostrava\, eletrizavam-nos. (…) A intenção era estar presente no primeiro aniversário da queda da ditadura fascista. Gernot Huber \, estudante de fotografia queria «cobrir» o 25 de Abril como tema para a sua tese. Eu tinha alguns pedidos da imprensa de esquerda e uma câmara super 8 no meu bolso… (para fazer reportagens…). Em 1980\, voltei à cooperativa.A recepção foi sempre calorosa e fiz retratos dos trabalhadores presentes. Em 2023 regressei com os meus amigos\,Tawan Arun (Operador de camara )e Octavio (Produção) para a realização duma série de entrevistas filmadas”.  Alex Jordan \n Horário: Terça a sexta-feira: 10h00 – 12h00 | 14h00 – 16h30 – Sábado: 12h00 – 18h00\nEncerra às segundas-feiras\, domingos e feriados
URL:https://www.cm-santiagocacem.pt/evento/exposicao-de-fotografia-e-instalacao-audiovisual-viver-o-futuro-a-cooperativa-agricola-estrela-vermelha/
LOCATION:Museu Municipal de Santiago do Cacém\, Portugal
CATEGORIES:AR|Exposições,cultura,exposições,Fotografia
ATTACH;FMTTYPE=image/png:https://www.cm-santiagocacem.pt/wp-content/uploads/cartaz_exposicao-viver-o-futuro.png
GEO:38.0164199;-8.6919527
END:VEVENT
BEGIN:VEVENT
DTSTART;VALUE=DATE:20250701
DTEND;VALUE=DATE:20250830
DTSTAMP:20260419T170553
CREATED:20250605T094810Z
LAST-MODIFIED:20250605T094810Z
UID:68899-1751328000-1756511999@www.cm-santiagocacem.pt
SUMMARY:Exposição "Onde começa a Mudança?"
DESCRIPTION:Está patente de 1 de julho a 29 de agosto\, na Biblioteca Municipal Manuel José “do Tojal”\, em Vila Nova de Santo André\, a exposição “Onde começa a Mudança?”. \nUma exposição de trabalhos de artes plásticas realizadas pelos alunos do projeto “Escola em Férias” da Escola Básica N.º 1 de Santo André. \nNum mundo onde a inovação é constante\, o caminho para a verdadeira mudança ainda é longo. Através da arte\, estes jovens questionam toda a comunidade: Onde começa a mudança? \n Exposição “Onde começa a Mudança?”
URL:https://www.cm-santiagocacem.pt/evento/exposicao-onde-comeca-a-mudanca/
LOCATION:Biblioteca Municipal Manuel José “do Tojal”\, Empreendimento Brasil\, Edifício Copacabana\, Bloco A e B\, Vila Nova de Santo André\, 7500-170\, Portugal
CATEGORIES:AR|Exposições,Bibliotecas,cultura,exposições
ATTACH;FMTTYPE=image/jpeg:https://www.cm-santiagocacem.pt/wp-content/uploads/Exposicao-Onde-comeca-a-Mudanca.jpg
GEO:38.060881;-8.786755
X-APPLE-STRUCTURED-LOCATION;VALUE=URI;X-ADDRESS=Biblioteca Municipal Manuel José “do Tojal” Empreendimento Brasil Edifício Copacabana Bloco A e B Vila Nova de Santo André 7500-170 Portugal;X-APPLE-RADIUS=500;X-TITLE=Empreendimento Brasil\, Edifício Copacabana\, Bloco A e B:geo:-8.786755,38.060881
END:VEVENT
BEGIN:VEVENT
DTSTART;VALUE=DATE:20250702
DTEND;VALUE=DATE:20250830
DTSTAMP:20260419T170553
CREATED:20250626T171511Z
LAST-MODIFIED:20250626T171511Z
UID:69257-1751414400-1756511999@www.cm-santiagocacem.pt
SUMMARY:Exposição Sweet Stone Passeios à Beira-mar
DESCRIPTION:Está patente de 2 de julho a 29 de agosto\, na Biblioteca Municipal Manuel José “do Tojal”\, em Vila Nova de Santo André\, a exposição de artes plásticas “Sweet Stone Passeios à Beira-mar” de Duartina B.. \nHistórias contadas através da arte minimalista\, criadas a partir de pequenas pedras\, conchas\, penas e gravetos\, trazidos pelas ondas do mar. \n 
URL:https://www.cm-santiagocacem.pt/evento/exposicao-sweet-stone-passeios-a-beira-mar/
LOCATION:Biblioteca Municipal Manuel José “do Tojal”\, Empreendimento Brasil\, Edifício Copacabana\, Bloco A e B\, Vila Nova de Santo André\, 7500-170\, Portugal
CATEGORIES:AR|Exposições,Bibliotecas,cultura,exposições
ATTACH;FMTTYPE=image/jpeg:https://www.cm-santiagocacem.pt/wp-content/uploads/Cartaz_Exposicao-Sweet-Stone.jpg
GEO:38.060881;-8.786755
X-APPLE-STRUCTURED-LOCATION;VALUE=URI;X-ADDRESS=Biblioteca Municipal Manuel José “do Tojal” Empreendimento Brasil Edifício Copacabana Bloco A e B Vila Nova de Santo André 7500-170 Portugal;X-APPLE-RADIUS=500;X-TITLE=Empreendimento Brasil\, Edifício Copacabana\, Bloco A e B:geo:-8.786755,38.060881
END:VEVENT
BEGIN:VEVENT
DTSTART;VALUE=DATE:20250704
DTEND;VALUE=DATE:20250706
DTSTAMP:20260419T170553
CREATED:20250618T151750Z
LAST-MODIFIED:20250702T102857Z
UID:69133-1751587200-1751759999@www.cm-santiagocacem.pt
SUMMARY:Santiago Style Weekend 2025
DESCRIPTION:Santiago Style Weekend (SSW) regressa\, nos dias 4 e 5 de julho\, e as noites de Santiago do Cacém voltam a ser vividas de maneira diferente\, com um evento que traz vida às ruas da cidade. \nAs lojas aderentes vão voltar a ter horários alargados\, celebra-se a moda. Há degustações\, promoções\, música e muita animação. Venha viver estas noites com alegria… \nO SSW é uma aposta da Autarquia para a dinamização do comércio local. \nA iniciativa tem organização da Câmara Municipal de Santiago do Cacém e Associação do Comércio Indústria e Serviços de Turismo do Distrito de Setúbal\, com o apoio da Junta de Freguesia da União das Freguesias de Santiago do Cacém\, Santa Cruz e São Bartolomeu da Serra. \nConsulte Programa SSW \n    \n 
URL:https://www.cm-santiagocacem.pt/evento/santiago-style-weekend-2025/
LOCATION:Santiago do Cacém
CATEGORIES:AR|Dança,AR|Festas/Feiras/Romarias,AR|Música,cultura,Dança,desenvolvimento económico,Festas,gastronomia,Moda,Música
ATTACH;FMTTYPE=image/png:https://www.cm-santiagocacem.pt/wp-content/uploads/Cartaz-SSW-2025.png
GEO:38.016521;-8.692972
END:VEVENT
BEGIN:VEVENT
DTSTART;TZID=Europe/Lisbon:20250705T170000
DTEND;TZID=Europe/Lisbon:20250706T190000
DTSTAMP:20260419T170553
CREATED:20250626T131857Z
LAST-MODIFIED:20250626T131857Z
UID:69221-1751734800-1751828400@www.cm-santiagocacem.pt
SUMMARY:Somos Todos o Mundo - espetáculo de dança da escola d'A Dançarita
DESCRIPTION:Realiza-se nos dias 5 e 6 de julho\, pelas 17h00\, um espetáculo de dança com os alunos da Escola de Dança – A Dançarita\, no Auditório Municipal António Chainho\, em Santiago do Cacém. \nNestes dois dias os alunos d’A Dançarita apresentam ao público o que aprenderam durante o ano letivo 2024/25 e como desenvolveram a sua expressividade\, emoção e criatividade através da dança.\nO tema da apresentação é: “Somos Todos o Mundo – Por trás das nossas diferenças\, Somos todos humanos”. \nNuma sociedade mundial cada vez mais fragmentada\, observando e aceitando as nossas diferenças\, percebemos que debaixo dos acessórios e das diferentes culturas\, estão as nossas semelhanças. Somos todos humanos. Somos todos o Mundo. \n Bilhetes: 5 € público em geral | 2\,50 € jovens dos 12 aos 18 anos e sócios da Associação A Dançarita | entrada gratuita para menores de 12 anos \nDestinatários: Público em geral \nOrganização: A Dançarita- Associação Artística e Cultural\nApoio: Câmara Municipal de Santiago do Cacém \n Espetáculo Dançarita_Somos todos o mundo
URL:https://www.cm-santiagocacem.pt/evento/somos-todos-o-mundo-espetaculo-de-danca-da-escola-da-dancarita/
LOCATION:Auditório Municipal António Chainho
CATEGORIES:AR|Dança,cultura,Dança
ATTACH;FMTTYPE=image/jpeg:https://www.cm-santiagocacem.pt/wp-content/uploads/Espetaculo-Dancarita_Somos-todos-o-mundo.jpg
GEO:38.020338;-8.6939476
END:VEVENT
END:VCALENDAR