BEGIN:VCALENDAR
VERSION:2.0
PRODID:-//Câmara Municipal de Santiago do Cacém - ECPv6.15.18//NONSGML v1.0//EN
CALSCALE:GREGORIAN
METHOD:PUBLISH
X-WR-CALNAME:Câmara Municipal de Santiago do Cacém
X-ORIGINAL-URL:https://www.cm-santiagocacem.pt
X-WR-CALDESC:Eventos para Câmara Municipal de Santiago do Cacém
REFRESH-INTERVAL;VALUE=DURATION:PT1H
X-Robots-Tag:noindex
X-PUBLISHED-TTL:PT1H
BEGIN:VTIMEZONE
TZID:Europe/Lisbon
BEGIN:DAYLIGHT
TZOFFSETFROM:+0000
TZOFFSETTO:+0100
TZNAME:WEST
DTSTART:20240331T010000
END:DAYLIGHT
BEGIN:STANDARD
TZOFFSETFROM:+0100
TZOFFSETTO:+0000
TZNAME:WET
DTSTART:20241027T010000
END:STANDARD
BEGIN:DAYLIGHT
TZOFFSETFROM:+0000
TZOFFSETTO:+0100
TZNAME:WEST
DTSTART:20250330T010000
END:DAYLIGHT
BEGIN:STANDARD
TZOFFSETFROM:+0100
TZOFFSETTO:+0000
TZNAME:WET
DTSTART:20251026T010000
END:STANDARD
BEGIN:DAYLIGHT
TZOFFSETFROM:+0000
TZOFFSETTO:+0100
TZNAME:WEST
DTSTART:20260329T010000
END:DAYLIGHT
BEGIN:STANDARD
TZOFFSETFROM:+0100
TZOFFSETTO:+0000
TZNAME:WET
DTSTART:20261025T010000
END:STANDARD
END:VTIMEZONE
BEGIN:VEVENT
DTSTART;VALUE=DATE:20250901
DTEND;VALUE=DATE:20251001
DTSTAMP:20260421T222221
CREATED:20250829T095318Z
LAST-MODIFIED:20250919T135908Z
UID:70594-1756684800-1759276799@www.cm-santiagocacem.pt
SUMMARY:Santiago do Cacém – Município em Agenda – setembro de 2025
DESCRIPTION:Setembro traz a Santiago do Cacém um programa cultural repleto de tradição\, partilha e celebração da identidade local. \nA Feira do Monte\, de 5 a 7 de setembro\, volta a ser o grande destaque. Com origens no século XVI\, é uma das mais antigas do Alentejo Litoral e celebra as artes\, os saberes e os nossos sabores. \nMais tarde\, de 19 a 21 de setembro\, Alvalade Medieval convida a uma viagem no tempo com cortejos\, encenações\, música antiga e mercados tradicionais. \nEntre muitas outras atividades\, o teatro regressa com o projeto EmCena e a música ecoa com o concerto dos Vizinhos. Este mês assinalamos os 20 anos das Piscinas Municipais e da Biblioteca Municipal Manuel José ‘do Tojal’ com atividades para toda a família. \nConvidamos todos/as a viver a cultura no nosso território. \n Santiago do Cacém – Município em Agenda – setembro de 2025
URL:https://www.cm-santiagocacem.pt/evento/santiago-do-cacem-municipio-em-agenda-setembro-de-2025/
LOCATION:Alvalade
CATEGORIES:AR|Artes e Ofícios,AR|Exposições,AR|Festas/Feiras/Romarias,AR|Infantil,AR|Literatura,AR|Música,AR|Teatro,Bibliotecas,concertos,cultura,exposições,feiras,Infantil,leitura,Música,teatro
ATTACH;FMTTYPE=image/png:https://www.cm-santiagocacem.pt/wp-content/uploads/Santiago-do-Cacem-–-Municipio-em-Agenda-–-setembro-de-2025_CAPA.png
GEO:37.9403686;-8.3938334
END:VEVENT
BEGIN:VEVENT
DTSTART;VALUE=DATE:20250905
DTEND;VALUE=DATE:20250921
DTSTAMP:20260421T222221
CREATED:20250829T104054Z
LAST-MODIFIED:20250904T105820Z
UID:70597-1757030400-1758412799@www.cm-santiagocacem.pt
SUMMARY:Exposição de Pintura "Endre Bartos 1930-2006"
DESCRIPTION:Está patente de 5 a 20 de setembro\, no Museu Municipal de Santiago do Cacém\, a exposição de pintura “Endre Bartos 1930-2006”. \n Inauguração dia 5 de setembro às 16h30. \nEndre Bartos foi um artista húngaro de renome\, nascido em 1930 em Baja\, uma cidade no sul da Hungria. Bartos cresceu num ambiente que valorizava o conhecimento e a criatividade. Esse ambiente estimulante\, juntamente com a beleza cénica das margens do rio Danúbio\, influenciou profundamente a sua trajetória artística.\nA pintura de Endre Bartos pode não cativar à primeira vista. Mas as suas obras rapidamente envolvem os sentidos e despertam admiração à medida que o olhar aprofunda e evela o esplendor das suas cores. \n Terça a sexta-feira das 10h00 às 12h00 e das 14h00 às 16h30\nSábado das 12h00 às 18h00 \nVisite-nos!
URL:https://www.cm-santiagocacem.pt/evento/exposicao-de-pintura-endre-bartos-1930-2006/
LOCATION:Museu Municipal de Santiago do Cacém\, Portugal
CATEGORIES:AR|Exposições,cultura,exposições
ATTACH;FMTTYPE=image/png:https://www.cm-santiagocacem.pt/wp-content/uploads/Exposicao-Endres-Barto-Post-instagram1.png
GEO:38.0164199;-8.6919527
END:VEVENT
BEGIN:VEVENT
DTSTART;TZID=Europe/Lisbon:20250919T110000
DTEND;TZID=Europe/Lisbon:20250921T233000
DTSTAMP:20260421T222221
CREATED:20250814T173208Z
LAST-MODIFIED:20250919T140632Z
UID:70305-1758279600-1758497400@www.cm-santiagocacem.pt
SUMMARY:Alvalade Medieval
DESCRIPTION:O tema escolhido para este ano do Alvalade Medieval é “As Lavadeiras” \, que decorrerá entre os dias 19 e 21 de setembro\, em Alvalade. O tema homenageia uma profissão extinta\, que marcou a cultura local de uma época.\nUma viagem ao passado é a proposta que a iniciativa Alvalade Medieval faz a todos os que visitem a vila\, no concelho de Santiago do Cacém. A recriação histórica pretende assinalar os 515 anos da atribuição da Carta de Foral\, que aconteceu a 20 de setembro de 1510\, pela mão do Rei D. Manuel I.\n\nO  Alvalade Medieval teve início em 2002 e recria tradições\, hábitos e costumes conjugando cultura\, património e turismo. Durante três dias os alvaladenses trajam a rigor e recriam espontaneamente as vivências do burgo. Aos visitantes é proporcionada uma autêntica aula de história ao vivo e o contacto com mostras de produtos e artigos regionais. \n\n Programa_ Alvalade Medieval \nMais informações: https://alvalade-medieval.webnode.pt/ \n 
URL:https://www.cm-santiagocacem.pt/evento/alvalade-medieval-4/
LOCATION:Alvalade\, Santiago do Cacém\, Praça D. Manuel I\, Alvalade\, 7565-021\, Portugal
CATEGORIES:AR|Festas/Feiras/Romarias,cultura,feiras
ATTACH;FMTTYPE=image/jpeg:https://www.cm-santiagocacem.pt/wp-content/uploads/Redes_4x3.jpg
GEO:37.9404636;-8.393768,3
X-APPLE-STRUCTURED-LOCATION;VALUE=URI;X-ADDRESS=Alvalade Santiago do Cacém Praça D. Manuel I Alvalade 7565-021 Portugal;X-APPLE-RADIUS=500;X-TITLE=Praça D. Manuel I:geo:-8.393768,3,37.9404636
END:VEVENT
END:VCALENDAR