BEGIN:VCALENDAR
VERSION:2.0
PRODID:-//Câmara Municipal de Santiago do Cacém - ECPv6.15.18//NONSGML v1.0//EN
CALSCALE:GREGORIAN
METHOD:PUBLISH
X-WR-CALNAME:Câmara Municipal de Santiago do Cacém
X-ORIGINAL-URL:https://www.cm-santiagocacem.pt
X-WR-CALDESC:Eventos para Câmara Municipal de Santiago do Cacém
REFRESH-INTERVAL;VALUE=DURATION:PT1H
X-Robots-Tag:noindex
X-PUBLISHED-TTL:PT1H
BEGIN:VTIMEZONE
TZID:Europe/Lisbon
BEGIN:DAYLIGHT
TZOFFSETFROM:+0000
TZOFFSETTO:+0100
TZNAME:WEST
DTSTART:20240331T010000
END:DAYLIGHT
BEGIN:STANDARD
TZOFFSETFROM:+0100
TZOFFSETTO:+0000
TZNAME:WET
DTSTART:20241027T010000
END:STANDARD
BEGIN:DAYLIGHT
TZOFFSETFROM:+0000
TZOFFSETTO:+0100
TZNAME:WEST
DTSTART:20250330T010000
END:DAYLIGHT
BEGIN:STANDARD
TZOFFSETFROM:+0100
TZOFFSETTO:+0000
TZNAME:WET
DTSTART:20251026T010000
END:STANDARD
BEGIN:DAYLIGHT
TZOFFSETFROM:+0000
TZOFFSETTO:+0100
TZNAME:WEST
DTSTART:20260329T010000
END:DAYLIGHT
BEGIN:STANDARD
TZOFFSETFROM:+0100
TZOFFSETTO:+0000
TZNAME:WET
DTSTART:20261025T010000
END:STANDARD
BEGIN:DAYLIGHT
TZOFFSETFROM:+0000
TZOFFSETTO:+0100
TZNAME:WEST
DTSTART:20270328T010000
END:DAYLIGHT
BEGIN:STANDARD
TZOFFSETFROM:+0100
TZOFFSETTO:+0000
TZNAME:WET
DTSTART:20271031T010000
END:STANDARD
END:VTIMEZONE
BEGIN:VEVENT
DTSTART;VALUE=DATE:20251002
DTEND;VALUE=DATE:20260501
DTSTAMP:20260422T023728
CREATED:20250929T114853Z
LAST-MODIFIED:20260109T165628Z
UID:71136-1759363200-1777593599@www.cm-santiagocacem.pt
SUMMARY:Oficina de Prática Criativa Itinerante – Abela
DESCRIPTION:Começou no dia 2 de outubro e vai até final do mês de abril\, a edição 2025/2026 da Oficina de Prática Criativa Itinerante de pintura a aguarela e óleo com o pintor Charles Hejnal. Este ano realiza-se em Abela\, na sala da Junta de Freguesia\, entre as 18h00 e as 20h30\, às quintas-feiras. \n Inscrições para maiores de 14 anos com o número máximo de 10 participantes. \n Data limite das inscrições: 01 de outubro de 2025 na Sede da Junta de Freguesia de Abela \nPara qualquer dúvida ou esclarecimento contactar o Museu de Arqueologia de Alvalade através do n.º 964 642 062 ou 936 404 693. \n Oficina de Prática Criativa Itinerante
URL:https://www.cm-santiagocacem.pt/evento/oficina-de-pratica-criativa-itinerante-abela/
LOCATION:Abela\, Portugal
CATEGORIES:AR|Artes e Ofícios,cultura,oficinas
ATTACH;FMTTYPE=image/png:https://www.cm-santiagocacem.pt/wp-content/uploads/Oficina-de-Pratica-Criativa-Itinerante_redes-sociais.png
GEO:42.4630937;-71.1433806
END:VEVENT
BEGIN:VEVENT
DTSTART;VALUE=DATE:20251101
DTEND;VALUE=DATE:20251201
DTSTAMP:20260422T023728
CREATED:20251030T112640Z
LAST-MODIFIED:20251030T112640Z
UID:71910-1761955200-1764547199@www.cm-santiagocacem.pt
SUMMARY:Santiago do Cacém – Município em Agenda – novembro de 2025
DESCRIPTION:A programação cultural e desportiva deste mês de novembro convida à participação de todos/as\, com propostas dirigidas ao público de todas as idades. \nNo plano cultural\, destacam-se as iniciativas inseridas no “Outono Literário”\, que têm dado voz à palavra e à literatura. \nEste mês traz\, como habitualmente\, exposições\, música\, teatro e oficinas. \nNo desporto\, as atividades mantêm-se dinâmicas e inclusivas\, promovendo o bem-estar\, o convívio e hábitos de vida saudáveis. \nUma programação pensada para estimular o prazer do encontro. \nConvidamos todos/as a fazer parte desta agenda. Participar é viver Santiago do Cacém! \n Santiago do Cacém – Município em Agenda_novembro de 2025
URL:https://www.cm-santiagocacem.pt/evento/santiago-do-cacem-municipio-em-agenda-novembro-de-2025/
LOCATION:Município de Santiago do Cacém
CATEGORIES:AR|Desporto,AR|Exposições,AR|Festas/Feiras/Romarias,AR|Literatura,AR|Música,AR|Teatro,Bibliotecas,concertos,cultura,desporto,exposições,feiras,Música,oficinas,palestra,teatro
ATTACH;FMTTYPE=image/png:https://www.cm-santiagocacem.pt/wp-content/uploads/CAPA_AGENDA_NOVEMBRO_2025.png
GEO:37.9380587;-8.6994583
END:VEVENT
BEGIN:VEVENT
DTSTART;TZID=Europe/Lisbon:20251129T190000
DTEND;TZID=Europe/Lisbon:20251129T233000
DTSTAMP:20260422T023728
CREATED:20251111T164454Z
LAST-MODIFIED:20251113T124353Z
UID:72117-1764442800-1764459000@www.cm-santiagocacem.pt
SUMMARY:Jantar Literário "Vinho a Nós" com Bru Junça e Ana Lage
DESCRIPTION:Realiza-se no dia 29 de novembro\, às 19h00\, na Biblioteca Municipal Manuel da Fonseca\, em Santiago do Cacém\, o Jantar Literário e encerramento do ciclo Outono Literário “Vinho a Nós”\, com Bru Junça e Ana Lage. \n Destinatários: Público em geral / Comunidade imigrante \n Inscrições até às 15h00 do dia 28 de novembro\, através do 269 829 000 (rede fixa nacional) ou por e-mail: smba@cm-santiagocacem.pt ou nos balcões de atendimento das Bibliotecas Municipais. \nDesfrute de um Jantar Literário que celebra a multiculturalidade e a partilha. A noite combina a degustação de sabores e iguarias de diferentes povos\, promovendo a união de tradições gastronómicas. O evento inclui uma cativante Sessão de Contos que\, através da tradição oral\, coloca em destaque o vinho\, a vinha e todo o seu universo\, aprofundando o conhecimento deste produto tão ímpar à nossa mesa e unindo o saber\, o sabor e o convívio. \n Convida-se o público a trazer uma iguaria tradicional do seu país / região. \nA iniciativa “Outono Literário” decorre\, até final de novembro\, no município de Santiago do Cacém\, nas Bibliotecas Municipais e nos estabelecimentos de ensino\, com o objetivo de promover o livro e a leitura. \nA Câmara Municipal é a executora das ações\, e a Associação de Desenvolvimento do Litoral Alentejano (ADL) é a entidade local coordenadora da parceria. O CLDS 5G é cofinanciado pelo Programa Pessoas 2030\, Portugal 2030\, Fundo Social Europeu e República Portuguesa.
URL:https://www.cm-santiagocacem.pt/evento/jantar-literario-vinho-a-nos-com-bru-janca-e-ana-lage/
LOCATION:Biblioteca Municipal Manuel da Fonseca
CATEGORIES:AR|Literatura,Bibliotecas,cultura,leitura
ATTACH;FMTTYPE=image/png:https://www.cm-santiagocacem.pt/wp-content/uploads/outono_literario_Jantar-Literario_redes_sociais.png
GEO:38.0194123;-8.6947907
END:VEVENT
END:VCALENDAR