BEGIN:VCALENDAR
VERSION:2.0
PRODID:-//Câmara Municipal de Santiago do Cacém - ECPv6.15.18//NONSGML v1.0//EN
CALSCALE:GREGORIAN
METHOD:PUBLISH
X-ORIGINAL-URL:https://www.cm-santiagocacem.pt
X-WR-CALDESC:Eventos para Câmara Municipal de Santiago do Cacém
REFRESH-INTERVAL;VALUE=DURATION:PT1H
X-Robots-Tag:noindex
X-PUBLISHED-TTL:PT1H
BEGIN:VTIMEZONE
TZID:Europe/Paris
BEGIN:DAYLIGHT
TZOFFSETFROM:+0100
TZOFFSETTO:+0200
TZNAME:CEST
DTSTART:20170326T010000
END:DAYLIGHT
BEGIN:STANDARD
TZOFFSETFROM:+0200
TZOFFSETTO:+0100
TZNAME:CET
DTSTART:20171029T010000
END:STANDARD
BEGIN:DAYLIGHT
TZOFFSETFROM:+0100
TZOFFSETTO:+0200
TZNAME:CEST
DTSTART:20180325T010000
END:DAYLIGHT
BEGIN:STANDARD
TZOFFSETFROM:+0200
TZOFFSETTO:+0100
TZNAME:CET
DTSTART:20181028T010000
END:STANDARD
BEGIN:DAYLIGHT
TZOFFSETFROM:+0100
TZOFFSETTO:+0200
TZNAME:CEST
DTSTART:20190331T010000
END:DAYLIGHT
BEGIN:STANDARD
TZOFFSETFROM:+0200
TZOFFSETTO:+0100
TZNAME:CET
DTSTART:20191027T010000
END:STANDARD
END:VTIMEZONE
BEGIN:VEVENT
DTSTART;TZID=Europe/Paris:20180915T170000
DTEND;TZID=Europe/Paris:20180915T220000
DTSTAMP:20260423T061107
CREATED:20180907T174812Z
LAST-MODIFIED:20180907T174812Z
UID:21084-1537030800-1537048800@www.cm-santiagocacem.pt
SUMMARY:Pool Party - Festa da Espuma
DESCRIPTION:A Câmara Municipal\, no dia 15 de setembro\, promove na Piscina do Parque Urbano do Rio da Figueira a Pool Party\, para assinalar o encerramento das piscinas neste verão de 2018.\nMúsica\, animação e muita espuma à mistura!\nA festa decorrerá das 17h00 às 22h00 e conta com a participação dos seguintes DJ´S:\nDJ Red Deep\nDual Gravity\nDJ Zon\nDJ Bitz \nEntradas gratuitas\nNão é obrigatório o uso de touca
URL:https://www.cm-santiagocacem.pt/evento/pool-party-festa-da-espuma/
LOCATION:Piscina do Parque Urbano do Rio da Figueira
CATEGORIES:Festas
ATTACH;FMTTYPE=image/jpeg:https://www.cm-santiagocacem.pt/wp-content/uploads/Nova-imagem-23.jpg
GEO:38.0125242;-8.6974648,17
END:VEVENT
END:VCALENDAR