BEGIN:VCALENDAR
VERSION:2.0
PRODID:-//Câmara Municipal de Santiago do Cacém - ECPv6.15.18//NONSGML v1.0//EN
CALSCALE:GREGORIAN
METHOD:PUBLISH
X-WR-CALNAME:Câmara Municipal de Santiago do Cacém
X-ORIGINAL-URL:https://www.cm-santiagocacem.pt
X-WR-CALDESC:Eventos para Câmara Municipal de Santiago do Cacém
REFRESH-INTERVAL;VALUE=DURATION:PT1H
X-Robots-Tag:noindex
X-PUBLISHED-TTL:PT1H
BEGIN:VTIMEZONE
TZID:Europe/Paris
BEGIN:DAYLIGHT
TZOFFSETFROM:+0100
TZOFFSETTO:+0200
TZNAME:CEST
DTSTART:20170326T010000
END:DAYLIGHT
BEGIN:STANDARD
TZOFFSETFROM:+0200
TZOFFSETTO:+0100
TZNAME:CET
DTSTART:20171029T010000
END:STANDARD
BEGIN:DAYLIGHT
TZOFFSETFROM:+0100
TZOFFSETTO:+0200
TZNAME:CEST
DTSTART:20180325T010000
END:DAYLIGHT
BEGIN:STANDARD
TZOFFSETFROM:+0200
TZOFFSETTO:+0100
TZNAME:CET
DTSTART:20181028T010000
END:STANDARD
BEGIN:DAYLIGHT
TZOFFSETFROM:+0100
TZOFFSETTO:+0200
TZNAME:CEST
DTSTART:20190331T010000
END:DAYLIGHT
BEGIN:STANDARD
TZOFFSETFROM:+0200
TZOFFSETTO:+0100
TZNAME:CET
DTSTART:20191027T010000
END:STANDARD
BEGIN:DAYLIGHT
TZOFFSETFROM:+0100
TZOFFSETTO:+0200
TZNAME:CEST
DTSTART:20200329T010000
END:DAYLIGHT
BEGIN:STANDARD
TZOFFSETFROM:+0200
TZOFFSETTO:+0100
TZNAME:CET
DTSTART:20201025T010000
END:STANDARD
END:VTIMEZONE
BEGIN:VEVENT
DTSTART;TZID=Europe/Paris:20181209T080000
DTEND;TZID=Europe/Paris:20190106T180000
DTSTAMP:20260423T101604
CREATED:20181204T134539Z
LAST-MODIFIED:20181204T134539Z
UID:23044-1544342400-1546797600@www.cm-santiagocacem.pt
SUMMARY:A'Bella - uma família um presépio
DESCRIPTION:V edição de presépios de rua em Abela de 9 de dezembro de 2018 a 6 de janeiro de 2019\, onde não faltará animação e venda de produtos locais
URL:https://www.cm-santiagocacem.pt/evento/abella-uma-familia-um-presepio-2/
LOCATION:Abela\, Portugal
CATEGORIES:Festas
ATTACH;FMTTYPE=image/jpeg:https://www.cm-santiagocacem.pt/wp-content/uploads/Cartaz-Abela.jpg
GEO:39.399872;-8.224454
END:VEVENT
BEGIN:VEVENT
DTSTART;TZID=Europe/Paris:20181215T100000
DTEND;TZID=Europe/Paris:20181215T180000
DTSTAMP:20260423T101604
CREATED:20181206T132459Z
LAST-MODIFIED:20181206T132459Z
UID:23101-1544868000-1544896800@www.cm-santiagocacem.pt
SUMMARY:Mercado de Natal
DESCRIPTION:Dia 15 de dezembro\, no Lg. da República em Alvalade. Pai Natal\, música\, dança\, teatro\, insufláveis\, modelagem de balões\, doçaria\, artesanato\, pinturas faciais. Venha viver o espírito natalício!
URL:https://www.cm-santiagocacem.pt/evento/mercado-de-natal/
CATEGORIES:Festas
ATTACH;FMTTYPE=image/jpeg:https://www.cm-santiagocacem.pt/wp-content/uploads/Cartaz-Alvalade.jpg
END:VEVENT
END:VCALENDAR