BEGIN:VCALENDAR
VERSION:2.0
PRODID:-//Câmara Municipal de Santiago do Cacém - ECPv6.15.18//NONSGML v1.0//EN
CALSCALE:GREGORIAN
METHOD:PUBLISH
X-WR-CALNAME:Câmara Municipal de Santiago do Cacém
X-ORIGINAL-URL:https://www.cm-santiagocacem.pt
X-WR-CALDESC:Eventos para Câmara Municipal de Santiago do Cacém
REFRESH-INTERVAL;VALUE=DURATION:PT1H
X-Robots-Tag:noindex
X-PUBLISHED-TTL:PT1H
BEGIN:VTIMEZONE
TZID:Europe/Paris
BEGIN:DAYLIGHT
TZOFFSETFROM:+0100
TZOFFSETTO:+0200
TZNAME:CEST
DTSTART:20160327T010000
END:DAYLIGHT
BEGIN:STANDARD
TZOFFSETFROM:+0200
TZOFFSETTO:+0100
TZNAME:CET
DTSTART:20161030T010000
END:STANDARD
BEGIN:DAYLIGHT
TZOFFSETFROM:+0100
TZOFFSETTO:+0200
TZNAME:CEST
DTSTART:20170326T010000
END:DAYLIGHT
BEGIN:STANDARD
TZOFFSETFROM:+0200
TZOFFSETTO:+0100
TZNAME:CET
DTSTART:20171029T010000
END:STANDARD
BEGIN:DAYLIGHT
TZOFFSETFROM:+0100
TZOFFSETTO:+0200
TZNAME:CEST
DTSTART:20180325T010000
END:DAYLIGHT
BEGIN:STANDARD
TZOFFSETFROM:+0200
TZOFFSETTO:+0100
TZNAME:CET
DTSTART:20181028T010000
END:STANDARD
END:VTIMEZONE
BEGIN:VEVENT
DTSTART;TZID=Europe/Paris:20170810T190000
DTEND;TZID=Europe/Paris:20170815T000000
DTSTAMP:20260425T153344
CREATED:20170731T144201Z
LAST-MODIFIED:20170731T144729Z
UID:13391-1502391600-1502755200@www.cm-santiagocacem.pt
SUMMARY:Festas de Santa Maria em Ermidas-Sado
DESCRIPTION:De 10 a 15 de agosto\, visite a festa em flor de papel. Conheça as ruas floridas de Ermidas-Sado\, assista aos espetáculos musicais e culturais e surpreenda-se! Saiba mais em:  http://cofesmar.wixsite.com/cofesmar/festas-2017
URL:https://www.cm-santiagocacem.pt/evento/festas-de-santa-maria-em-ermidas-sado/
LOCATION:Ermidas-Sado\, Ermidas-sado\, Portugal
CATEGORIES:Festas
ATTACH;FMTTYPE=image/jpeg:https://www.cm-santiagocacem.pt/wp-content/uploads/Nova-imagem-1-10.jpg
GEO:38.0068597;-8.385532
END:VEVENT
BEGIN:VEVENT
DTSTART;VALUE=DATE:20170811
DTEND;VALUE=DATE:20170816
DTSTAMP:20260425T153344
CREATED:20170801T151452Z
LAST-MODIFIED:20170804T103747Z
UID:13405-1502409600-1502841599@www.cm-santiagocacem.pt
SUMMARY:Festa de São Romão
DESCRIPTION:De 11 a 15 de agosto a Costa de Santo André recebe as tradicionais festas com a recriação dos seculares dos banhos de São Romão\, exposições\, venda de fruta e de doçaria da região\, quermesse\, bailes\, música tradicional\, sketches com a recriação das festas de São Romão\, eleição da Miss e Mister Praia Costa de Santo André 2017 e muito mais…! \n Programa Festa de São Romao
URL:https://www.cm-santiagocacem.pt/evento/festa-de-sao-romao/
LOCATION:Praia da Costa de Santo André
CATEGORIES:Festas
ATTACH;FMTTYPE=image/jpeg:https://www.cm-santiagocacem.pt/wp-content/uploads/festa_de-sa-romao.jpg
END:VEVENT
BEGIN:VEVENT
DTSTART;VALUE=DATE:20170811
DTEND;VALUE=DATE:20170813
DTSTAMP:20260425T153344
CREATED:20170801T152706Z
LAST-MODIFIED:20170801T152706Z
UID:13409-1502409600-1502582399@www.cm-santiagocacem.pt
SUMMARY:Festas de Santa Cruz
DESCRIPTION:Dias 11 e 12 de agosto\, marque presença nestas tradicionais festas no Largo da Igreja de Santa Cruz.
URL:https://www.cm-santiagocacem.pt/evento/festas-de-santa-cruz/
CATEGORIES:Festas
ATTACH;FMTTYPE=image/jpeg:https://www.cm-santiagocacem.pt/wp-content/uploads/cartaz-festas-de-santa-cruz-2017_v_final.jpg
END:VEVENT
END:VCALENDAR