BEGIN:VCALENDAR
VERSION:2.0
PRODID:-//Câmara Municipal de Santiago do Cacém - ECPv6.15.18//NONSGML v1.0//EN
CALSCALE:GREGORIAN
METHOD:PUBLISH
X-WR-CALNAME:Câmara Municipal de Santiago do Cacém
X-ORIGINAL-URL:https://www.cm-santiagocacem.pt
X-WR-CALDESC:Eventos para Câmara Municipal de Santiago do Cacém
REFRESH-INTERVAL;VALUE=DURATION:PT1H
X-Robots-Tag:noindex
X-PUBLISHED-TTL:PT1H
BEGIN:VTIMEZONE
TZID:Europe/Paris
BEGIN:DAYLIGHT
TZOFFSETFROM:+0100
TZOFFSETTO:+0200
TZNAME:CEST
DTSTART:20170326T010000
END:DAYLIGHT
BEGIN:STANDARD
TZOFFSETFROM:+0200
TZOFFSETTO:+0100
TZNAME:CET
DTSTART:20171029T010000
END:STANDARD
BEGIN:DAYLIGHT
TZOFFSETFROM:+0100
TZOFFSETTO:+0200
TZNAME:CEST
DTSTART:20180325T010000
END:DAYLIGHT
BEGIN:STANDARD
TZOFFSETFROM:+0200
TZOFFSETTO:+0100
TZNAME:CET
DTSTART:20181028T010000
END:STANDARD
BEGIN:DAYLIGHT
TZOFFSETFROM:+0100
TZOFFSETTO:+0200
TZNAME:CEST
DTSTART:20190331T010000
END:DAYLIGHT
BEGIN:STANDARD
TZOFFSETFROM:+0200
TZOFFSETTO:+0100
TZNAME:CET
DTSTART:20191027T010000
END:STANDARD
END:VTIMEZONE
BEGIN:VEVENT
DTSTART;TZID=Europe/Paris:20180706T193000
DTEND;TZID=Europe/Paris:20180707T000000
DTSTAMP:20260423T013325
CREATED:20180622T140909Z
LAST-MODIFIED:20180718T155207Z
UID:19739-1530905400-1530921600@www.cm-santiagocacem.pt
SUMMARY:Festa de Verão
DESCRIPTION:A Festa de Verão 2018\, 6 e 7 de julho\, a Festa tem início às 19h30\,organizada pelo jornal ‘O Leme’ em conjunto com a Paróquia de Santa Maria\, conta com a participação de mais de 100 voluntários\, que asseguram a preparação e a concretização do evento\, desde a decoração\, aos ‘comes e bebes’ e à quermesse.\nA entrada é gratuita\, podendo quem quiser pagar um valor simbólico\, nesta festa solidária que vai alegrar o Adro da Igreja de Santa Maria\, a partir das 19h30 dos dias 6 e 7 de julho. \nA organização convida a população da região a participar na Festa de Verão 2018\, uma festa de todos para todos.
URL:https://www.cm-santiagocacem.pt/evento/festa-de-verao-3/
LOCATION:Adro da Igreja de Santa Maria\, Vila Nova de Santo André
CATEGORIES:Festas
ATTACH;FMTTYPE=image/jpeg:https://www.cm-santiagocacem.pt/wp-content/uploads/Festa-de-Verão-A3-14-e1749735449615.jpg
END:VEVENT
END:VCALENDAR