BEGIN:VCALENDAR
VERSION:2.0
PRODID:-//Câmara Municipal de Santiago do Cacém - ECPv6.15.18//NONSGML v1.0//EN
CALSCALE:GREGORIAN
METHOD:PUBLISH
X-ORIGINAL-URL:https://www.cm-santiagocacem.pt
X-WR-CALDESC:Eventos para Câmara Municipal de Santiago do Cacém
REFRESH-INTERVAL;VALUE=DURATION:PT1H
X-Robots-Tag:noindex
X-PUBLISHED-TTL:PT1H
BEGIN:VTIMEZONE
TZID:Europe/Paris
BEGIN:DAYLIGHT
TZOFFSETFROM:+0100
TZOFFSETTO:+0200
TZNAME:CEST
DTSTART:20160327T010000
END:DAYLIGHT
BEGIN:STANDARD
TZOFFSETFROM:+0200
TZOFFSETTO:+0100
TZNAME:CET
DTSTART:20161030T010000
END:STANDARD
BEGIN:DAYLIGHT
TZOFFSETFROM:+0100
TZOFFSETTO:+0200
TZNAME:CEST
DTSTART:20170326T010000
END:DAYLIGHT
BEGIN:STANDARD
TZOFFSETFROM:+0200
TZOFFSETTO:+0100
TZNAME:CET
DTSTART:20171029T010000
END:STANDARD
BEGIN:DAYLIGHT
TZOFFSETFROM:+0100
TZOFFSETTO:+0200
TZNAME:CEST
DTSTART:20180325T010000
END:DAYLIGHT
BEGIN:STANDARD
TZOFFSETFROM:+0200
TZOFFSETTO:+0100
TZNAME:CET
DTSTART:20181028T010000
END:STANDARD
END:VTIMEZONE
BEGIN:VEVENT
DTSTART;VALUE=DATE:20170630
DTEND;VALUE=DATE:20170701
DTSTAMP:20260421T214526
CREATED:20170627T143947Z
LAST-MODIFIED:20170627T143947Z
UID:12960-1498780800-1498867199@www.cm-santiagocacem.pt
SUMMARY:Marcha do Pré-Escolar em Alvalade
DESCRIPTION:Dia 30 de junho\, 21h30\, Ringue do Futebol Clube Alvaladense. Marcha do Pré-Escolar do Agrupamento de Escolas Arménio Lança\, Marcha Popular de Ermida-Sado e Baile com Tó Romão.
URL:https://www.cm-santiagocacem.pt/evento/marcha-do-pre-escolar-em-alvalade/
LOCATION:Alvalade
CATEGORIES:Festas
ATTACH;FMTTYPE=image/jpeg:https://www.cm-santiagocacem.pt/wp-content/uploads/CARTAZ-MARCHA-30-junho.jpg
GEO:37.9403686;-8.3938334
END:VEVENT
BEGIN:VEVENT
DTSTART;TZID=Europe/Paris:20170630T000000
DTEND;TZID=Europe/Paris:20170701T000000
DTSTAMP:20260421T214526
CREATED:20170626T135927Z
LAST-MODIFIED:20170626T135927Z
UID:12933-1498780800-1498867200@www.cm-santiagocacem.pt
SUMMARY:Festa de Verão
DESCRIPTION:Dias 30 de junho e 1 de julho\, a partir das 19h30\, no Adro da Igreja de Santa Maria em Vila Nova de Santo André. Arraial\, animação\, música\, comes e bebes.
URL:https://www.cm-santiagocacem.pt/evento/festa-de-verao/
CATEGORIES:Festas
ATTACH;FMTTYPE=image/jpeg:https://www.cm-santiagocacem.pt/wp-content/uploads/Festa-de-Verão-Santo-André.jpg
END:VEVENT
BEGIN:VEVENT
DTSTART;TZID=Europe/Paris:20170630T170000
DTEND;TZID=Europe/Paris:20170725T233000
DTSTAMP:20260421T214526
CREATED:20170630T103219Z
LAST-MODIFIED:20170713T113438Z
UID:12991-1498842000-1501025400@www.cm-santiagocacem.pt
SUMMARY:Tasquinhas - Mercado à Mesa 2017
DESCRIPTION:De 30 de Junho a 25 de Julho\, no Mercado Municipal de Santiago do Cacém. Promoção e divulgação de gastronomia\, artesanato\, serviços e cultura da região. \n Folheto Tasquinhas – Mercado à Mesa
URL:https://www.cm-santiagocacem.pt/evento/tasquinhas-mercado-a-mesa-2017/
CATEGORIES:desenvolvimento económico,Festas,Música
ATTACH;FMTTYPE=image/jpeg:https://www.cm-santiagocacem.pt/wp-content/uploads/tasquinhas-frente.jpg
END:VEVENT
END:VCALENDAR