BEGIN:VCALENDAR
VERSION:2.0
PRODID:-//Câmara Municipal de Santiago do Cacém - ECPv6.15.18//NONSGML v1.0//EN
CALSCALE:GREGORIAN
METHOD:PUBLISH
X-ORIGINAL-URL:https://www.cm-santiagocacem.pt
X-WR-CALDESC:Eventos para Câmara Municipal de Santiago do Cacém
REFRESH-INTERVAL;VALUE=DURATION:PT1H
X-Robots-Tag:noindex
X-PUBLISHED-TTL:PT1H
BEGIN:VTIMEZONE
TZID:Europe/Paris
BEGIN:DAYLIGHT
TZOFFSETFROM:+0100
TZOFFSETTO:+0200
TZNAME:CEST
DTSTART:20170326T010000
END:DAYLIGHT
BEGIN:STANDARD
TZOFFSETFROM:+0200
TZOFFSETTO:+0100
TZNAME:CET
DTSTART:20171029T010000
END:STANDARD
BEGIN:DAYLIGHT
TZOFFSETFROM:+0100
TZOFFSETTO:+0200
TZNAME:CEST
DTSTART:20180325T010000
END:DAYLIGHT
BEGIN:STANDARD
TZOFFSETFROM:+0200
TZOFFSETTO:+0100
TZNAME:CET
DTSTART:20181028T010000
END:STANDARD
BEGIN:DAYLIGHT
TZOFFSETFROM:+0100
TZOFFSETTO:+0200
TZNAME:CEST
DTSTART:20190331T010000
END:DAYLIGHT
BEGIN:STANDARD
TZOFFSETFROM:+0200
TZOFFSETTO:+0100
TZNAME:CET
DTSTART:20191027T010000
END:STANDARD
END:VTIMEZONE
BEGIN:VEVENT
DTSTART;VALUE=DATE:20180608
DTEND;VALUE=DATE:20180611
DTSTAMP:20260422T233240
CREATED:20180530T090129Z
LAST-MODIFIED:20180530T090129Z
UID:19339-1528416000-1528675199@www.cm-santiagocacem.pt
SUMMARY:9.º Encontro Motard
DESCRIPTION:De 8 a 10 de junho realiza-se nas Catifarras\, freguesia do Cercal do Alentejo\, o 9.º Encontro Motard\, organizado pelo Grupo Motard Rodar Lento.
URL:https://www.cm-santiagocacem.pt/evento/9-o-encontro-motard/
LOCATION:Catifarras
CATEGORIES:Festas
ATTACH;FMTTYPE=image/jpeg:https://www.cm-santiagocacem.pt/wp-content/uploads/Encontro-Motard.jpg
END:VEVENT
BEGIN:VEVENT
DTSTART;VALUE=DATE:20180608
DTEND;VALUE=DATE:20180610
DTSTAMP:20260422T233240
CREATED:20180605T131848Z
LAST-MODIFIED:20180605T161955Z
UID:19439-1528416000-1528588799@www.cm-santiagocacem.pt
SUMMARY:II Grease Festival - Nos Tempos da Brilhantina
DESCRIPTION:Nos dias 08 e 09 de junho decorre na zona histórica da cidade de Santiago do Cacém o II Grease Festival – Nos Tempos da Brilhantina e tem como objetivo recordar os anos 50 do século XX. A iniciativa conta com a organização da Associação Cultural de Santiago do Cacém e da Sociedade Harmonia\, com o apoio da Câmara Municipal de Santiago do Cacém. A entrada é gratuita. \nMais  informações sobre o evento aqui.
URL:https://www.cm-santiagocacem.pt/evento/19439/
LOCATION:Santiago do Cacém
CATEGORIES:Festas,Música
ATTACH;FMTTYPE=image/jpeg:https://www.cm-santiagocacem.pt/wp-content/uploads/Grease-Festival.jpg
GEO:38.0115422;-8.8647535,11
END:VEVENT
END:VCALENDAR