BEGIN:VCALENDAR
VERSION:2.0
PRODID:-//Câmara Municipal de Santiago do Cacém - ECPv6.15.18//NONSGML v1.0//EN
CALSCALE:GREGORIAN
METHOD:PUBLISH
X-ORIGINAL-URL:https://www.cm-santiagocacem.pt
X-WR-CALDESC:Eventos para Câmara Municipal de Santiago do Cacém
REFRESH-INTERVAL;VALUE=DURATION:PT1H
X-Robots-Tag:noindex
X-PUBLISHED-TTL:PT1H
BEGIN:VTIMEZONE
TZID:Europe/Lisbon
BEGIN:DAYLIGHT
TZOFFSETFROM:+0000
TZOFFSETTO:+0100
TZNAME:WEST
DTSTART:20250330T010000
END:DAYLIGHT
BEGIN:STANDARD
TZOFFSETFROM:+0100
TZOFFSETTO:+0000
TZNAME:WET
DTSTART:20251026T010000
END:STANDARD
BEGIN:DAYLIGHT
TZOFFSETFROM:+0000
TZOFFSETTO:+0100
TZNAME:WEST
DTSTART:20260329T010000
END:DAYLIGHT
BEGIN:STANDARD
TZOFFSETFROM:+0100
TZOFFSETTO:+0000
TZNAME:WET
DTSTART:20261025T010000
END:STANDARD
BEGIN:DAYLIGHT
TZOFFSETFROM:+0000
TZOFFSETTO:+0100
TZNAME:WEST
DTSTART:20270328T010000
END:DAYLIGHT
BEGIN:STANDARD
TZOFFSETFROM:+0100
TZOFFSETTO:+0000
TZNAME:WET
DTSTART:20271031T010000
END:STANDARD
END:VTIMEZONE
BEGIN:VEVENT
DTSTART;TZID=Europe/Lisbon:20260201T170000
DTEND;TZID=Europe/Lisbon:20260201T190000
DTSTAMP:20260419T170117
CREATED:20260116T122516Z
LAST-MODIFIED:20260129T154222Z
UID:73216-1769965200-1769972400@www.cm-santiagocacem.pt
SUMMARY:Sincera Mente (Vou-te)³
DESCRIPTION:Depois de duas sessões esgotadas\, no dia 31 de janeiro\, não perca a oportunidade para a 3.ª sessão\, no dia 1 de fevereiro\, às 17h00! \nO espetáculo (VOU-TE)³\, um stand-up interativo de autoria da Drag Queen e comediante Sincera Mente\, que assina também a encenação deste espetáculo que junta comédia\, improviso e\nhistórias pessoais.\nUsando dados que alteram a estrutura da narrativa\, Sincera Mente estabelece uma relação direta com o público e transforma cada espetáculo num momento único\, criando uma experiência diferente a cada apresentação. Paralelamente\, o público é convidado a participar no espetáculo\, através da sugestão de temas que serão explorados nos momentos de improviso em palco. \nSincera Mente é atualmente o maior fenómeno Drag nas redes sociais em Portugal. Com uma trajetória artística iniciada em 2009\, destaca-se como comediante\, cantora\, bailarina e performer. Uma palhaça deslumbrante ou uma intérprete hilariante? Uma coisa é certa: Sincera Mente não passa despercebida. Com uma presença magnética e uma expressividade singular\, é impossível não fixar o olhar nela enquanto o riso se solta sem controle. \nESGOTADA 3.ª Sessão – 1 de fevereiro – 17h00  \nESGOTADA a 1.ª sessão das 21h30\n\nESGOTADA a 2.ª sessão das 17h00  \n Bilhetes : público em geral 5€  Cartão Municipal Sénior 2\,50€| Disponíveis no Auditório Municipal António Chainho e \n https://www.ticketline.pt/evento/sincera-mente-vou-te-100281
URL:https://www.cm-santiagocacem.pt/evento/sincera-mente-vou-te%c2%b3-2/
LOCATION:Auditório Municipal António Chainho
CATEGORIES:AR|Teatro,comédia,teatro
ATTACH;FMTTYPE=image/png:https://www.cm-santiagocacem.pt/wp-content/uploads/redes-sociais_vou-te-ao-cubo_3-sessao.png
GEO:38.020338;-8.6939476
END:VEVENT
END:VCALENDAR