BEGIN:VCALENDAR
VERSION:2.0
PRODID:-//Câmara Municipal de Santiago do Cacém - ECPv6.15.18//NONSGML v1.0//EN
CALSCALE:GREGORIAN
METHOD:PUBLISH
X-ORIGINAL-URL:https://www.cm-santiagocacem.pt
X-WR-CALDESC:Eventos para Câmara Municipal de Santiago do Cacém
REFRESH-INTERVAL;VALUE=DURATION:PT1H
X-Robots-Tag:noindex
X-PUBLISHED-TTL:PT1H
BEGIN:VTIMEZONE
TZID:Europe/Paris
BEGIN:DAYLIGHT
TZOFFSETFROM:+0100
TZOFFSETTO:+0200
TZNAME:CEST
DTSTART:20160327T010000
END:DAYLIGHT
BEGIN:STANDARD
TZOFFSETFROM:+0200
TZOFFSETTO:+0100
TZNAME:CET
DTSTART:20161030T010000
END:STANDARD
BEGIN:DAYLIGHT
TZOFFSETFROM:+0100
TZOFFSETTO:+0200
TZNAME:CEST
DTSTART:20170326T010000
END:DAYLIGHT
BEGIN:STANDARD
TZOFFSETFROM:+0200
TZOFFSETTO:+0100
TZNAME:CET
DTSTART:20171029T010000
END:STANDARD
BEGIN:DAYLIGHT
TZOFFSETFROM:+0100
TZOFFSETTO:+0200
TZNAME:CEST
DTSTART:20180325T010000
END:DAYLIGHT
BEGIN:STANDARD
TZOFFSETFROM:+0200
TZOFFSETTO:+0100
TZNAME:CET
DTSTART:20181028T010000
END:STANDARD
BEGIN:DAYLIGHT
TZOFFSETFROM:+0100
TZOFFSETTO:+0200
TZNAME:CEST
DTSTART:20190331T010000
END:DAYLIGHT
BEGIN:STANDARD
TZOFFSETFROM:+0200
TZOFFSETTO:+0100
TZNAME:CET
DTSTART:20191027T010000
END:STANDARD
END:VTIMEZONE
BEGIN:VEVENT
DTSTART;VALUE=DATE:20170930
DTEND;VALUE=DATE:20180107
DTSTAMP:20260422T141630
CREATED:20170921T082143Z
LAST-MODIFIED:20170921T085150Z
UID:14096-1506729600-1515283199@www.cm-santiagocacem.pt
SUMMARY:Pinturas com História...
DESCRIPTION:No dia 30 de setembro\, às 16h30\, no Museu Municipal de Santiago do Cacém\, é inaugurada a exposição de Nelson Pires\, que vai estar patente de 30 de setembro a 6 de janeiro de 2018.
URL:https://www.cm-santiagocacem.pt/evento/pinturas-com-historia/
LOCATION:Museu Municipal de Santiago do Cacém\, Portugal
CATEGORIES:cultura
ATTACH;FMTTYPE=image/jpeg:https://www.cm-santiagocacem.pt/wp-content/uploads/Nelson-Pires-Expo_cartaz.jpg
GEO:38.0164199;-8.6919527
END:VEVENT
BEGIN:VEVENT
DTSTART;VALUE=DATE:20171130
DTEND;VALUE=DATE:20180208
DTSTAMP:20260422T141630
CREATED:20170830T085306Z
LAST-MODIFIED:20171222T124433Z
UID:13717-1512000000-1518047999@www.cm-santiagocacem.pt
SUMMARY:Boletim Municipal 45
DESCRIPTION:Veja as últimas notícias do Município de Santiago do Cacém. Boas leituras! \n Boletim Municipal 45 \n Separata 45
URL:https://www.cm-santiagocacem.pt/evento/boletim-municipal-45/
CATEGORIES:boletim
ATTACH;FMTTYPE=image/jpeg:https://www.cm-santiagocacem.pt/wp-content/uploads/capa-1.jpg
END:VEVENT
BEGIN:VEVENT
DTSTART;VALUE=DATE:20171201
DTEND;VALUE=DATE:20180107
DTSTAMP:20260422T141630
CREATED:20171130T130508Z
LAST-MODIFIED:20171214T161041Z
UID:15258-1512086400-1515283199@www.cm-santiagocacem.pt
SUMMARY:Animação de Natal 2017
DESCRIPTION:De 1 de dezembro a 6 de janeiro\, está a decorrer\, nas lojas aderentes o Sorteio Natal. Música\, animação infantil\, feira de artesanato\, fotografias com o Pai Natal e muito mais.! Não perca! No Natal compre no Comércio Tradicional! \nINFORMAÇÃO:\nDevido às condições climatéricas previstas para amanhã\, dia 15 de dezembro\, as atividades de “Animação de Natal” programadas para o Parque da Quinta do Chafariz em Santiago do Cacém\, serão realizadas nos Pavilhões de Feiras e Exposições (Entrada Nascente). \nMantém-se o programado para o dia 16 de dezembro\, sábado. \nConsulte programa –  Animação de Natal – Programa \n 
URL:https://www.cm-santiagocacem.pt/evento/animacao-de-natal-2017/
LOCATION:Município de Santiago do Cacém
CATEGORIES:Festas
ATTACH;FMTTYPE=image/jpeg:https://www.cm-santiagocacem.pt/wp-content/uploads/CMSC-Natal-Poster-Com®rcio-Tradicional-A3.jpg
GEO:37.9380587;-8.6994583
END:VEVENT
BEGIN:VEVENT
DTSTART;TZID=Europe/Paris:20171203T080000
DTEND;TZID=Europe/Paris:20180106T233000
DTSTAMP:20260422T141630
CREATED:20171128T185458Z
LAST-MODIFIED:20171128T185545Z
UID:15213-1512288000-1515281400@www.cm-santiagocacem.pt
SUMMARY:A'Bella uma família um presépio
DESCRIPTION:De 3 de dezembro a 6 de janeiro de 2018\, visite Abela e deixe-se surpreender pelos presépios executados pelos habitantes da localidade.
URL:https://www.cm-santiagocacem.pt/evento/abella-uma-familia-um-presepio/
CATEGORIES:artesanato
ATTACH;FMTTYPE=image/jpeg:https://www.cm-santiagocacem.pt/wp-content/uploads/ABELA-696x891.jpg
END:VEVENT
BEGIN:VEVENT
DTSTART;VALUE=DATE:20171205
DTEND;VALUE=DATE:20171231
DTSTAMP:20260422T141630
CREATED:20171127T105851Z
LAST-MODIFIED:20171127T105851Z
UID:15147-1512432000-1514678399@www.cm-santiagocacem.pt
SUMMARY:Pelos Caminhos da Inclusão - Cercisiago
DESCRIPTION:De 5 a 30 de dezembro\, está patente na Biblioteca Municipal Manuel da Fonseca\, em Santiago do Cacém\, a exposição Pelos Caminhos da Inclusão da Cercisiago\, no âmbito do Dia Internacional da Deficiência\, comemorado a 3 de dezembro. \nExposiçao Cercisiago
URL:https://www.cm-santiagocacem.pt/evento/pelos-caminhos-da-inclusao-cercisiago/
LOCATION:Biblioteca Municipal Manuel da Fonseca
CATEGORIES:exposições
ATTACH;FMTTYPE=image/jpeg:https://www.cm-santiagocacem.pt/wp-content/uploads/exposiçao-cercisiago.jpg
GEO:38.0194123;-8.6947907
END:VEVENT
BEGIN:VEVENT
DTSTART;VALUE=DATE:20171207
DTEND;VALUE=DATE:20171224
DTSTAMP:20260422T141630
CREATED:20171205T153302Z
LAST-MODIFIED:20171205T153302Z
UID:15876-1512604800-1514073599@www.cm-santiagocacem.pt
SUMMARY:Feirinha de Natal - Artes e Artesanato
DESCRIPTION:De 7 a 23 de dezembro\, no Auditório Municipal António Chainho\, em Santiago do Cacém\, realiza-se  a Feirinha de Natal\, com trabalhos realizados por artistas e artesãos regionais\, que podem ser excelentes sugestões para as suas ofertas nesta quadra natalícia.
URL:https://www.cm-santiagocacem.pt/evento/feirinha-de-natal-artes-e-artesanato/
LOCATION:Auditório Municipal António Chainho
CATEGORIES:feiras
ATTACH;FMTTYPE=image/jpeg:https://www.cm-santiagocacem.pt/wp-content/uploads/feirinha-natal.jpg
GEO:38.020338;-8.6939476
END:VEVENT
BEGIN:VEVENT
DTSTART;VALUE=DATE:20171207
DTEND;VALUE=DATE:20180108
DTSTAMP:20260422T141630
CREATED:20171207T164339Z
LAST-MODIFIED:20171207T164339Z
UID:15948-1512604800-1515369599@www.cm-santiagocacem.pt
SUMMARY:Presépio Tradicional Português
DESCRIPTION:De 7 de dezembro 2017 a 7 de janeiro de 2018 está exposto no Antigo Quartel dos Bombeiros Voluntários de Santiago do Cacém um Presépio Tradicional Português. Não perca a oportunidade faça a sua visita! \nUm Presépio comunitário que recupera velhas práticas \nSob a orientação do arquitecto Ricardo Pereira\, da conservadora-restauradora Sara Fonseca e da pintora Raquel Ventura\, mais de meia centena de pessoas\, entre adultos e crianças\, trabalharam afincadamente\, ao longo de vários dias\, na construção do Presépio. Na retaguarda\, o escultor Vasco Tavares da Silva\, o mestre serralheiro Gonçalo Cavalinhos e a professora aposentada Ivone Pereira Bento foram velando para que tudo avançasse da melhor maneira. A palavra passou de boca em boca. \nDe início\, uma equipa recolheu pedaços de cortiça\, troncos\, bolotas e ervas aromáticas nas matas litorais\, tendo o cuidado de preservar espécies protegidas; outra concebeu a estrutura de base\, ergueu a sua “alma”\, usando cadeiras e mesas\, e forrou-a com papéis coloridos\, fabricados por uma empresa da zona; outra foi desembrulhando e alinhando centenas de figuras – todas com mais de 50 anos\, todas feitas em materiais tradicionais –\, emprestadas por famílias e instituições da terra; outra ainda ocupou-se de alguns restauros imprescindíveis.
URL:https://www.cm-santiagocacem.pt/evento/presepio-tradicional-portugues/
LOCATION:Santiago do Cacém
CATEGORIES:cultura
ATTACH;FMTTYPE=image/jpeg:https://www.cm-santiagocacem.pt/wp-content/uploads/presépio-convite-a.jpg
GEO:38.0117398;-8.794709,12
END:VEVENT
BEGIN:VEVENT
DTSTART;TZID=Europe/Paris:20171207T213000
DTEND;TZID=Europe/Paris:20171208T213000
DTSTAMP:20260422T141630
CREATED:20171129T171216Z
LAST-MODIFIED:20171129T171216Z
UID:15245-1512682200-1512768600@www.cm-santiagocacem.pt
SUMMARY:Concertos de Natal da Escola Municipal de Música
DESCRIPTION:Dia 7 de dezembro\, 21h30\, Igreja de Vale de Água e dia 8 de dezembro\, 21h30\, Igreja de São Francisco da Serra com a Orquestra Orff e Ensemble de Guitarras da Escola Municipal de Música. Participação do Coral Atlântico Juvenil de Sines.
URL:https://www.cm-santiagocacem.pt/evento/concertos-de-natal-da-escola-municipal-de-musica/
CATEGORIES:Música
ATTACH;FMTTYPE=image/jpeg:https://www.cm-santiagocacem.pt/wp-content/uploads/concerto-natal.jpg
END:VEVENT
BEGIN:VEVENT
DTSTART;TZID=Europe/Paris:20171209T140000
DTEND;TZID=Europe/Paris:20171209T173000
DTSTAMP:20260422T141630
CREATED:20171204T105824Z
LAST-MODIFIED:20171204T105824Z
UID:15282-1512828000-1512840600@www.cm-santiagocacem.pt
SUMMARY:Os Sábados do Museu
DESCRIPTION:Nos dias 9 e 16 de dezembro\, entre as 14h00 e as 17h30\, no Museu Municipal de Santiago do Cacém\, oficina de iniciação à aprendizagem de escultura com Peggy Rottler.
URL:https://www.cm-santiagocacem.pt/evento/os-sabados-do-museu/
LOCATION:Museu Municipal de Santiago do Cacém\, Portugal
CATEGORIES:oficinas
ATTACH;FMTTYPE=image/png:https://www.cm-santiagocacem.pt/wp-content/uploads/Peggy.png
GEO:38.0164199;-8.6919527
END:VEVENT
BEGIN:VEVENT
DTSTART;TZID=Europe/Paris:20171209T163000
DTEND;TZID=Europe/Paris:20171209T163000
DTSTAMP:20260422T141630
CREATED:20171204T101821Z
LAST-MODIFIED:20171204T101821Z
UID:15275-1512837000-1512837000@www.cm-santiagocacem.pt
SUMMARY:Apresentação do livro "Poesia Adolescente" de Ana Inês Pereira
DESCRIPTION:Dia 9 de dezembro\, às 16h30\, na Biblioteca Municipal Manuel José “do Tojal”\, em Vila Nova de Santo André.\nOs sentimentos e dúvidas dos adolescentes são muitas vezes desprezados e desvalorizados. Esta obra pretende demonstrar que\, por muito ambíguas que sejam\, as dúvidas são reais\, o desespero existe e provoca sofrimento nas pessoas que estão em desenvolvimento físico\, psicológico e social.
URL:https://www.cm-santiagocacem.pt/evento/apresentacao-do-livro-poesia-adolescente-de-ana-ines-pereira/
LOCATION:Biblioteca Municipal Manuel José “do Tojal”\, Empreendimento Brasil\, Edifício Copacabana\, Bloco A e B\, Vila Nova de Santo André\, 7500-170\, Portugal
CATEGORIES:cultura
ATTACH;FMTTYPE=image/jpeg:https://www.cm-santiagocacem.pt/wp-content/uploads/Apresentação-Livro_Poesia-Adolescente.jpg
GEO:38.060881;-8.786755
X-APPLE-STRUCTURED-LOCATION;VALUE=URI;X-ADDRESS=Biblioteca Municipal Manuel José “do Tojal” Empreendimento Brasil Edifício Copacabana Bloco A e B Vila Nova de Santo André 7500-170 Portugal;X-APPLE-RADIUS=500;X-TITLE=Empreendimento Brasil\, Edifício Copacabana\, Bloco A e B:geo:-8.786755,38.060881
END:VEVENT
BEGIN:VEVENT
DTSTART;TZID=Europe/Paris:20171209T213000
DTEND;TZID=Europe/Paris:20171209T213000
DTSTAMP:20260422T141630
CREATED:20171204T104150Z
LAST-MODIFIED:20171204T104328Z
UID:15278-1512855000-1512855000@www.cm-santiagocacem.pt
SUMMARY:Concertos de Natal - Vozes d'Arte
DESCRIPTION:Nos  dias 9\, 12 e 16 de dezembro\, a Associação Coral Vozes d’Arte apresenta-se em concerto com a participação especial do Ensemble de Guitarras da Escola Municipal de Música. \n9 de dezembro – 21h30 – Igreja de São Domingos\n12 de dezembro – 19h00 – Igreja de Santa Maria em Vila Nova de Santo André\n16 de dezembro – 21h30 – Igreja da Aldeia de Santo André
URL:https://www.cm-santiagocacem.pt/evento/concertos-de-natal-vozes-darte/
LOCATION:São Domingos
CATEGORIES:concertos
ATTACH;FMTTYPE=image/jpeg:https://www.cm-santiagocacem.pt/wp-content/uploads/CMSC-Natal-Poster-Concertos-2017-A3_net.jpg
END:VEVENT
BEGIN:VEVENT
DTSTART;TZID=Europe/Paris:20171212T000000
DTEND;TZID=Europe/Paris:20171229T000000
DTSTAMP:20260422T141630
CREATED:20171212T172914Z
LAST-MODIFIED:20171212T173801Z
UID:16006-1513036800-1514505600@www.cm-santiagocacem.pt
SUMMARY:Dançarita
DESCRIPTION:Inscrições e novos horários das aulas de ballet da Dançarita\, em Santiago do Cacém e Vila Nova de Santo André.
URL:https://www.cm-santiagocacem.pt/evento/dancarita/
CATEGORIES:Dança
ATTACH;FMTTYPE=image/jpeg:https://www.cm-santiagocacem.pt/wp-content/uploads/AULAS-DE-A-DANÇARITA-ASS.-ARTÍSTICA-E-CULTURAL.jpg
END:VEVENT
BEGIN:VEVENT
DTSTART;TZID=Europe/Paris:20171213T100000
DTEND;TZID=Europe/Paris:20171213T160000
DTSTAMP:20260422T141630
CREATED:20171205T165047Z
LAST-MODIFIED:20171205T165047Z
UID:15887-1513159200-1513180800@www.cm-santiagocacem.pt
SUMMARY:Saúde no Mercado
DESCRIPTION:Dia 13 de dezembro\, entre as 10h00 e as 16h00\, no estacionamento do Mercado Municipal\, em Vila Nova de Santo André\, faça os rastreios gratuitos. Visão\, audição\, glicemia\, colesterol\, tensão arterial\, índice de massa gorda\, HIV\, Hepatite B e C\, Sífilis.
URL:https://www.cm-santiagocacem.pt/evento/saude-no-mercado/
LOCATION:Parque do Mercado Municipal de Vila Nova de Santo André
CATEGORIES:saúde
ATTACH;FMTTYPE=image/jpeg:https://www.cm-santiagocacem.pt/wp-content/uploads/Cartaz-Saúde-no-Mercado.jpg
END:VEVENT
BEGIN:VEVENT
DTSTART;TZID=Europe/Paris:20171213T213000
DTEND;TZID=Europe/Paris:20171213T213000
DTSTAMP:20260422T141630
CREATED:20171204T122429Z
LAST-MODIFIED:20171207T165000Z
UID:15339-1513200600-1513200600@www.cm-santiagocacem.pt
SUMMARY:Teatro - "De Olhos Fechados"
DESCRIPTION:Dia 13 de dezembro\, 21h30\, Auditório Municipal António Chainho. Co-produção: Cercisiago e Projeto Crinabel Teatro.
URL:https://www.cm-santiagocacem.pt/evento/teatro-de-olhos-fechados/
LOCATION:Auditório Municipal António Chainho
CATEGORIES:teatro
ATTACH;FMTTYPE=image/jpeg:https://www.cm-santiagocacem.pt/wp-content/uploads/teatro_de-olhos-fechados.jpg
GEO:38.020338;-8.6939476
END:VEVENT
BEGIN:VEVENT
DTSTART;TZID=Europe/Paris:20171215T220000
DTEND;TZID=Europe/Paris:20171215T220000
DTSTAMP:20260422T141630
CREATED:20171129T102238Z
LAST-MODIFIED:20171129T102238Z
UID:15220-1513375200-1513375200@www.cm-santiagocacem.pt
SUMMARY:"C"extas de Cultura apresenta Alma Flamenca -Jesus Herrera Y su Cuadro Flamenco
DESCRIPTION:Dia 15 de dezembro\, às 22h00\, no Auditório Municipal António Chainho\, em Santiago do Cacém\, espetáculo das “C”extas de Cultura com Alma Flamenca e Jesus Herrera Y su Cuadro Flamenco. Não perca! \n Alma Flamenca e Jesus Herrera Y su Cuadro Flamenco
URL:https://www.cm-santiagocacem.pt/evento/cextas-de-cultura-apresenta-alma-flamenca-jesus-herrera-y-su-cuadro-flamenco/
LOCATION:Auditório Municipal António Chainho
CATEGORIES:cultura
ATTACH;FMTTYPE=image/jpeg:https://www.cm-santiagocacem.pt/wp-content/uploads/A4-Alma-Flamenca.jpg
GEO:38.020338;-8.6939476
END:VEVENT
BEGIN:VEVENT
DTSTART;TZID=Europe/Paris:20171216T140000
DTEND;TZID=Europe/Paris:20171216T173000
DTSTAMP:20260422T141630
CREATED:20171211T103907Z
LAST-MODIFIED:20171211T103907Z
UID:15964-1513432800-1513445400@www.cm-santiagocacem.pt
SUMMARY:Os Sábados do Museu
DESCRIPTION:Dia 16 de dezembro\, das 14h00 às 17h30\, no Museu Municipal de Santiago do Cacém\, Oficina de iniciação à aprendizagem de escultura com Peggy Rottler.
URL:https://www.cm-santiagocacem.pt/evento/os-sabados-do-museu-2/
LOCATION:Museu Municipal de Santiago do Cacém\, Portugal
CATEGORIES:oficinas
ATTACH;FMTTYPE=image/png:https://www.cm-santiagocacem.pt/wp-content/uploads/Peggy.png
GEO:38.0164199;-8.6919527
END:VEVENT
BEGIN:VEVENT
DTSTART;TZID=Europe/Paris:20171216T160000
DTEND;TZID=Europe/Paris:20171216T160000
DTSTAMP:20260422T141630
CREATED:20171211T110717Z
LAST-MODIFIED:20171211T110717Z
UID:15967-1513440000-1513440000@www.cm-santiagocacem.pt
SUMMARY:Sábado a Ler..."Natalando!"
DESCRIPTION:Dia 16 de dezembro\, às 16h00\, na Biblioteca Municipal Manuel da Fonseca\, em Santiago do Cacém. Inscrição prévia em: smba@cm-santiagocacem.pt ou nos balcões das bibliotecas municipais. \nO Natal é tempo de alegria e de deitar mãos à obra: enfeitam-se as casas\, embrulham-se presentes e a Biblioteca propõe\, para além da habitual sessão de histórias\, a realização de uma oficina de trabalhos manuais alusiva à quadra festiva.
URL:https://www.cm-santiagocacem.pt/evento/sabado-a-ler-natalando/
LOCATION:Biblioteca Municipal Manuel da Fonseca
CATEGORIES:cultura
ATTACH;FMTTYPE=image/jpeg:https://www.cm-santiagocacem.pt/wp-content/uploads/Sábado-a-Ler_Dezembro_natalando.jpg
GEO:38.0194123;-8.6947907
END:VEVENT
BEGIN:VEVENT
DTSTART;TZID=Europe/Paris:20171216T213000
DTEND;TZID=Europe/Paris:20171216T213000
DTSTAMP:20260422T141630
CREATED:20171207T120314Z
LAST-MODIFIED:20171207T120314Z
UID:15929-1513459800-1513459800@www.cm-santiagocacem.pt
SUMMARY:Desconcerto - Harmonia Juvenil & Bandalheira
DESCRIPTION:No dia 16 de dezembro\, às 21h30\, no Auditório Municipal António Chainho\, realiza-se o Concerto de Natal do Coral Harmonia Juvenil & Bandalheira.
URL:https://www.cm-santiagocacem.pt/evento/desconcerto-harmonia-juvenil-bandalheira/
LOCATION:Auditório Municipal António Chainho
CATEGORIES:concertos
ATTACH;FMTTYPE=image/jpeg:https://www.cm-santiagocacem.pt/wp-content/uploads/desconcerto-coral-harmonia-juvenil.jpg
GEO:38.020338;-8.6939476
END:VEVENT
BEGIN:VEVENT
DTSTART;TZID=Europe/Paris:20171216T213000
DTEND;TZID=Europe/Paris:20171216T213000
DTSTAMP:20260422T141630
CREATED:20171211T111737Z
LAST-MODIFIED:20171214T110128Z
UID:15972-1513459800-1513459800@www.cm-santiagocacem.pt
SUMMARY:Concertos de Natal - Coral Vozes D'Arte
DESCRIPTION:No dia 16 de dezembro\, na Igreja da Aldeia de Santo André às 21h30. Apareça!
URL:https://www.cm-santiagocacem.pt/evento/concertos-de-natal-coral-vozes-darte/
LOCATION:Vila Nova de Santo André
CATEGORIES:concertos
ATTACH;FMTTYPE=image/jpeg:https://www.cm-santiagocacem.pt/wp-content/uploads/CMSC-Natal-Poster-Concertos-2017-A3_net.jpg
GEO:38.0531218;-8.7524636
END:VEVENT
BEGIN:VEVENT
DTSTART;TZID=Europe/Paris:20171217T170000
DTEND;TZID=Europe/Paris:20171217T170000
DTSTAMP:20260422T141630
CREATED:20171214T123554Z
LAST-MODIFIED:20171214T123618Z
UID:16038-1513530000-1513530000@www.cm-santiagocacem.pt
SUMMARY:Concerto de Natal
DESCRIPTION:Dia 17 de dezembro\, 17h00\, Ensemble de Guitarras da Escola Municipal de Música\, no Antigo Quartel dos Bombeiros de Santiago do Cacém\, no âmbito do Presépio Tradicional Português.
URL:https://www.cm-santiagocacem.pt/evento/concerto-de-natal/
CATEGORIES:concertos
ATTACH;FMTTYPE=image/jpeg:https://www.cm-santiagocacem.pt/wp-content/uploads/convite-concerto.jpg
END:VEVENT
BEGIN:VEVENT
DTSTART;VALUE=DATE:20171218
DTEND;VALUE=DATE:20171224
DTSTAMP:20260422T141630
CREATED:20171204T140907Z
LAST-MODIFIED:20171204T140907Z
UID:15853-1513555200-1514073599@www.cm-santiagocacem.pt
SUMMARY:Atividades Aquáticas de Natal
DESCRIPTION:De 18 a 23 de dezembro\, os alunos da Escola Municipal de Natação\, podem usufruir\, durante as aulas\, de Atividades Aquáticas de Natal. Estafetas\, circuitos aquáticos\, caça ao tesouro\, polo aquático\, basquete aquático\, entre outras. Participa e diverte-te!!!
URL:https://www.cm-santiagocacem.pt/evento/atividades-aquaticas-de-natal/
LOCATION:Piscinas Municipais de Santiago do Cacém\, 7540
CATEGORIES:desporto
ATTACH;FMTTYPE=image/jpeg:https://www.cm-santiagocacem.pt/wp-content/uploads/atividades_aquaticas_natal.jpg
GEO:38.0124339;-8.6979613,17
END:VEVENT
BEGIN:VEVENT
DTSTART;VALUE=DATE:20171219
DTEND;VALUE=DATE:20171223
DTSTAMP:20260422T141630
CREATED:20171122T160741Z
LAST-MODIFIED:20171122T160741Z
UID:15075-1513641600-1513987199@www.cm-santiagocacem.pt
SUMMARY:24.ª ORIJOVEM
DESCRIPTION:De 19 a 22 de dezembro realiza-se a 24.ª edição do ORIJOVEM – Orientação Pedreste\, em Vila Nova de Santo André\, tem como destinatários jovens entre os 10 e os 15 anos. As inscrições estão abertas até dia 1 de dezembro em: www.fpo.pt / orijovem@gmail.com / telef.: 244 575 074 \nParticipa!
URL:https://www.cm-santiagocacem.pt/evento/24-a-orijovem/
LOCATION:Vila Nova de Santo André
CATEGORIES:desporto
ATTACH;FMTTYPE=image/jpeg:https://www.cm-santiagocacem.pt/wp-content/uploads/orijovem-inscriçoes.jpg
GEO:38.0531218;-8.7524636
END:VEVENT
BEGIN:VEVENT
DTSTART;TZID=Europe/Paris:20171219T110000
DTEND;TZID=Europe/Paris:20171219T110000
DTSTAMP:20260422T141630
CREATED:20171212T102518Z
LAST-MODIFIED:20171214T122115Z
UID:15991-1513681200-1513681200@www.cm-santiagocacem.pt
SUMMARY:Espaço oficina "O Bolo que é Rei"
DESCRIPTION:Dia 19 de dezembro\, às 11h00\, no Mercado Municipal de Santiago do Cacém\, realiza-se a Oficina O Bolo que é Rei. \nPresença essencial na mesa de Natal e no Dia de Reis – o Bolo Rei faz as delícias de todos! \nINSCRIÇÕES ESGOTADAS \n 
URL:https://www.cm-santiagocacem.pt/evento/espaco-oficina-o-bolo-que-e-rei/
LOCATION:Mercado Municipal de Santiago do Cacém
CATEGORIES:oficinas
ATTACH;FMTTYPE=image/jpeg:https://www.cm-santiagocacem.pt/wp-content/uploads/CMSC-O-Bolo-que-é-Rei-Flyer-Frente.jpg
END:VEVENT
BEGIN:VEVENT
DTSTART;TZID=Europe/Paris:20171221T150000
DTEND;TZID=Europe/Paris:20171221T150000
DTSTAMP:20260422T141630
CREATED:20171212T120425Z
LAST-MODIFIED:20171215T165948Z
UID:15995-1513868400-1513868400@www.cm-santiagocacem.pt
SUMMARY:Chama da Solidariedade
DESCRIPTION:A Câmara Municipal de Santiago do Cacém vai receber a “Chama da Solidariedade” no Município de Santiago do Cacém\, no dia 21 de dezembro\, pelas 15H00\, na entrada principal do edifício da Câmara Municipal. A Chama chega a Santiago do Cacém vinda do Município de Sines. \nTrata-se de um ato simbólico\,  promovida pela UDIPSS – União Distrital das Instituições Particulares de Solidariedade Social\, que tem por objetivo acarinhar e propagar os valores que unem as diferentes instituições de Solidariedade no sentido de apelar ao espírito comunitário. \n \n  \nMais informações em: http://www.udipsssetubal.org/
URL:https://www.cm-santiagocacem.pt/evento/chama-da-solidariedade/
LOCATION:Câmara Municipal de Santiago do Cacém
CATEGORIES:solidariedade
ATTACH;FMTTYPE=image/jpeg:https://www.cm-santiagocacem.pt/wp-content/uploads/A3-programa.jpg
GEO:38.016484;-8.692808
END:VEVENT
BEGIN:VEVENT
DTSTART;TZID=Europe/Paris:20171223T213000
DTEND;TZID=Europe/Paris:20171223T213000
DTSTAMP:20260422T141630
CREATED:20171207T121716Z
LAST-MODIFIED:20171207T121716Z
UID:15933-1514064600-1514064600@www.cm-santiagocacem.pt
SUMMARY:...A PRETO E BRANCO - Coral Harmonia
DESCRIPTION:No dia 23 de dezembro\, às 21h30\, no Auditório Municipal António Chainho\, realiza-se o Concerto de Natal do Coral Harmonia …A PRETO E BRANCO.
URL:https://www.cm-santiagocacem.pt/evento/a-preto-e-branco-coral-harmonia/
LOCATION:Auditório Municipal António Chainho
CATEGORIES:concertos
ATTACH;FMTTYPE=image/jpeg:https://www.cm-santiagocacem.pt/wp-content/uploads/a-preto-e-branco-1.jpg
GEO:38.020338;-8.6939476
END:VEVENT
BEGIN:VEVENT
DTSTART;TZID=Europe/Paris:20171228T220000
DTEND;TZID=Europe/Paris:20171228T220000
DTSTAMP:20260422T141630
CREATED:20171221T192057Z
LAST-MODIFIED:20171221T192127Z
UID:16141-1514498400-1514498400@www.cm-santiagocacem.pt
SUMMARY:Teatro - Crise no Parque Eduardo VII
DESCRIPTION:Dia 28 de dezembro\, 22h00\, no Auditório do Centro de Atividades Pedagógicas Alda Guerreiro em Vila Nova de Santo André\, pela Comuna Teatro de Pesquisa. Entrada Livre. \nDestilar a vida…Dois velhos sentados num banco de jardim…O tempo parece suspenso nas horas imóveis do parque\, no outono esquecido da vida. Adivinham se as voltas do mundo na música que vem de longe\, da infância ou do futuro\, e que nos vai ensinando que “a beira do fim é tão preciosa como a beira do principio” ….\nAtores: Carlos Paulo\, Elsa Galvão\, Gonçalo Botelho\, Hugo Franco\, Igor Sampaio\, Maria Ana Filipe e Miguel Sermão \nSaiba Mais  Crise_Parque Eduardo VII
URL:https://www.cm-santiagocacem.pt/evento/teatro-crise-no-parque-eduardo-vii/
CATEGORIES:teatro
ATTACH;FMTTYPE=image/jpeg:https://www.cm-santiagocacem.pt/wp-content/uploads/CRISE-28dez-cartaz-A3_completo.jpg
END:VEVENT
BEGIN:VEVENT
DTSTART;VALUE=DATE:20180104
DTEND;VALUE=DATE:20180128
DTSTAMP:20260422T141630
CREATED:20180103T114224Z
LAST-MODIFIED:20180103T114224Z
UID:16264-1515024000-1517097599@www.cm-santiagocacem.pt
SUMMARY:Os afetos na perspetiva da criança
DESCRIPTION:De 4 a 27 de janeiro\, na Biblioteca Municipal Manuel da Fonseca\, em Santiago do Cacém\, está patente a exposição “Os afetos na perspetiva da criança”.
URL:https://www.cm-santiagocacem.pt/evento/os-afetos-na-perspetiva-da-crianca/
LOCATION:Biblioteca Municipal Manuel da Fonseca
CATEGORIES:exposições
ATTACH;FMTTYPE=image/jpeg:https://www.cm-santiagocacem.pt/wp-content/uploads/expo-intervir.jpg
GEO:38.0194123;-8.6947907
END:VEVENT
BEGIN:VEVENT
DTSTART;VALUE=DATE:20180105
DTEND;VALUE=DATE:20180129
DTSTAMP:20260422T141630
CREATED:20180103T115224Z
LAST-MODIFIED:20180103T115224Z
UID:16268-1515110400-1517183999@www.cm-santiagocacem.pt
SUMMARY:Luz e Sombras - exposição de fotografia
DESCRIPTION:De 5 a 28 de janeiro\, no Auditório António Chainho\, em Santiago do Cacém\, está patente a Exposição de Fotografia de VITORMAR – Luz e Sombras. Visite!
URL:https://www.cm-santiagocacem.pt/evento/luz-e-sombras-exposicao-de-fotografia/
LOCATION:Auditório Municipal António Chainho
CATEGORIES:exposições
ATTACH;FMTTYPE=image/jpeg:https://www.cm-santiagocacem.pt/wp-content/uploads/exposição-luz-e-sombras.jpg
GEO:38.020338;-8.6939476
END:VEVENT
BEGIN:VEVENT
DTSTART;VALUE=DATE:20180106
DTEND;VALUE=DATE:20180203
DTSTAMP:20260422T141630
CREATED:20171222T135846Z
LAST-MODIFIED:20171222T135846Z
UID:16153-1515196800-1517615999@www.cm-santiagocacem.pt
SUMMARY:Arte de Mandalar
DESCRIPTION:De 6 de janeiro a 2 de fevereiro\, está patente na Biblioteca Municipal Manuel Manuel José “do Tojal”\, em Vila Nova de Santo André\, a exposição de Joana Bica\, Arte de Mandalar. \nNo dia 20 de janeiro\, às 16h30\, oficina dirigida às famílias. Participe!
URL:https://www.cm-santiagocacem.pt/evento/arte-de-mandalar/
LOCATION:Biblioteca Municipal Manuel José “do Tojal”\, Empreendimento Brasil\, Edifício Copacabana\, Bloco A e B\, Vila Nova de Santo André\, 7500-170\, Portugal
CATEGORIES:exposições
ATTACH;FMTTYPE=image/jpeg:https://www.cm-santiagocacem.pt/wp-content/uploads/a_arte_mandalar.jpg
GEO:38.060881;-8.786755
X-APPLE-STRUCTURED-LOCATION;VALUE=URI;X-ADDRESS=Biblioteca Municipal Manuel José “do Tojal” Empreendimento Brasil Edifício Copacabana Bloco A e B Vila Nova de Santo André 7500-170 Portugal;X-APPLE-RADIUS=500;X-TITLE=Empreendimento Brasil\, Edifício Copacabana\, Bloco A e B:geo:-8.786755,38.060881
END:VEVENT
BEGIN:VEVENT
DTSTART;VALUE=DATE:20180106
DTEND;VALUE=DATE:20180108
DTSTAMP:20260422T141630
CREATED:20180104T102100Z
LAST-MODIFIED:20180104T102100Z
UID:16278-1515196800-1515369599@www.cm-santiagocacem.pt
SUMMARY:Mercadinho de Reis
DESCRIPTION:Nos dias 6 e 7 de janeiro\, realiza-se no Cercal do Alentejo\, a 1.ª edição do Mercadinho dos Reis\, com produtos locais e regionais\, artesanato\, animação cultural e infantil e serviço de bar. Uma organização da Sociedade Juventude Cercalense.
URL:https://www.cm-santiagocacem.pt/evento/mercadinho-de-reis/
LOCATION:Cercal do Alentejo
CATEGORIES:feiras
ATTACH;FMTTYPE=image/jpeg:https://www.cm-santiagocacem.pt/wp-content/uploads/Mercadinho-de-Reis_Cercal.jpg
GEO:39.399872;-8.224454
END:VEVENT
END:VCALENDAR