BEGIN:VCALENDAR
VERSION:2.0
PRODID:-//Câmara Municipal de Santiago do Cacém - ECPv6.15.18//NONSGML v1.0//EN
CALSCALE:GREGORIAN
METHOD:PUBLISH
X-ORIGINAL-URL:https://www.cm-santiagocacem.pt
X-WR-CALDESC:Eventos para Câmara Municipal de Santiago do Cacém
REFRESH-INTERVAL;VALUE=DURATION:PT1H
X-Robots-Tag:noindex
X-PUBLISHED-TTL:PT1H
BEGIN:VTIMEZONE
TZID:Europe/Lisbon
BEGIN:DAYLIGHT
TZOFFSETFROM:+0000
TZOFFSETTO:+0100
TZNAME:WEST
DTSTART:20220327T010000
END:DAYLIGHT
BEGIN:STANDARD
TZOFFSETFROM:+0100
TZOFFSETTO:+0000
TZNAME:WET
DTSTART:20221030T010000
END:STANDARD
BEGIN:DAYLIGHT
TZOFFSETFROM:+0000
TZOFFSETTO:+0100
TZNAME:WEST
DTSTART:20230326T010000
END:DAYLIGHT
BEGIN:STANDARD
TZOFFSETFROM:+0100
TZOFFSETTO:+0000
TZNAME:WET
DTSTART:20231029T010000
END:STANDARD
BEGIN:DAYLIGHT
TZOFFSETFROM:+0000
TZOFFSETTO:+0100
TZNAME:WEST
DTSTART:20240331T010000
END:DAYLIGHT
BEGIN:STANDARD
TZOFFSETFROM:+0100
TZOFFSETTO:+0000
TZNAME:WET
DTSTART:20241027T010000
END:STANDARD
BEGIN:DAYLIGHT
TZOFFSETFROM:+0000
TZOFFSETTO:+0100
TZNAME:WEST
DTSTART:20250330T010000
END:DAYLIGHT
BEGIN:STANDARD
TZOFFSETFROM:+0100
TZOFFSETTO:+0000
TZNAME:WET
DTSTART:20251026T010000
END:STANDARD
END:VTIMEZONE
BEGIN:VEVENT
DTSTART;TZID=Europe/Lisbon:20231024T100000
DTEND;TZID=Europe/Lisbon:20240630T140000
DTSTAMP:20260425T121941
CREATED:20231023T091440Z
LAST-MODIFIED:20231023T091806Z
UID:58492-1698141600-1719756000@www.cm-santiagocacem.pt
SUMMARY:Hora do Conto
DESCRIPTION:Inicia-se nas bibliotecas municipais\, a partir de 24 de outubro\, a Hora do Conto\, um projeto continuado de promoção do livro e da leitura através da narração de contos para a infância. A iniciativa\, vai ser desenvolvida durante o ano letivo de 2023/2024\, é dirigida aos alunos dos jardins de infância e do 1.º CEB. \nA Hora do Conto irá realizar-se na Biblioteca Municipal Manuel da Fonseca\, terças e sextas-feiras\, às 10h00 e às 14h00\, e na Biblioteca Municipal Manuel José “do Tojal”\, terças e quintas-feiras\, às 10h00 e às 14h00. \nIniciativa inserida nas Comemorações do Nascimento de Manuel da Fonseca.
URL:https://www.cm-santiagocacem.pt/evento/hora-do-conto/
LOCATION:Biblioteca Municipal Manuel da Fonseca e Biblioteca Municipal Manuel José “do Tojal”
CATEGORIES:Bibliotecas,leitura
ATTACH;FMTTYPE=image/jpeg:https://www.cm-santiagocacem.pt/wp-content/uploads/Hora-do-Conto-2023-BMSC-e-BMSA-Comemoracoes-nascimento-de-Manuel-da-Fonseca.jpg
END:VEVENT
BEGIN:VEVENT
DTSTART;VALUE=DATE:20231201
DTEND;VALUE=DATE:20240119
DTSTAMP:20260425T121941
CREATED:20231128T124136Z
LAST-MODIFIED:20240108T120133Z
UID:59149-1701388800-1705622399@www.cm-santiagocacem.pt
SUMMARY:Passatempo “No Natal Compre no Comércio Tradicional” 2023
DESCRIPTION:O Passatempo “No Natal Compre no Comércio Tradicional” é uma iniciativa promovida pelo Município de Santiago do Cacém em parceria com a ACISTDS e com o apoio das juntas de Freguesia do Município\, que tem como objetivo promover e estimular as dinâmicas no comércio e serviços locais\, incentivando a realização das compras na época natalícia no comércio. \nO Passatempo destina-se a todos os clientes\, maiores de idade\, que efetuem compras no valor mínimo de 10\,00 € no comércio local no Município de Santiago do Cacém\, entre o dia 01 de dezembro de 2023 e o dia 06 de janeiro de 2024. \nA atribuição dos prémios realizar-se-á no dia 18 de janeiro de 2024\, pelas 12h30\, na Sala de Sessões da Câmara Municipal de Santiago do Cacém\, com transmissão em direto através do Facebook  e canal Youtube do Município.  \nO Passatempo consiste no sorteio de um vale de viagem no valor de 1500 € suportado no valor de 1000 € pela Câmara Municipal e 500 € pela ACISTDS\, 10 prémios monetários e a atribuição imediata de um cupão que pode ser trocado por um bilhete de cinema a utilizar no ano de 2024\, no Auditório Municipal António Chainho\, ou um ingresso para entrar na SANTIAGRO – Feira Agropecuária e do Cavalo 2024\, suportados pela Câmara Municipal. Será também sorteado um cabaz de Natal suportado pela ACISTDS. \n Normas de Participação \n 
URL:https://www.cm-santiagocacem.pt/evento/passatempo-no-natal-compre-no-comercio-tradicional-2023/
LOCATION:Município de Santiago do Cacém
CATEGORIES:desenvolvimento económico
ATTACH;FMTTYPE=image/jpeg:https://www.cm-santiagocacem.pt/wp-content/uploads/No-Natal-compre-no-comercio-tradicional.jpg
GEO:37.9380587;-8.6994583
END:VEVENT
BEGIN:VEVENT
DTSTART;VALUE=DATE:20231204
DTEND;VALUE=DATE:20240105
DTSTAMP:20260425T121941
CREATED:20231130T145606Z
LAST-MODIFIED:20231130T145606Z
UID:59199-1701648000-1704412799@www.cm-santiagocacem.pt
SUMMARY:Feira do Livro de Natal
DESCRIPTION:Decorre de 4 de dezembro de 2023 a 4 de janeiro de 2024 a Feira do Livro de Natal na Biblioteca Municipal Manuel José “do Tojal”\, em Vila Nova de Santo André. \nNa Feira do Livro de Natal pode encontrar várias sugestões literárias para ofertas de livros nesta quadra natalícia.\nOfereça magia! Ofereça livros! \n Segunda-feira e sábado das 15h00 às 20h00\nTerça a sexta-feira das 10h00 às 20h00\nEncerra aos domingos e feriados
URL:https://www.cm-santiagocacem.pt/evento/feira-do-livro-de-natal-2/
LOCATION:Biblioteca Municipal Manuel José “do Tojal”\, Empreendimento Brasil\, Edifício Copacabana\, Bloco A e B\, Vila Nova de Santo André\, 7500-170\, Portugal
CATEGORIES:AR|Literatura,Bibliotecas,cultura,leitura,Natal
ATTACH;FMTTYPE=image/jpeg:https://www.cm-santiagocacem.pt/wp-content/uploads/Feira-do-Livro-de-Natal_BMSA.jpg
GEO:38.060881;-8.786755
X-APPLE-STRUCTURED-LOCATION;VALUE=URI;X-ADDRESS=Biblioteca Municipal Manuel José “do Tojal” Empreendimento Brasil Edifício Copacabana Bloco A e B Vila Nova de Santo André 7500-170 Portugal;X-APPLE-RADIUS=500;X-TITLE=Empreendimento Brasil\, Edifício Copacabana\, Bloco A e B:geo:-8.786755,38.060881
END:VEVENT
BEGIN:VEVENT
DTSTART;VALUE=DATE:20231208
DTEND;VALUE=DATE:20240107
DTSTAMP:20260425T121941
CREATED:20231204T123806Z
LAST-MODIFIED:20231204T123806Z
UID:59252-1701993600-1704585599@www.cm-santiagocacem.pt
SUMMARY:Presépios no Parque Central
DESCRIPTION:De 8 de dezembro de 2023 a 6 de janeiro de 2024 regressa ao Parque Central\, em Vila Nova de Santo André\, a exposição de Presépios ao ar livre com a organização da Junta de Freguesia de Santo André e que conta com a participação de várias associações e instituições da Freguesia.
URL:https://www.cm-santiagocacem.pt/evento/presepios-no-parque-central/
LOCATION:Parque Central – Vila Nova de Santo André
CATEGORIES:AR|Exposições,exposições,Natal
ATTACH;FMTTYPE=image/jpeg:https://www.cm-santiagocacem.pt/wp-content/uploads/Presepios-no-Parque-Central.jpg
END:VEVENT
BEGIN:VEVENT
DTSTART;TZID=Europe/Lisbon:20231210T080000
DTEND;TZID=Europe/Lisbon:20240107T170000
DTSTAMP:20260425T121941
CREATED:20231204T105755Z
LAST-MODIFIED:20231204T110314Z
UID:59225-1702195200-1704646800@www.cm-santiagocacem.pt
SUMMARY:A’Bella – Uma Família um Presépio – X edição
DESCRIPTION:De 10 de dezembro de 2023 a 7 de janeiro de 2024 decorre na localidade de Abela a X edição de presépios de rua\, com o tema “A’Bella\, uma família um presépio”. \nVisite Abela e deixe-se surpreender pelos presépios executados pelos habitantes da localidade. \nEsta iniciativa organizada pela Paróquia de Abela\, conta com o apoio da Câmara Municipal de Santiago do Cacém. \n 10 dezembro\n 14h30 – Eucaristia do Segundo Domingo do Advento\n 15h30 – Inauguração da Exposição de Presépios no interior da Igreja\n– Inicío da X Edição de Presépios de Rua\, com bênção na entrada da Igreja\n 16h00 – Concerto do Coro Juvenil do Carmo \n 17 de dezembro\n 10h30 – Eucaristia do Terceiro Domingo do Advento\, com partilha da Luz da Paz de Belém\n 16h30 – Concerto de Natal pelo Coral Harmonia e Coro juvenil de Santiago do Cacém \n 07 de janeiro\n 14h30 – Presépio ao vivo pelas Crianças da Catequese\n 15h00 – Eucaristia da Solenidade da Epifania do Senhor\n 16h00 – Concerto de Encerramento da X Edição de Presépios de Rua\, por Clara Palma: “Louvor a Jesus e Maria através da Música”
URL:https://www.cm-santiagocacem.pt/evento/abella-uma-familia-um-presepio-x-edicao/
LOCATION:Abela\, Portugal
CATEGORIES:AR|Exposições,exposições,Natal
ATTACH;FMTTYPE=image/jpeg:https://www.cm-santiagocacem.pt/wp-content/uploads/presepios-de-rua-Abela.jpeg
GEO:42.4630937;-71.1433806
END:VEVENT
BEGIN:VEVENT
DTSTART;VALUE=DATE:20240101
DTEND;VALUE=DATE:20240201
DTSTAMP:20260425T121941
CREATED:20231122T123832Z
LAST-MODIFIED:20240104T091512Z
UID:58996-1704067200-1706745599@www.cm-santiagocacem.pt
SUMMARY:Exposição "Manuel João da Silva - Riqueza dos Falares Regionais"
DESCRIPTION:Está patente\, de 3 a 31 de janeiro\, na Biblioteca Municipal Manuel da Fonseca\, em Santiago do Cacém\, a Exposição “Manuel João da Silva – Riquezas dos Falares Regionais”\, no âmbito das Comemorações do Centenário. \nA Exposição pretende homenagear esta grande personalidade do município de Santiago do Cacém\, inclui os excertos mais representativos e pitorescos dos seus livros e que deixam os leitores\, sem dúvida\, bem-dispostos. A exposição integra vários desenhos de José Luís Gonçalves (ilustrador de referência dos livros do professor Manuel João da Silva)\, bem como desenhos estilizados da autoria de Ricardo Martins. \n  \nHorário de funcionamento:\nsegunda a sexta-feira – 09h30 às 18h30\nSábado – 13h30 às 18h30\nEncerra aos domingos e feriados \n 
URL:https://www.cm-santiagocacem.pt/evento/homenagem-evocativa-ao-professor-manuel-joao-da-silva/
LOCATION:Biblioteca Municipal Manuel da Fonseca\, Rua Eng. Costa Serrão 25\, SANTIAGO DO CACÉM\, Portugal
CATEGORIES:AR|Exposições,Bibliotecas,exposições
ATTACH;FMTTYPE=image/jpeg:https://www.cm-santiagocacem.pt/wp-content/uploads/Exposicao-Evocativa-Manuel-Joao-da-Silva.jpg
GEO:38.0197337;-8.6927616
X-APPLE-STRUCTURED-LOCATION;VALUE=URI;X-ADDRESS=Biblioteca Municipal Manuel da Fonseca Rua Eng. Costa Serrão 25 SANTIAGO DO CACÉM Portugal;X-APPLE-RADIUS=500;X-TITLE=Rua Eng. Costa Serrão 25:geo:-8.6927616,38.0197337
END:VEVENT
BEGIN:VEVENT
DTSTART;TZID=Europe/Lisbon:20240101T080000
DTEND;TZID=Europe/Lisbon:20240131T233000
DTSTAMP:20260425T121941
CREATED:20231228T130547Z
LAST-MODIFIED:20231228T140828Z
UID:59640-1704096000-1706743800@www.cm-santiagocacem.pt
SUMMARY:Santiago do Cacém – Município em Agenda – janeiro de 2024
DESCRIPTION:‘Santiago do Cacém – Município em Agenda’ sugere-lhe várias atividades para o mês que dá início a um novo ano. No mês de janeiro tem início a 9.ª edição do Festival da Enguia\, a decorrer na freguesia de Santo André\, uma referência na nossa gastronomia que traz muitos visitantes à região para degustar esta iguaria caraterizada como única – a enguia da Lagoa de\nSanto André. \n2024 é o ano em que celebramos meio século de Liberdade e Democracia no nosso País. No decorrer dos próximos meses\, o município de Santiago do Cacém vai ter um calendário preenchido de atividades dirigidas a todas as pessoas. Exposições\, cinema\, contos e literatura\, ateliês e espetáculos são atividades que vão trazer à memória as vivências deste importante acontecimento na História de Portugal – o 25 de Abril de 1974 – e mostrar aos mais novos os direitos conquistados e assentes na Constituição da República Portuguesa. \nContamos consigo para juntos celebrarmos 2024 e os 50 anos de Abril! \n Agenda Cultural – janeiro 2024
URL:https://www.cm-santiagocacem.pt/evento/santiago-do-cacem-municipio-em-agenda-janeiro-de-2024/
LOCATION:Município de Santiago do Cacém
CATEGORIES:Bibliotecas,comemorações,exposições,Infantil,Música
ATTACH;FMTTYPE=image/jpeg:https://www.cm-santiagocacem.pt/wp-content/uploads/Agenda-Cultural-janeiro-2024.jpg
GEO:37.9380587;-8.6994583
END:VEVENT
BEGIN:VEVENT
DTSTART;TZID=Europe/Lisbon:20240106T170000
DTEND;TZID=Europe/Lisbon:20240106T210000
DTSTAMP:20260425T121941
CREATED:20240103T101341Z
LAST-MODIFIED:20240103T101341Z
UID:59682-1704560400-1704574800@www.cm-santiagocacem.pt
SUMMARY:Vamos cantar as janeiras
DESCRIPTION:Dia 6 de janeiro\, a partir das 17h00\, com concentração na sede da Junta de Freguesia de Cercal do Alentejo\, a Associação Musical dos Amigos da Banda Filarmónica Lira Cercalense lança o desafio\, para manter viva a tradição do “Cantar das Janeiras”\, percorrendo as ruas da vila do Cercal do Alentejo.
URL:https://www.cm-santiagocacem.pt/evento/vamos-cantar-as-janeiras-2/
LOCATION:Cercal do Alentejo
CATEGORIES:AR|Música,Música
ATTACH;FMTTYPE=image/jpeg:https://www.cm-santiagocacem.pt/wp-content/uploads/Cantar-das-janeiras-_Cercal-do-Alentejo.jpg
GEO:39.399872;-8.224454
END:VEVENT
BEGIN:VEVENT
DTSTART;VALUE=DATE:20240110
DTEND;VALUE=DATE:20240301
DTSTAMP:20260425T121941
CREATED:20231222T160655Z
LAST-MODIFIED:20231222T161215Z
UID:59621-1704844800-1709251199@www.cm-santiagocacem.pt
SUMMARY:Exposição "Unidade através das dimensões da existência" de Fernanda Brito
DESCRIPTION:A Biblioteca Municipal Manuel José “do Tojal” recebe\, de 10 de janeiro a 29 de fevereiro\, a exposição a “Unidade através das dimensões da existência”\, de Fernanda Brito. \n“A Exposição acompanha\, visualmente\, a construção de uma relação íntima com a paisagem\, sempre em metamorfose. Esta viagem revela muitas vezes o espaço onde habito\, onde me encontro e me recolho\, onde me reconheço e me entrego\, neste ambiente que me envolve e que me presenteia com uma autêntica paleta viva\, permitindo-me mergulhar nela para me dar a inspiração para criar e descobrir as várias dimensões da existência”.
URL:https://www.cm-santiagocacem.pt/evento/exposicao-unidade-atraves-das-dimensoes-da-existencia-de-fernanda-brito/
LOCATION:Biblioteca Municipal Manuel José “do Tojal”\, Vila Nova de Santo André\, Portugal
CATEGORIES:AR|Exposições,exposições
ATTACH;FMTTYPE=image/jpeg:https://www.cm-santiagocacem.pt/wp-content/uploads/kline_Unidade-atraves-das-dimensoes-da-existencia.jpg
GEO:38.0531218;-8.7524636
END:VEVENT
BEGIN:VEVENT
DTSTART;TZID=Europe/Lisbon:20240111T160000
DTEND;TZID=Europe/Lisbon:20240111T160000
DTSTAMP:20260425T121941
CREATED:20240108T090604Z
LAST-MODIFIED:20240108T090604Z
UID:59720-1704988800-1704988800@www.cm-santiagocacem.pt
SUMMARY:Canto das Letras
DESCRIPTION:𝗖𝗮𝗻𝘁𝗼 𝗱𝗮𝘀 𝗟𝗲𝘁𝗿𝗮𝘀\n\n\nNo dia 11 de janeiro\, às 16h00\, na Biblioteca Municipal Manuel José “do Tojal”\, em Vila Nova de Santo André\, realiza-se o Canto das Letras.\nUm clube de leitura com a participação da Academia Sénior de Artes e Saberes\, onde todos têm lugar e podem trocar impressões sobre livros\, escritos\, autores ou temas que o grupo entender abordar.
URL:https://www.cm-santiagocacem.pt/evento/canto-das-letras-12/
LOCATION:Biblioteca Municipal Manuel José “do Tojal”\, Vila Nova de Santo André\, Portugal
CATEGORIES:Bibliotecas,Projetos
ATTACH;FMTTYPE=image/jpeg:https://www.cm-santiagocacem.pt/wp-content/uploads/Canto-das-Letras-3.jpg
GEO:38.0531218;-8.7524636
END:VEVENT
BEGIN:VEVENT
DTSTART;TZID=Europe/Lisbon:20240113T093000
DTEND;TZID=Europe/Lisbon:20240113T170000
DTSTAMP:20260425T121941
CREATED:20240110T084650Z
LAST-MODIFIED:20240110T084650Z
UID:59754-1705138200-1705165200@www.cm-santiagocacem.pt
SUMMARY:Dádiva de Sangue - Sede Grupo Motard de Santiago do Cacém
DESCRIPTION:Realiza-se no dia 13 de janeiro\, a partir das 9h30\, na sede do Grupo Motard de Santiago do Cacém (GMSC)\, uma Dádiva de Sangue. \n Confirme a sua presença através de reserva \n Contactos: 932 823 470 / 966 671 050 ou pelo e-mail: gmsantiagocacem@gmail.com \nDê sangue!
URL:https://www.cm-santiagocacem.pt/evento/dadiva-de-sangue-sede-grupo-motard-de-santiago-do-cacem/
LOCATION:Sede do Grupo Motard de Santiago do Cacém
CATEGORIES:saúde
ATTACH;FMTTYPE=image/jpeg:https://www.cm-santiagocacem.pt/wp-content/uploads/Dadiva-de-Sangue_GMSC.jpg
END:VEVENT
BEGIN:VEVENT
DTSTART;VALUE=DATE:20240119
DTEND;VALUE=DATE:20240226
DTSTAMP:20260425T121941
CREATED:20240104T093810Z
LAST-MODIFIED:20240116T111715Z
UID:59703-1705622400-1708905599@www.cm-santiagocacem.pt
SUMMARY:Exposição "Imago Mundi" no Auditório Municipal António Chainho
DESCRIPTION:Está patente de 19 de janeiro a 25 de fevereiro\, no Auditório Municipal António Chainho\, em Santiago do Cacém\, a exposição IMAGO MUNDI. \nIMAGO MUNDI significa “Representação do Mundo” e foi o título de um projeto de investigação desenvolvido durante os anos de 2022 e 2023\, financiado pelo Politécnico de Lisboa (ao abrigo da 7.ª edição do concurso ID&CA). Este projeto integrou um grupo alargado de participantes em Portugal\, Espanha e Roménia. \nA exposição que agora se apresenta procura dar um panorama geral dos processos de trabalho desenvolvidos no âmbito das artes visuais e nos quais participaram estudantes e professores do ensino básico\, secundário e superior\, bem como grupos comunitários nos municípios de Lisboa\, Almada\, Santiago do Cacém\, Constanta\, Bucareste (Roménia) e Ciudad Real (Espanha). \nO projeto IMAGO MUNDI – Cartografias\, Práticas Artísticas\, Comunidade e Representações do Território\, contou assim\, com inúmeras cumplicidades. Estas sinergias emergiram de perspetivas teóricas e interesses partilhados\, mas também de convivialidades\, de utopias e de um desejo de contribuir\, através das práticas artísticas\, para fomentar pensamento alargado sobre as convenções e as realidades sociais\, culturais e as heranças perpetuadas através da memória (dos espaços\, das pessoas\, dos saberes…). \nConsulte divulgação própria
URL:https://www.cm-santiagocacem.pt/evento/exposicao-imago-mundi-no-auditorio-municipal-antonio-chainho/
LOCATION:Auditório Municipal António Chainho
CATEGORIES:AR|Exposições,exposições
ATTACH;FMTTYPE=image/jpeg:https://www.cm-santiagocacem.pt/wp-content/uploads/Imago-Mundi.jpg
GEO:38.020338;-8.6939476
END:VEVENT
BEGIN:VEVENT
DTSTART;TZID=Europe/Lisbon:20240119T213000
DTEND;TZID=Europe/Lisbon:20240119T233000
DTSTAMP:20260425T121941
CREATED:20240103T094032Z
LAST-MODIFIED:20240115T110247Z
UID:59672-1705699800-1705707000@www.cm-santiagocacem.pt
SUMMARY:Milhanas nas "C"extas de Cultura
DESCRIPTION:As primeiras “C”extas de Cultura do ano sobem ao palco no dia 19 de janeiro\, às 21h30\, no Auditório Mário Primo\, na Escola Secundária Padre António Macedo\, em Vila Nova de Santo André\, com o espetáculo com Milhanas. \nMilhanas\, nascida em 2001\, começou a estudar música desde muito nova. Inspirada pela vida do pai\, elege Fausto como a sua maior influência musical.\nLançou o seu primeiro tema original\, “Lamentos”\, em 2021\, seguidos dos singles “Mais que ao Sol” e “Mundo”\, o seu álbum de estreia “De Sombra a Sombra” foi editado a 26 de maio de 2023.\n“Eu de Prosa” é o single em destaque e conta com o videoclipe no Youtube. “De Sombra a Sombra” explora as sombras e os lamentos de Milhanas\, que não quer que esta obra pareça uma “ode à tristeza”. \nBilhetes: 5\,00 € Sócios Quadricultura | 8\,00 € Público em geral\nLocais de venda: Vila Nova de Santo André: Biblioteca Municipal Manuel José “do Tojal”\nSantiago do Cacém: Auditório Municipal António Chainho \nOrganização: Quadricultura Associação\nApoio: Câmara Municipal de Santiago do Cacém\, Junta de Freguesia de Santo André e Agrupamento de Escolas de Santo André \n “C”extas de Cultura_Milhanas
URL:https://www.cm-santiagocacem.pt/evento/milhanas-nas-cextas-de-cultura/
LOCATION:Auditório Mário Primo – Escola Secundária Padre António Macedo
CATEGORIES:AR|Música,cultura,Música
ATTACH;FMTTYPE=image/jpeg:https://www.cm-santiagocacem.pt/wp-content/uploads/cartaz_milhanas_cextas_cultura.jpg
END:VEVENT
BEGIN:VEVENT
DTSTART;TZID=Europe/Lisbon:20240120T160000
DTEND;TZID=Europe/Lisbon:20240120T180000
DTSTAMP:20260425T121941
CREATED:20240103T095335Z
LAST-MODIFIED:20240110T114249Z
UID:59677-1705766400-1705773600@www.cm-santiagocacem.pt
SUMMARY:Sábado a Ler - Apresentação do Livro - O Sonho do Crocodilo - Inscrições Encerradas
DESCRIPTION:No dia 20 de janeiro\, às 16h00\, a Biblioteca Municipal Manuel da Fonseca\, em Santiago do Cacém\, recebe a apresentação do Livro – O Sonho do Crocodilo de Carla Moreira\, no âmbito do Sábado a Ler. \nUma história com yoga\, música e mindfulness. \nSessão de Yoga com música e práticas de mindfulness\, onde a autora explora o seu livro com as famílias. As crianças têm um papel ativo\, numa sessão que promete criar aproximação entre os membros da família\, e em simultâneo trabalhar o desenvolvimento motor e de coordenação\, bem como de gestão emocional. \nDestinatários: Crianças dos 12 meses aos 10 anos – Famílias \n Mediante inscrição prévia através do contacto 269 829 000 ou por e-mail: smba@cm-santiagocacem.pt (Inscrições Encerradas)
URL:https://www.cm-santiagocacem.pt/evento/sabado-a-ler-apresentacao-do-livro-o-sonho-do-crocodilo/
LOCATION:Biblioteca Municipal Manuel da Fonseca
CATEGORIES:AR|Infantil,Bibliotecas,cultura,Infantil,leitura
ATTACH;FMTTYPE=image/jpeg:https://www.cm-santiagocacem.pt/wp-content/uploads/20231028-O-sonho-do-Crocodilo.jpg
GEO:38.0194123;-8.6947907
END:VEVENT
BEGIN:VEVENT
DTSTART;TZID=Europe/Lisbon:20240121T093000
DTEND;TZID=Europe/Lisbon:20240121T130000
DTSTAMP:20260425T121941
CREATED:20240110T165109Z
LAST-MODIFIED:20240110T165109Z
UID:59779-1705829400-1705842000@www.cm-santiagocacem.pt
SUMMARY:Ação de Formação Técnicas de Nado Simultâneas
DESCRIPTION:A Federação Portuguesa de Natação em colaboração\, com a Câmara Municipal de Santiago do Cacém\, organiza uma ação de formação no âmbito do ensino das técnicas de nado simultâneas\, que decorrerá dia 21 de janeiro\, nas Piscinas Municipais de Santiago do Cacém.\n\nInscrições através do link: https://pt.surveymonkey.com/r/Y8M3RQQ
URL:https://www.cm-santiagocacem.pt/evento/acao-de-formacao-tecnicas-de-nado-simultaneas/
LOCATION:Câmara Municipal de Santiago do Cacém
CATEGORIES:AR|Desporto,desporto
ATTACH;FMTTYPE=image/jpeg:https://www.cm-santiagocacem.pt/wp-content/uploads/Cartaz-Tecnicas-de-Nado-Simultaneas.jpg
GEO:38.016484;-8.692808
END:VEVENT
BEGIN:VEVENT
DTSTART;VALUE=DATE:20240126
DTEND;VALUE=DATE:20240212
DTSTAMP:20260425T121941
CREATED:20240103T101140Z
LAST-MODIFIED:20240125T154434Z
UID:59680-1706227200-1707695999@www.cm-santiagocacem.pt
SUMMARY:9.ª edição do Festival da Enguia da Lagoa de Santo André
DESCRIPTION:De 26 de janeiro a 11 de fevereiro realiza-se a 9.ª edição do Festival da Enguia da Lagoa de Santo André\, onde os visitantes podem apreciar os melhores sabores desta magnífica iguaria\, que é a enguia. \nDurante 17 dias os visitantes poderão apreciar os melhores sabores dessa magnífica iguaria que é a enguia. \nEnguia de caldeirada\, de ensopado\, fritas ou grelhadas\, com os mais diversos acompanhamentos são pratos que vão à mesa do 9.º Festival da Enguia da Lagoa de Santo André – Mostra Gastronómica nos Restaurantes. \nO objetivo do Festival é impulsionar a economia local através da gastronomia e deste produto de excelência que é a enguia da Lagoa de Santo André. \nAproveite. Visite-nos! \n Programa-9.º Festival da Enguia da Lagoa de Santo André \nMapa da localização dos restaurantes aderentes\n		\n			\n								\n							\n					\n		\n  \n \n \n  \n 
URL:https://www.cm-santiagocacem.pt/evento/9-a-edicao-do-festival-da-enguia-da-lagoa-de-santo-andre/
LOCATION:Freguesia de Santo André
ATTACH;FMTTYPE=image/jpeg:https://www.cm-santiagocacem.pt/wp-content/uploads/A3-restaurantes.jpg
GEO:39.399872;-8.224454
END:VEVENT
BEGIN:VEVENT
DTSTART;TZID=Europe/Lisbon:20240126T100000
DTEND;TZID=Europe/Lisbon:20240126T100000
DTSTAMP:20260425T121941
CREATED:20240118T162037Z
LAST-MODIFIED:20240118T162157Z
UID:59901-1706263200-1706263200@www.cm-santiagocacem.pt
SUMMARY:Atendimento de apoio ao tecido empresarial e ao empreendedorismo – GAE
DESCRIPTION:Realiza-se no dia 26 de janeiro\, o Atendimento gratuito da ADRAL nas instalações do Gabinete de Apoio ao Empresário. \nFaça a sua marcação através do telefone 269 829 419 ou por e-mail ddet@cm-santiagocacem.pt \nUm atendimento personalizado e gratuito aos empresários\, por parte de técnicos da ADRAL\, que irá decorrer nas instalações do Gabinete de Apoio ao Empresário\, em Santiago do Cacém\, e nas Juntas de Freguesias para que não tenham de se deslocar à sede do Concelho. \nEste atendimento surge no âmbito do protocolo para o “Apoio ao Tecido Empresarial e ao Empreendedorismo”\, estabelecido entre a Câmara Municipal de Santiago do Cacém e a Agência de Desenvolvimento Regional do Alentejo (ADRAL)\, com o intuito de apoiar e fomentar o desenvolvimento económico sustentado do Município.
URL:https://www.cm-santiagocacem.pt/evento/atendimento-de-apoio-ao-tecido-empresarial-e-ao-empreendedorismo-gae-3/
LOCATION:Gabinete de Apoio ao Empresário\, Portugal
CATEGORIES:desenvolvimento económico
ATTACH;FMTTYPE=image/png:https://www.cm-santiagocacem.pt/wp-content/uploads/GAE-atendimentos-jan-2024.png
GEO:39.399872;-8.224454
END:VEVENT
BEGIN:VEVENT
DTSTART;TZID=Europe/Lisbon:20240128T090000
DTEND;TZID=Europe/Lisbon:20240128T200000
DTSTAMP:20260425T121941
CREATED:20240109T175451Z
LAST-MODIFIED:20240109T175451Z
UID:59749-1706432400-1706472000@www.cm-santiagocacem.pt
SUMMARY:Campeonato Nacional de Enduro
DESCRIPTION:Dia 28 de janeiro\, Santiago do Cacém recebe a primeira prova do Campeonato Nacional de Enduro.\nVem assistir e apoiar os melhores pilotos da modalidade!\n 
URL:https://www.cm-santiagocacem.pt/evento/campeonato-nacional-de-enduro-2/
CATEGORIES:desporto
ATTACH;FMTTYPE=image/jpeg:https://www.cm-santiagocacem.pt/wp-content/uploads/Cartaz-ENDURO-3.jpg
END:VEVENT
BEGIN:VEVENT
DTSTART;TZID=Europe/Lisbon:20240128T160000
DTEND;TZID=Europe/Lisbon:20240128T173000
DTSTAMP:20260425T121941
CREATED:20231222T104729Z
LAST-MODIFIED:20240104T172252Z
UID:59580-1706457600-1706463000@www.cm-santiagocacem.pt
SUMMARY:Concerto "Sons daqui e do Mundo"
DESCRIPTION:No dia 28 de janeiro\, às 16h00\, realiza-se o Concerto “Sons daqui e do Mundo” com a Banda da Sociedade Recreativa Filarmónica União Artística de Santiago do Cacém (SRFUA) e a Escola de Música da SRFUA\,  dirigidos pelo Maestro Pedro Guerreiro  com a participação de alguns convidados. \nA SRFUA promoveu o seu último concerto no Auditório Municipal António Chainho\, em 2019. Passados  cinco anos\, apresenta o seu concerto de Ano Novo. “Sons daqui e do Mundo” é uma viagem musical que atravessa gerações e continentes. \nOs concertos de Ano Novo são já uma tradição\, que dão\, assim\, as boas-vindas a mais um ano repleto de boa música.
URL:https://www.cm-santiagocacem.pt/evento/concerto-sons-daqui-e-do-mundo/
LOCATION:Auditório Municipal António Chainho
CATEGORIES:AR|Música,Música
ATTACH;FMTTYPE=image/jpeg:https://www.cm-santiagocacem.pt/wp-content/uploads/cartaz-SRFUA-1.jpg
GEO:38.020338;-8.6939476
END:VEVENT
BEGIN:VEVENT
DTSTART;TZID=Europe/Lisbon:20240129T180000
DTEND;TZID=Europe/Lisbon:20240129T200000
DTSTAMP:20260425T121941
CREATED:20240122T161703Z
LAST-MODIFIED:20240122T161703Z
UID:59953-1706551200-1706558400@www.cm-santiagocacem.pt
SUMMARY:Apresentação do projeto de requalificação da av. D. Nuno Álvares Pereira
DESCRIPTION:A Câmara Municipal de Santiago do Cacém vai realizar a apresentação pública do projeto de requalificação da Av. D. Nuno Álvares Pereira\, em Santiago do Cacém\, no dia 29 de janeiro\, pelas 18h00\, na Sala de Sessões\, do edifício-sede do município.\nParticipe!
URL:https://www.cm-santiagocacem.pt/evento/apresentacao-do-projeto-de-requalificacao-da-av-d-nuno-alvares-pereira/
LOCATION:Câmara Municipal de Santiago do Cacém
CATEGORIES:informação
ATTACH;FMTTYPE=image/jpeg:https://www.cm-santiagocacem.pt/wp-content/uploads/convite-requalificacao-scaled.jpg
GEO:38.016484;-8.692808
END:VEVENT
BEGIN:VEVENT
DTSTART;TZID=Europe/Lisbon:20240131T100000
DTEND;TZID=Europe/Lisbon:20240131T100000
DTSTAMP:20260425T121941
CREATED:20240129T095218Z
LAST-MODIFIED:20240129T095242Z
UID:60049-1706695200-1706695200@www.cm-santiagocacem.pt
SUMMARY:Atendimento de apoio ao tecido empresarial e ao empreendedorismo – Junta de Freguesia de Alvalade
DESCRIPTION:Realiza-se no dia 31 de janeiro\, o Atendimento gratuito da ADRAL nas instalações da Junta de Freguesia de Alvalade. \nFaça a sua marcação através do telefone 269 829 419 ou por e-mail ddet@cm-santiagocacem.pt \nUm atendimento personalizado e gratuito aos empresários\, por parte de técnicos da ADRAL\, que irá decorrer nas instalações do Gabinete de Apoio ao Empresário\, em Santiago do Cacém\, e nas Juntas de Freguesias para que não tenham de se deslocar à sede do Concelho. \nEste atendimento surge no âmbito do protocolo para o “Apoio ao Tecido Empresarial e ao Empreendedorismo”\, estabelecido entre a Câmara Municipal de Santiago do Cacém e a Agência de Desenvolvimento Regional do Alentejo (ADRAL)\, com o intuito de apoiar e fomentar o desenvolvimento económico sustentado do Município.
URL:https://www.cm-santiagocacem.pt/evento/atendimento-de-apoio-ao-tecido-empresarial-e-ao-empreendedorismo-junta-de-freguesia-de-alvalade/
LOCATION:Junta de Freguesia de Alvalade\, Portugal
CATEGORIES:desenvolvimento económico
ATTACH;FMTTYPE=image/png:https://www.cm-santiagocacem.pt/wp-content/uploads/Atendimentos-Alvalade-31-jan-2024.png
GEO:39.399872;-8.224454
END:VEVENT
END:VCALENDAR