BEGIN:VCALENDAR
VERSION:2.0
PRODID:-//Câmara Municipal de Santiago do Cacém - ECPv6.15.18//NONSGML v1.0//EN
CALSCALE:GREGORIAN
METHOD:PUBLISH
X-WR-CALNAME:Câmara Municipal de Santiago do Cacém
X-ORIGINAL-URL:https://www.cm-santiagocacem.pt
X-WR-CALDESC:Eventos para Câmara Municipal de Santiago do Cacém
REFRESH-INTERVAL;VALUE=DURATION:PT1H
X-Robots-Tag:noindex
X-PUBLISHED-TTL:PT1H
BEGIN:VTIMEZONE
TZID:Europe/Paris
BEGIN:DAYLIGHT
TZOFFSETFROM:+0100
TZOFFSETTO:+0200
TZNAME:CEST
DTSTART:20160327T010000
END:DAYLIGHT
BEGIN:STANDARD
TZOFFSETFROM:+0200
TZOFFSETTO:+0100
TZNAME:CET
DTSTART:20161030T010000
END:STANDARD
BEGIN:DAYLIGHT
TZOFFSETFROM:+0100
TZOFFSETTO:+0200
TZNAME:CEST
DTSTART:20170326T010000
END:DAYLIGHT
BEGIN:STANDARD
TZOFFSETFROM:+0200
TZOFFSETTO:+0100
TZNAME:CET
DTSTART:20171029T010000
END:STANDARD
BEGIN:DAYLIGHT
TZOFFSETFROM:+0100
TZOFFSETTO:+0200
TZNAME:CEST
DTSTART:20180325T010000
END:DAYLIGHT
BEGIN:STANDARD
TZOFFSETFROM:+0200
TZOFFSETTO:+0100
TZNAME:CET
DTSTART:20181028T010000
END:STANDARD
END:VTIMEZONE
BEGIN:VEVENT
DTSTART;VALUE=DATE:20170520
DTEND;VALUE=DATE:20170901
DTSTAMP:20260420T072122
CREATED:20170526T080834Z
LAST-MODIFIED:20170526T082327Z
UID:12498-1495238400-1504223999@www.cm-santiagocacem.pt
SUMMARY:Exposição "A Cortiça"
DESCRIPTION:De 20 de maio a 31 de agosto\, no Museu Municipal de Santiago do Cacém\, exposição de fotografia a preto e branco\, artefactos e artesanato. Coleção do Museu Municipal. \nHorário\n\nde 3.ª a 6.ª – feira\, das 10h00 às 12h00 e das 14h00 às 16h30;\nSábados das 12h00 às 18h00;\nEncerra às segundas\, domingos e feriados.\n\nContactos\n Praça do Município\n 269 827 375\n  museu@cm-santiagocacem.pt
URL:https://www.cm-santiagocacem.pt/evento/exposicao-a-cortica/
LOCATION:Santiago do Cacém
CATEGORIES:cultura
ATTACH;FMTTYPE=image/jpeg:https://www.cm-santiagocacem.pt/wp-content/uploads/A-Cortiça.jpg
GEO:38.016521;-8.692972
END:VEVENT
BEGIN:VEVENT
DTSTART;TZID=Europe/Paris:20170601T000000
DTEND;TZID=Europe/Paris:20170915T000000
DTSTAMP:20260420T072122
CREATED:20170906T135221Z
LAST-MODIFIED:20170906T135221Z
UID:13818-1496275200-1505433600@www.cm-santiagocacem.pt
SUMMARY:Concurso de fotografia "Agricultura com Vida"
DESCRIPTION:Decorre até 15 de setembro o concurso de fotografia promovido pela Alensado e ARBCAS. Com o apoio da Câmara Municipal. Participe!
URL:https://www.cm-santiagocacem.pt/evento/concurso-de-fotografia-agricultura-com-vida/
CATEGORIES:ambiente
ATTACH;FMTTYPE=image/jpeg:https://www.cm-santiagocacem.pt/wp-content/uploads/cartaz-concurso-fotografico1.jpg
END:VEVENT
BEGIN:VEVENT
DTSTART;TZID=Europe/Paris:20170617T160000
DTEND;TZID=Europe/Paris:20170916T170000
DTSTAMP:20260420T072122
CREATED:20170616T132923Z
LAST-MODIFIED:20170616T132923Z
UID:12837-1497715200-1505581200@www.cm-santiagocacem.pt
SUMMARY:Exposição de pintura de Claude Yersin
DESCRIPTION:De 17 de junho a 16 de setembro\, no Museu Municipal de Santiago do Cacém. Saiba mais sobre o pintor Claude Yersin AQUI \n  \n 
URL:https://www.cm-santiagocacem.pt/evento/exposicao-de-pintura-de-claude-yersin/
CATEGORIES:cultura
ATTACH;FMTTYPE=image/jpeg:https://www.cm-santiagocacem.pt/wp-content/uploads/cartaz-6.jpg
END:VEVENT
BEGIN:VEVENT
DTSTART;TZID=Europe/Paris:20170630T170000
DTEND;TZID=Europe/Paris:20170725T233000
DTSTAMP:20260420T072122
CREATED:20170630T103219Z
LAST-MODIFIED:20170713T113438Z
UID:12991-1498842000-1501025400@www.cm-santiagocacem.pt
SUMMARY:Tasquinhas - Mercado à Mesa 2017
DESCRIPTION:De 30 de Junho a 25 de Julho\, no Mercado Municipal de Santiago do Cacém. Promoção e divulgação de gastronomia\, artesanato\, serviços e cultura da região. \n Folheto Tasquinhas – Mercado à Mesa
URL:https://www.cm-santiagocacem.pt/evento/tasquinhas-mercado-a-mesa-2017/
CATEGORIES:desenvolvimento económico,Festas,Música
ATTACH;FMTTYPE=image/jpeg:https://www.cm-santiagocacem.pt/wp-content/uploads/tasquinhas-frente.jpg
END:VEVENT
BEGIN:VEVENT
DTSTART;VALUE=DATE:20170701
DTEND;VALUE=DATE:20170801
DTSTAMP:20260420T072122
CREATED:20170703T101851Z
LAST-MODIFIED:20170703T101624Z
UID:12504-1498867200-1501545599@www.cm-santiagocacem.pt
SUMMARY:Programação cultural julho 2017
DESCRIPTION:Programação Cultural no Município de Santiago do Cacém para o mês de julho. Conheça as atividades de 1 a 31 de julho nos equipamentos municipais…e não só! \n Programação cultural julho \n 
URL:https://www.cm-santiagocacem.pt/evento/programacao-cultural-junho-2017/
LOCATION:Município de Santiago do Cacém
CATEGORIES:cultura
ATTACH;FMTTYPE=image/jpeg:https://www.cm-santiagocacem.pt/wp-content/uploads/CAPA-AGENDA.jpg
GEO:37.9380587;-8.6994583
END:VEVENT
BEGIN:VEVENT
DTSTART;VALUE=DATE:20170703
DTEND;VALUE=DATE:20170729
DTSTAMP:20260420T072122
CREATED:20170524T114314Z
LAST-MODIFIED:20170524T114314Z
UID:12463-1499040000-1501286399@www.cm-santiagocacem.pt
SUMMARY:Férias Jovens 2017
DESCRIPTION:Entre 3 e 28 de julho\, realizam-se as Férias Jovens 2017. Se tens entre 7 e 14 anos inscreve-te e vem passar bons momentos connosco. Inscrições de 29 de maio a 2 de junho nas Piscinas Municipais e nas Juntas de Freguesia da tua área de residência. \nVamos proporcionar muitas atividades desportivas ao ar livre\, cinema\, praia e muito convívio! \n Ficha de inscrição
URL:https://www.cm-santiagocacem.pt/evento/ferias-jovens-2017/
LOCATION:Município de Santiago do Cacém
CATEGORIES:desporto,educação
ATTACH;FMTTYPE=image/jpeg:https://www.cm-santiagocacem.pt/wp-content/uploads/ferias-jovens.jpg
GEO:37.9380587;-8.6994583
END:VEVENT
BEGIN:VEVENT
DTSTART;TZID=Europe/Paris:20170703T000000
DTEND;TZID=Europe/Paris:20170729T000000
DTSTAMP:20260420T072122
CREATED:20170628T142835Z
LAST-MODIFIED:20170628T142835Z
UID:12979-1499040000-1501286400@www.cm-santiagocacem.pt
SUMMARY:Exposição - São os Passos que Fazem o Caminho
DESCRIPTION:De 3 a 29 de julho\, exposição de autoria de Maria Joyce\, na Biblioteca Municipal Manuel José “do Tojal”.
URL:https://www.cm-santiagocacem.pt/evento/exposicao-sao-os-passos-que-fazem-o-caminho/
LOCATION:Biblioteca Municipal Manuel José “do Tojal”\, Empreendimento Brasil\, Edifício Copacabana\, Bloco A e B\, Vila Nova de Santo André\, 7500-170\, Portugal
CATEGORIES:cultura
ATTACH;FMTTYPE=image/jpeg:https://www.cm-santiagocacem.pt/wp-content/uploads/expo-maria-joyce.jpg
GEO:38.060881;-8.786755
X-APPLE-STRUCTURED-LOCATION;VALUE=URI;X-ADDRESS=Biblioteca Municipal Manuel José “do Tojal” Empreendimento Brasil Edifício Copacabana Bloco A e B Vila Nova de Santo André 7500-170 Portugal;X-APPLE-RADIUS=500;X-TITLE=Empreendimento Brasil\, Edifício Copacabana\, Bloco A e B:geo:-8.786755,38.060881
END:VEVENT
BEGIN:VEVENT
DTSTART;VALUE=DATE:20170704
DTEND;VALUE=DATE:20170731
DTSTAMP:20260420T072122
CREATED:20170706T094315Z
LAST-MODIFIED:20170706T094315Z
UID:13072-1499126400-1501459199@www.cm-santiagocacem.pt
SUMMARY:Tapeçaria da Gertrudes
DESCRIPTION:Está patente de 4 a 30 de julho\, no Auditório Municipal António Chainho\, em Santiago do Cacém\, a exposição de Tapeçaria de Arraiolos de Gertrudes Rabadão. Visite!
URL:https://www.cm-santiagocacem.pt/evento/tapecaria-da-gertrudes/
LOCATION:Auditório Municipal António Chainho
CATEGORIES:cultura
ATTACH;FMTTYPE=image/jpeg:https://www.cm-santiagocacem.pt/wp-content/uploads/tapecaria_gertrudes.jpg
GEO:38.020338;-8.6939476
END:VEVENT
BEGIN:VEVENT
DTSTART;VALUE=DATE:20170704
DTEND;VALUE=DATE:20170902
DTSTAMP:20260420T072122
CREATED:20170622T103353Z
LAST-MODIFIED:20170804T102829Z
UID:12892-1499126400-1504310399@www.cm-santiagocacem.pt
SUMMARY:Biblioteca no Parque do Rio da Figueira
DESCRIPTION:De 4 de julho a 1 de setembro\, a Biblioteca no Parque do Rio da Figueira disponibiliza livros\, jornais e revistas para leitura presencial\, realização de ateliês e jogos lúdicos.
URL:https://www.cm-santiagocacem.pt/evento/biblioteca-no-parque-do-rio-da-figueira/
CATEGORIES:cultura
ATTACH;FMTTYPE=image/jpeg:https://www.cm-santiagocacem.pt/wp-content/uploads/biblioteca_parque_urbano_rio_figueira.jpg
END:VEVENT
BEGIN:VEVENT
DTSTART;TZID=Europe/Paris:20170721T200000
DTEND;TZID=Europe/Paris:20170722T233000
DTSTAMP:20260420T072122
CREATED:20170713T133019Z
LAST-MODIFIED:20170714T080930Z
UID:13209-1500667200-1500766200@www.cm-santiagocacem.pt
SUMMARY:Santiago Style Weekend
DESCRIPTION:Nos dias 21 e 22 de julho está de volta a Santiago do Cacém o Santiago Style Weekend. Horários das lojas alargados\, promoções nas lojas aderentes\, animação\, música\, degustações e muito mais. Venha divertir-se! \n Programa completo
URL:https://www.cm-santiagocacem.pt/evento/santiago-style-weekend/
LOCATION:Santiago do Cacém
CATEGORIES:desenvolvimento económico
ATTACH;FMTTYPE=image/jpeg:https://www.cm-santiagocacem.pt/wp-content/uploads/Santiago-Style-Weekend-_cartaz.jpg
GEO:38.0117398;-8.794709,12
END:VEVENT
BEGIN:VEVENT
DTSTART;VALUE=DATE:20170722
DTEND;VALUE=DATE:20170723
DTSTAMP:20260420T072122
CREATED:20170706T095506Z
LAST-MODIFIED:20170706T095506Z
UID:13074-1500681600-1500767999@www.cm-santiagocacem.pt
SUMMARY:Santo André Beach Rugby
DESCRIPTION:No dia 22 de julho\, na praia da Costa de Santo André\, realiza-se a 3.ª e última etapa do circuito nacional do Portugal Beach Rugby Series. Não perca esta oportunidade. Venha assistir a esta festa do desporto!
URL:https://www.cm-santiagocacem.pt/evento/santo-andre-beach-rugby/
LOCATION:Praia da Costa de Santo André
CATEGORIES:desporto
ATTACH;FMTTYPE=image/jpeg:https://www.cm-santiagocacem.pt/wp-content/uploads/Rugby1.jpg
END:VEVENT
BEGIN:VEVENT
DTSTART;TZID=Europe/Paris:20170722T103000
DTEND;TZID=Europe/Paris:20170722T103000
DTSTAMP:20260420T072122
CREATED:20170710T101446Z
LAST-MODIFIED:20170710T101558Z
UID:13131-1500719400-1500719400@www.cm-santiagocacem.pt
SUMMARY:Inauguração do  relvado sintético do Campo de Futebol Municipal de Alvalade
DESCRIPTION:Dia 22 de julho\, às 10h30\, a Câmara Municipal de Santiago do Cacém e o Futebol Clube Alvaladense convida-o a estar presente na inauguração do relvado sintético do Campo de Futebol Municipal de Alvalade.
URL:https://www.cm-santiagocacem.pt/evento/13131/
LOCATION:Alvalade
CATEGORIES:desporto
ATTACH;FMTTYPE=image/jpeg:https://www.cm-santiagocacem.pt/wp-content/uploads/inauguracao_relvado-sintetico-alvalade.jpg
GEO:37.9403686;-8.3938334
END:VEVENT
BEGIN:VEVENT
DTSTART;TZID=Europe/Paris:20170723T090000
DTEND;TZID=Europe/Paris:20170723T090000
DTSTAMP:20260420T072122
CREATED:20170707T101151Z
LAST-MODIFIED:20170707T101421Z
UID:13115-1500800400-1500800400@www.cm-santiagocacem.pt
SUMMARY:A cada passo uma história
DESCRIPTION:Dia 23 de julho\, a partir das 9h00\, realiza-se a 3.ª edição do peddy paper “A cada passo uma história”\, organizado pela Junta de Freguesia da União de Freguesias de Santiago do Cacém\, Santa Cruz e São Bartolomeu da Serra. Atividades para toda a família no Sítio Arqueológico de Miróbriga.\nNo final do percurso a Junta de Freguesia da União de Freguesias de Santiago do Cacém\, Santa Cruz e São Bartolomeu da Serra oferece o almoço a todos os participantes inscritos. \nInscrições até 18 de julho na Junta de Freguesia da União de Freguesias de Santiago do Cacém\, Santa Cruz e São Bartolomeu da Serra ou em csfsantiago@gmail.com \n Ficha de inscrição
URL:https://www.cm-santiagocacem.pt/evento/a-cada-passo-uma-historia/
LOCATION:Santiago do Cacém
CATEGORIES:cultura,desporto
ATTACH;FMTTYPE=image/jpeg:https://www.cm-santiagocacem.pt/wp-content/uploads/Cartaz-Peddy-paper.jpg
GEO:38.0117398;-8.794709,12
END:VEVENT
BEGIN:VEVENT
DTSTART;TZID=Europe/Paris:20170723T120000
DTEND;TZID=Europe/Paris:20170723T120000
DTSTAMP:20260420T072122
CREATED:20170712T075718Z
LAST-MODIFIED:20170712T075718Z
UID:13154-1500811200-1500811200@www.cm-santiagocacem.pt
SUMMARY:2.ª Festa Pioneiros de Santo André
DESCRIPTION:Dia 23 de julho\, a partir das 12h00\, no Bairro da Lagartixa. Traz o teu “farnel” e junta-te à festa.
URL:https://www.cm-santiagocacem.pt/evento/2-a-festa-pioneiros-de-santo-andre/
LOCATION:Vila Nova de Santo André
CATEGORIES:Festas
ATTACH;FMTTYPE=image/jpeg:https://www.cm-santiagocacem.pt/wp-content/uploads/Festa-dos-Pioneiros-2017.jpg
GEO:38.0531218;-8.7524636
END:VEVENT
END:VCALENDAR