BEGIN:VCALENDAR
VERSION:2.0
PRODID:-//Câmara Municipal de Santiago do Cacém - ECPv6.15.18//NONSGML v1.0//EN
CALSCALE:GREGORIAN
METHOD:PUBLISH
X-ORIGINAL-URL:https://www.cm-santiagocacem.pt
X-WR-CALDESC:Eventos para Câmara Municipal de Santiago do Cacém
REFRESH-INTERVAL;VALUE=DURATION:PT1H
X-Robots-Tag:noindex
X-PUBLISHED-TTL:PT1H
BEGIN:VTIMEZONE
TZID:Europe/Paris
BEGIN:DAYLIGHT
TZOFFSETFROM:+0100
TZOFFSETTO:+0200
TZNAME:CEST
DTSTART:20160327T010000
END:DAYLIGHT
BEGIN:STANDARD
TZOFFSETFROM:+0200
TZOFFSETTO:+0100
TZNAME:CET
DTSTART:20161030T010000
END:STANDARD
BEGIN:DAYLIGHT
TZOFFSETFROM:+0100
TZOFFSETTO:+0200
TZNAME:CEST
DTSTART:20170326T010000
END:DAYLIGHT
BEGIN:STANDARD
TZOFFSETFROM:+0200
TZOFFSETTO:+0100
TZNAME:CET
DTSTART:20171029T010000
END:STANDARD
BEGIN:DAYLIGHT
TZOFFSETFROM:+0100
TZOFFSETTO:+0200
TZNAME:CEST
DTSTART:20180325T010000
END:DAYLIGHT
BEGIN:STANDARD
TZOFFSETFROM:+0200
TZOFFSETTO:+0100
TZNAME:CET
DTSTART:20181028T010000
END:STANDARD
BEGIN:DAYLIGHT
TZOFFSETFROM:+0100
TZOFFSETTO:+0200
TZNAME:CEST
DTSTART:20190331T010000
END:DAYLIGHT
BEGIN:STANDARD
TZOFFSETFROM:+0200
TZOFFSETTO:+0100
TZNAME:CET
DTSTART:20191027T010000
END:STANDARD
END:VTIMEZONE
BEGIN:VEVENT
DTSTART;VALUE=DATE:20170911
DTEND;VALUE=DATE:20171030
DTSTAMP:20260420T011156
CREATED:20170925T152655Z
LAST-MODIFIED:20170925T152655Z
UID:14156-1505088000-1509321599@www.cm-santiagocacem.pt
SUMMARY:Cinema em Cartaz
DESCRIPTION:De 11 de setembro a 29 de outubro está patente no Auditório Municipal António Chainho a exposição “Cinema em cartaz”. \nPequena retrospetiva de cartazes de filmes exibidos no Cine-Teatro da Sociedade Harmonia na década de 50. Foram muitos os filmes exibidos nesta centenária sala e muitos milhares de pessoas que viram cinema\, em grande ecrã\, pela primeira vez. Filmes como SUPER HOMEM com Danny Kaye ou OS HOMENS PREFEREM AS LOIRAS com Marilyn Monroe.
URL:https://www.cm-santiagocacem.pt/evento/cinema-em-cartaz/
LOCATION:Auditório Municipal António Chainho
CATEGORIES:cultura,exposições
ATTACH;FMTTYPE=image/jpeg:https://www.cm-santiagocacem.pt/wp-content/uploads/cinema-cartaz.jpg
GEO:38.020338;-8.6939476
END:VEVENT
BEGIN:VEVENT
DTSTART;VALUE=DATE:20170930
DTEND;VALUE=DATE:20180107
DTSTAMP:20260420T011156
CREATED:20170921T082143Z
LAST-MODIFIED:20170921T085150Z
UID:14096-1506729600-1515283199@www.cm-santiagocacem.pt
SUMMARY:Pinturas com História...
DESCRIPTION:No dia 30 de setembro\, às 16h30\, no Museu Municipal de Santiago do Cacém\, é inaugurada a exposição de Nelson Pires\, que vai estar patente de 30 de setembro a 6 de janeiro de 2018.
URL:https://www.cm-santiagocacem.pt/evento/pinturas-com-historia/
LOCATION:Museu Municipal de Santiago do Cacém\, Portugal
CATEGORIES:cultura
ATTACH;FMTTYPE=image/jpeg:https://www.cm-santiagocacem.pt/wp-content/uploads/Nelson-Pires-Expo_cartaz.jpg
GEO:38.0164199;-8.6919527
END:VEVENT
BEGIN:VEVENT
DTSTART;VALUE=DATE:20171002
DTEND;VALUE=DATE:20171029
DTSTAMP:20260420T011156
CREATED:20170919T133739Z
LAST-MODIFIED:20170919T133739Z
UID:14074-1506902400-1509235199@www.cm-santiagocacem.pt
SUMMARY:Rostos de Escrita de Manuel da Fonseca
DESCRIPTION:De 2 a 28 de outubro\, está patente na Biblioteca Municipal Manuel da Fonseca\, em Santiago do Cacém\, a exposição “Rostos de Escrita de Manuel da Fonseca”. \nNatural de Santiago do Cacém\, foi escritor\, poeta\, contista\, romancista\, cronista e um dos maiores escritores de neorealismo literário português\, sendo a sua obra fortemente autobiográfica\, já que as personagens que recriou e a realidade nela descrita\, estão intimamente ligadas a experiências vividas e a uma unidade psicológica coesa. A sua poesia é dotada de uma oralidade dramática impregnada de tradições e costumes populares. Da sua obra destacam-se Cerromaior (1943) e Seara do Vento (1958).
URL:https://www.cm-santiagocacem.pt/evento/rostos-de-escrita-de-manuel-da-fonseca/
LOCATION:Biblioteca Municipal Manuel da Fonseca
CATEGORIES:cultura
ATTACH;FMTTYPE=image/jpeg:https://www.cm-santiagocacem.pt/wp-content/uploads/rostos-de-escrita.jpg
GEO:38.0194123;-8.6947907
END:VEVENT
BEGIN:VEVENT
DTSTART;VALUE=DATE:20171002
DTEND;VALUE=DATE:20171101
DTSTAMP:20260420T011156
CREATED:20170928T105436Z
LAST-MODIFIED:20170928T105436Z
UID:14198-1506902400-1509494399@www.cm-santiagocacem.pt
SUMMARY:Pedras soltas? Godos mágicos?
DESCRIPTION:De 2 a 31 de outubro\, está patente na Biblioteca Municipal Manuel José “Do Tojal”\, em Vila Nova de Santo André\, a exposição de pintura de Helena Valentim. \nDepois de lapidadas\, esmeriladas e polidas pelos oceanos ao longo de eras\, roubadas e devolvidas às praias em cada invernia\, as pedras roladas ou godos (expressão utilizada no Norte do país) foram recolhidas uma a uma durante mais de trinta anos de proximidade do mar\, eis que regressam transformadas com paciência e criatividade pelas mãos de Helena Valentim\, numa exposição de pintura.
URL:https://www.cm-santiagocacem.pt/evento/pedras-soltas-godos-magicos/
LOCATION:Biblioteca Municipal Manuel José “do Tojal”\, Empreendimento Brasil\, Edifício Copacabana\, Bloco A e B\, Vila Nova de Santo André\, 7500-170\, Portugal
CATEGORIES:exposições
ATTACH;FMTTYPE=image/jpeg:https://www.cm-santiagocacem.pt/wp-content/uploads/pedras-soltas.jpg
GEO:38.060881;-8.786755
X-APPLE-STRUCTURED-LOCATION;VALUE=URI;X-ADDRESS=Biblioteca Municipal Manuel José “do Tojal” Empreendimento Brasil Edifício Copacabana Bloco A e B Vila Nova de Santo André 7500-170 Portugal;X-APPLE-RADIUS=500;X-TITLE=Empreendimento Brasil\, Edifício Copacabana\, Bloco A e B:geo:-8.786755,38.060881
END:VEVENT
BEGIN:VEVENT
DTSTART;VALUE=DATE:20171010
DTEND;VALUE=DATE:20171011
DTSTAMP:20260420T011156
CREATED:20171006T142229Z
LAST-MODIFIED:20171006T142229Z
UID:14326-1507593600-1507679999@www.cm-santiagocacem.pt
SUMMARY:Semana da Saúde Mental de Sines
DESCRIPTION:O projecto CLDS 3G Viver + Sines em parceria com a Câmara Municipal de Sines\, o IEFP e a Cercisiago irá realizar uma sessão informativa sobre as medidas de apoio à contratação de pessoas com deficiência e incapacidade\, no dia 10 de outubro\, às 14h30\, no Salão Nobre Paços do Concelho – Câmara Municipal de Sines\, Largo Ramos da Costa nº 16. \nSessão para técnicos/as de recursos humanos\, dirigentes associativos e empresários/as. \n  \nInscrições através do link: Inscrição Sessão Informativa
URL:https://www.cm-santiagocacem.pt/evento/semana-da-saude-mental-de-sines/
ATTACH;FMTTYPE=image/jpeg:https://www.cm-santiagocacem.pt/wp-content/uploads/Nova-imagem-13.jpg
END:VEVENT
BEGIN:VEVENT
DTSTART;TZID=Europe/Paris:20171013T000000
DTEND;TZID=Europe/Paris:20171115T000000
DTSTAMP:20260420T011156
CREATED:20171013T150244Z
LAST-MODIFIED:20171013T150244Z
UID:14429-1507852800-1510704000@www.cm-santiagocacem.pt
SUMMARY:Queres ser árbitro?
DESCRIPTION:Estão abertas inscrições até ao dia 15 de novembro\, no Núcleo de Confraternização de Árbitros de Futebol de Santiago do Cacém.
URL:https://www.cm-santiagocacem.pt/evento/queres-ser-arbitro/
CATEGORIES:desporto
ATTACH;FMTTYPE=image/jpeg:https://www.cm-santiagocacem.pt/wp-content/uploads/cartaz-curso-candidatos.jpg
END:VEVENT
BEGIN:VEVENT
DTSTART;VALUE=DATE:20171014
DTEND;VALUE=DATE:20171015
DTSTAMP:20260420T011156
CREATED:20171013T155317Z
LAST-MODIFIED:20171013T155317Z
UID:14432-1507939200-1508025599@www.cm-santiagocacem.pt
SUMMARY:Feira de Trocas e Baldrocas
DESCRIPTION:Dia 14 de outubro\, Jardim Municipal de Santiago do Cacém.
URL:https://www.cm-santiagocacem.pt/evento/feira-de-trocas-e-baldrocas-2/
LOCATION:Santiago do Cacém
ATTACH;FMTTYPE=image/jpeg:https://www.cm-santiagocacem.pt/wp-content/uploads/feiradaladra-3.jpg
GEO:38.016521;-8.692972
END:VEVENT
BEGIN:VEVENT
DTSTART;TZID=Europe/Paris:20171014T093000
DTEND;TZID=Europe/Paris:20171014T130000
DTSTAMP:20260420T011156
CREATED:20171009T081234Z
LAST-MODIFIED:20171009T081234Z
UID:14346-1507973400-1507986000@www.cm-santiagocacem.pt
SUMMARY:Mulheres Coragem
DESCRIPTION:Dia 14 de outubro\, a partir das 9h30\, no Parque de Merendas do Rio da Figueira\, no âmbito da prevenção do cancro da mama\, estão planeadas várias atividades lúdicas e informativas\, que terminam com um piquenique.
URL:https://www.cm-santiagocacem.pt/evento/mulheres-coragem/
LOCATION:Rio da Figueira
CATEGORIES:saúde
ATTACH;FMTTYPE=image/jpeg:https://www.cm-santiagocacem.pt/wp-content/uploads/Mulheres-coragem.jpg
END:VEVENT
BEGIN:VEVENT
DTSTART;TZID=Europe/Paris:20171014T160000
DTEND;TZID=Europe/Paris:20171014T180000
DTSTAMP:20260420T011156
CREATED:20171004T145854Z
LAST-MODIFIED:20171010T133133Z
UID:14312-1507996800-1508004000@www.cm-santiagocacem.pt
SUMMARY:Sábado a Ler...Leitura com mimos
DESCRIPTION:No dia 14 de outubro realiza-se na Biblioteca Municipal Manuel da Fonseca\, em Santiago do Cacém\, a iniciativa Sábado a Ler…Leitura com Mimos com Rira Mories. \nA partir de sugestivas intervenções\, a animadora\, Rira Mories\, irá interagir com os bebés e os pais. Utilizará elementos do quotidiano e revelará os segredos do livro através de rimas\, lengalengas\, canções de embalar e ilustrações. A animação contará com a ajuda de objetos\, sons\, música\, fantoches e livros adequados a bebés. \n16h00 – 1.ª Sessão: bebés dos 6 aos 18 meses\n17h00 – 2.ª Sessão: bebés dos 18 aos 36 meses
URL:https://www.cm-santiagocacem.pt/evento/sabado-a-ler-leitura-com-mimos/
LOCATION:Biblioteca Municipal Manuel da Fonseca
CATEGORIES:cultura
ATTACH;FMTTYPE=image/jpeg:https://www.cm-santiagocacem.pt/wp-content/uploads/leitura-com-mimos.jpg
GEO:38.0194123;-8.6947907
END:VEVENT
END:VCALENDAR