BEGIN:VCALENDAR
VERSION:2.0
PRODID:-//Câmara Municipal de Santiago do Cacém - ECPv6.15.18//NONSGML v1.0//EN
CALSCALE:GREGORIAN
METHOD:PUBLISH
X-WR-CALNAME:Câmara Municipal de Santiago do Cacém
X-ORIGINAL-URL:https://www.cm-santiagocacem.pt
X-WR-CALDESC:Eventos para Câmara Municipal de Santiago do Cacém
REFRESH-INTERVAL;VALUE=DURATION:PT1H
X-Robots-Tag:noindex
X-PUBLISHED-TTL:PT1H
BEGIN:VTIMEZONE
TZID:Europe/Paris
BEGIN:DAYLIGHT
TZOFFSETFROM:+0100
TZOFFSETTO:+0200
TZNAME:CEST
DTSTART:20160327T010000
END:DAYLIGHT
BEGIN:STANDARD
TZOFFSETFROM:+0200
TZOFFSETTO:+0100
TZNAME:CET
DTSTART:20161030T010000
END:STANDARD
BEGIN:DAYLIGHT
TZOFFSETFROM:+0100
TZOFFSETTO:+0200
TZNAME:CEST
DTSTART:20170326T010000
END:DAYLIGHT
BEGIN:STANDARD
TZOFFSETFROM:+0200
TZOFFSETTO:+0100
TZNAME:CET
DTSTART:20171029T010000
END:STANDARD
BEGIN:DAYLIGHT
TZOFFSETFROM:+0100
TZOFFSETTO:+0200
TZNAME:CEST
DTSTART:20180325T010000
END:DAYLIGHT
BEGIN:STANDARD
TZOFFSETFROM:+0200
TZOFFSETTO:+0100
TZNAME:CET
DTSTART:20181028T010000
END:STANDARD
BEGIN:DAYLIGHT
TZOFFSETFROM:+0100
TZOFFSETTO:+0200
TZNAME:CEST
DTSTART:20190331T010000
END:DAYLIGHT
BEGIN:STANDARD
TZOFFSETFROM:+0200
TZOFFSETTO:+0100
TZNAME:CET
DTSTART:20191027T010000
END:STANDARD
END:VTIMEZONE
BEGIN:VEVENT
DTSTART;VALUE=DATE:20170930
DTEND;VALUE=DATE:20180107
DTSTAMP:20260420T072134
CREATED:20170921T082143Z
LAST-MODIFIED:20170921T085150Z
UID:14096-1506729600-1515283199@www.cm-santiagocacem.pt
SUMMARY:Pinturas com História...
DESCRIPTION:No dia 30 de setembro\, às 16h30\, no Museu Municipal de Santiago do Cacém\, é inaugurada a exposição de Nelson Pires\, que vai estar patente de 30 de setembro a 6 de janeiro de 2018.
URL:https://www.cm-santiagocacem.pt/evento/pinturas-com-historia/
LOCATION:Museu Municipal de Santiago do Cacém\, Portugal
CATEGORIES:cultura
ATTACH;FMTTYPE=image/jpeg:https://www.cm-santiagocacem.pt/wp-content/uploads/Nelson-Pires-Expo_cartaz.jpg
GEO:38.0164199;-8.6919527
END:VEVENT
BEGIN:VEVENT
DTSTART;VALUE=DATE:20171102
DTEND;VALUE=DATE:20171203
DTSTAMP:20260420T072134
CREATED:20171102T153039Z
LAST-MODIFIED:20171102T153039Z
UID:14778-1509580800-1512259199@www.cm-santiagocacem.pt
SUMMARY:A Expressividade da Mudança
DESCRIPTION:De 2 de novembro a 2 de dezembro está patente na Biblioteca Municipal Manuel José “do Tojal”\, em Vila Nova de Santo André\, a exposição de desenho de Nuno Padilha. “Esta é uma exposição que reflete a fase de transição em que me encontro\, sem abandonar completamente o hiper-realismo\, mas servindo-me dele\, juntando experiências com outras técnicas e materiais mais expressivos\, como o carvão. Esta exposição mostra trabalhos da minha fase hiper-realista e trabalhos desta nova fase em que me encontro.”
URL:https://www.cm-santiagocacem.pt/evento/a-expressividade-da-mudanca/
LOCATION:Biblioteca Municipal Manuel José “do Tojal”\, Empreendimento Brasil\, Edifício Copacabana\, Bloco A e B\, Vila Nova de Santo André\, 7500-170\, Portugal
CATEGORIES:exposições
ATTACH;FMTTYPE=image/jpeg:https://www.cm-santiagocacem.pt/wp-content/uploads/Exposição_imagem2_Nuno_Padilha.jpg
GEO:38.060881;-8.786755
X-APPLE-STRUCTURED-LOCATION;VALUE=URI;X-ADDRESS=Biblioteca Municipal Manuel José “do Tojal” Empreendimento Brasil Edifício Copacabana Bloco A e B Vila Nova de Santo André 7500-170 Portugal;X-APPLE-RADIUS=500;X-TITLE=Empreendimento Brasil\, Edifício Copacabana\, Bloco A e B:geo:-8.786755,38.060881
END:VEVENT
BEGIN:VEVENT
DTSTART;VALUE=DATE:20171104
DTEND;VALUE=DATE:20171201
DTSTAMP:20260420T072134
CREATED:20171102T154758Z
LAST-MODIFIED:20171103T114432Z
UID:14783-1509753600-1512086399@www.cm-santiagocacem.pt
SUMMARY:Mostra documental "S. Martinho"
DESCRIPTION:De 4 a 30 de novembro\, na Biblioteca Municipal Manuel da Fonseca\, em Santiago do Cacém\, está patente a Mostra documental “S. Martinho”. O São Martinho comemora-se no dia 11 de novembro e segundo a lenda “Martinho um cavaleiro gaulês que no regresso a casa\, durante uma tempestade\, encontrou a meio do caminho um mendigo que lhe pediu esmola\, mas como não tinha mais nada que pudesse oferecer\, cortou o seu manto ao meio com a espada e deu-o ao pedinte. Foi nesse momento que a tempestade desapareceu e um sol radioso começou a brilhar – por altura do dia de S. Martinho\, comemorado a 11 de novembro\, o ríspido tempo de outono vai embora e o sol ilumina-se no céu.”
URL:https://www.cm-santiagocacem.pt/evento/mostra-documental-s-martinho/
LOCATION:Biblioteca Municipal Manuel da Fonseca
CATEGORIES:exposições
ATTACH;FMTTYPE=image/jpeg:https://www.cm-santiagocacem.pt/wp-content/uploads/mostra-documental.jpg
GEO:38.0194123;-8.6947907
END:VEVENT
BEGIN:VEVENT
DTSTART;TZID=Europe/Paris:20171125T090000
DTEND;TZID=Europe/Paris:20171125T130000
DTSTAMP:20260420T072134
CREATED:20171120T122039Z
LAST-MODIFIED:20171120T122039Z
UID:14968-1511600400-1511614800@www.cm-santiagocacem.pt
SUMMARY:Mercado das Bagageiras
DESCRIPTION:Dia 25 de novembro\, a partir das 9h00\, no Parque do Mercado Municipal de Vila Nova de Santo André\, realiza-se a VI edição do Mercado das Bagageiras. Vende/troca as tuas antiguidades\, velharias\, artesanato\, artigos em 2.ª mão… \nNesta edição o valor das inscrições reverte a favor dos “Escuteiros do Agrupamento 581 de Vila Nova de Santo André”.
URL:https://www.cm-santiagocacem.pt/evento/mercado-das-bagageiras-4/
LOCATION:Parque do Mercado Municipal de Vila Nova de Santo André
CATEGORIES:feiras
ATTACH;FMTTYPE=image/jpeg:https://www.cm-santiagocacem.pt/wp-content/uploads/Mercado-das-Bagageiras.jpg
END:VEVENT
BEGIN:VEVENT
DTSTART;TZID=Europe/Paris:20171125T110000
DTEND;TZID=Europe/Paris:20171125T110000
DTSTAMP:20260420T072134
CREATED:20171115T130641Z
LAST-MODIFIED:20171120T104526Z
UID:14926-1511607600-1511607600@www.cm-santiagocacem.pt
SUMMARY:Espaço Oficina - Frutástica
DESCRIPTION:No dia 25 de novembro\, às 11h00\, realiza-se no Mercado Municipal de Santiago do Cacém\, o Espaço Oficina – Frutástica. Se tens entre 6 e 12 anos\, não percas a oportunidade! Inscreve-te já! \nEm primeiro lugar\, nesta Oficina “Frutástica” queremos dar-te a noção do ciclo da fruta – nascimento\, crescimento e distribuição – depois\, pretendemos falar das suas potencialidades e\, no final\, com a orientação de Cláudia Salgueiro\, nutricionista da Câmara Municipal de Santiago do Cacém\, vamos perceber que a fruta é um alimento fundamental da nossa alimentação. \n \n Espaço Oficina – Frutástica
URL:https://www.cm-santiagocacem.pt/evento/espaco-oficina-frutastica/
LOCATION:Mercado Municipal de Santiago do Cacém
CATEGORIES:oficinas
ATTACH;FMTTYPE=image/jpeg:https://www.cm-santiagocacem.pt/wp-content/uploads/A5-Frutástica.jpg
END:VEVENT
BEGIN:VEVENT
DTSTART;TZID=Europe/Paris:20171125T163000
DTEND;TZID=Europe/Paris:20171125T163000
DTSTAMP:20260420T072134
CREATED:20171115T173642Z
LAST-MODIFIED:20171120T100453Z
UID:14935-1511627400-1511627400@www.cm-santiagocacem.pt
SUMMARY:Sábado a Ler...Criação de um postal em pop-up
DESCRIPTION:Dia 25 de novembro\, às 16h30\, na Biblioteca Municipal Manuel José “do Tojal”\, em Vila Nova de Santo André\, Sábado a Ler…Criação de um postal pop-up\, dinamizado por Marco Taylor.\nDepois de um visionamento de vários livros em pop-up\, onde serão exibidos exemplos das várias técnicas de engenharia de papel\, será construído um postal simples em pop-up. \nDestinatários: a partir dos 6 anos (n.º máximo de participantes: 10) \nInscrição prévia: smba@cm-santiagocacem.pt ou ao balcão das bibliotecas municipais
URL:https://www.cm-santiagocacem.pt/evento/sabado-a-ler-criacao-de-um-postal-em-pop-up/
LOCATION:Biblioteca Municipal Manuel José “do Tojal”\, Empreendimento Brasil\, Edifício Copacabana\, Bloco A e B\, Vila Nova de Santo André\, 7500-170\, Portugal
CATEGORIES:cultura
ATTACH;FMTTYPE=image/jpeg:https://www.cm-santiagocacem.pt/wp-content/uploads/Sábado-a-Ler.jpg
GEO:38.060881;-8.786755
X-APPLE-STRUCTURED-LOCATION;VALUE=URI;X-ADDRESS=Biblioteca Municipal Manuel José “do Tojal” Empreendimento Brasil Edifício Copacabana Bloco A e B Vila Nova de Santo André 7500-170 Portugal;X-APPLE-RADIUS=500;X-TITLE=Empreendimento Brasil\, Edifício Copacabana\, Bloco A e B:geo:-8.786755,38.060881
END:VEVENT
BEGIN:VEVENT
DTSTART;TZID=Europe/Paris:20171125T220000
DTEND;TZID=Europe/Paris:20171125T220000
DTSTAMP:20260420T072134
CREATED:20171115T132942Z
LAST-MODIFIED:20171115T132942Z
UID:14931-1511647200-1511647200@www.cm-santiagocacem.pt
SUMMARY:Espetáculo com os Amantes do Alentejo
DESCRIPTION:No dia 25 de novembro\, às 22h00\, no Auditório Municipal António Chainho\, em Santiago do Cacém\, os melhores êxitos do grupo de cantares alentejanos Os Amantes do Alentejo. Uma homenagem ao Bombeiro Mário Violante. Os bilhetes devem ser levantados no Auditório Municipal António \nBilhete: donativo à entrada – o valor angariado nas entradas  reverte a favor da Associação Humanitária de Bombeiros Mistos de Santiago do Cacém.
URL:https://www.cm-santiagocacem.pt/evento/espetaculo-com-os-amantes-do-alentejo/
LOCATION:Auditório Municipal António Chainho
CATEGORIES:Música
ATTACH;FMTTYPE=image/jpeg:https://www.cm-santiagocacem.pt/wp-content/uploads/amantes-alentejo-1.jpg
GEO:38.020338;-8.6939476
END:VEVENT
END:VCALENDAR