BEGIN:VCALENDAR
VERSION:2.0
PRODID:-//Câmara Municipal de Santiago do Cacém - ECPv6.15.18//NONSGML v1.0//EN
CALSCALE:GREGORIAN
METHOD:PUBLISH
X-ORIGINAL-URL:https://www.cm-santiagocacem.pt
X-WR-CALDESC:Eventos para Câmara Municipal de Santiago do Cacém
REFRESH-INTERVAL;VALUE=DURATION:PT1H
X-Robots-Tag:noindex
X-PUBLISHED-TTL:PT1H
BEGIN:VTIMEZONE
TZID:Europe/Lisbon
BEGIN:DAYLIGHT
TZOFFSETFROM:+0000
TZOFFSETTO:+0100
TZNAME:WEST
DTSTART:20190331T010000
END:DAYLIGHT
BEGIN:STANDARD
TZOFFSETFROM:+0100
TZOFFSETTO:+0000
TZNAME:WET
DTSTART:20191027T010000
END:STANDARD
BEGIN:DAYLIGHT
TZOFFSETFROM:+0000
TZOFFSETTO:+0100
TZNAME:WEST
DTSTART:20200329T010000
END:DAYLIGHT
BEGIN:STANDARD
TZOFFSETFROM:+0100
TZOFFSETTO:+0000
TZNAME:WET
DTSTART:20201025T010000
END:STANDARD
BEGIN:DAYLIGHT
TZOFFSETFROM:+0000
TZOFFSETTO:+0100
TZNAME:WEST
DTSTART:20210328T010000
END:DAYLIGHT
BEGIN:STANDARD
TZOFFSETFROM:+0100
TZOFFSETTO:+0000
TZNAME:WET
DTSTART:20211031T010000
END:STANDARD
END:VTIMEZONE
BEGIN:VEVENT
DTSTART;TZID=Europe/Lisbon:20200403T083000
DTEND;TZID=Europe/Lisbon:20200430T233000
DTSTAMP:20260424T190702
CREATED:20200403T073050Z
LAST-MODIFIED:20200408T090512Z
UID:33126-1585902600-1588289400@www.cm-santiagocacem.pt
SUMMARY:Vamos construir a árvore genealógica da nossa família
DESCRIPTION:Hoje\, o Arquivo Municipal de Santiago do Cacém propõe uma atividade divertida para fazer em família\, “A Minha Árvore Genealógica ” aceda ao dossiê explicativo em: https://www.cm-santiagocacem.pt/wp-content/uploads/A-minha-%C3%81rvore-Geneal%C3%B3gica.pdf     aqui são explicadas as ferramentas necessárias  que ajudam a construir uma árvore genealógica simples (até à 4.ª geração – bisavós). Mãos à obra e divirtam-se a descobrir a vossa família!
URL:https://www.cm-santiagocacem.pt/evento/vamos-construir-a-arvore-genealogica-da-nossa-familia/
LOCATION:Arquivo Municipal de Santiago do Cacém
CATEGORIES:AR|Infantil,história,Infantil
ATTACH;FMTTYPE=image/jpeg:https://www.cm-santiagocacem.pt/wp-content/uploads/Nova-imagem-1-22.jpg
END:VEVENT
END:VCALENDAR