BEGIN:VCALENDAR
VERSION:2.0
PRODID:-//Câmara Municipal de Santiago do Cacém - ECPv6.15.18//NONSGML v1.0//EN
CALSCALE:GREGORIAN
METHOD:PUBLISH
X-WR-CALNAME:Câmara Municipal de Santiago do Cacém
X-ORIGINAL-URL:https://www.cm-santiagocacem.pt
X-WR-CALDESC:Eventos para Câmara Municipal de Santiago do Cacém
REFRESH-INTERVAL;VALUE=DURATION:PT1H
X-Robots-Tag:noindex
X-PUBLISHED-TTL:PT1H
BEGIN:VTIMEZONE
TZID:Europe/Lisbon
BEGIN:DAYLIGHT
TZOFFSETFROM:+0000
TZOFFSETTO:+0100
TZNAME:WEST
DTSTART:20220327T010000
END:DAYLIGHT
BEGIN:STANDARD
TZOFFSETFROM:+0100
TZOFFSETTO:+0000
TZNAME:WET
DTSTART:20221030T010000
END:STANDARD
BEGIN:DAYLIGHT
TZOFFSETFROM:+0000
TZOFFSETTO:+0100
TZNAME:WEST
DTSTART:20230326T010000
END:DAYLIGHT
BEGIN:STANDARD
TZOFFSETFROM:+0100
TZOFFSETTO:+0000
TZNAME:WET
DTSTART:20231029T010000
END:STANDARD
BEGIN:DAYLIGHT
TZOFFSETFROM:+0000
TZOFFSETTO:+0100
TZNAME:WEST
DTSTART:20240331T010000
END:DAYLIGHT
BEGIN:STANDARD
TZOFFSETFROM:+0100
TZOFFSETTO:+0000
TZNAME:WET
DTSTART:20241027T010000
END:STANDARD
BEGIN:DAYLIGHT
TZOFFSETFROM:+0000
TZOFFSETTO:+0100
TZNAME:WEST
DTSTART:20250330T010000
END:DAYLIGHT
BEGIN:STANDARD
TZOFFSETFROM:+0100
TZOFFSETTO:+0000
TZNAME:WET
DTSTART:20251026T010000
END:STANDARD
END:VTIMEZONE
BEGIN:VTIMEZONE
TZID:Europe/Paris
BEGIN:DAYLIGHT
TZOFFSETFROM:+0100
TZOFFSETTO:+0200
TZNAME:CEST
DTSTART:20170326T010000
END:DAYLIGHT
BEGIN:STANDARD
TZOFFSETFROM:+0200
TZOFFSETTO:+0100
TZNAME:CET
DTSTART:20171029T010000
END:STANDARD
BEGIN:DAYLIGHT
TZOFFSETFROM:+0100
TZOFFSETTO:+0200
TZNAME:CEST
DTSTART:20180325T010000
END:DAYLIGHT
BEGIN:STANDARD
TZOFFSETFROM:+0200
TZOFFSETTO:+0100
TZNAME:CET
DTSTART:20181028T010000
END:STANDARD
BEGIN:DAYLIGHT
TZOFFSETFROM:+0100
TZOFFSETTO:+0200
TZNAME:CEST
DTSTART:20190331T010000
END:DAYLIGHT
BEGIN:STANDARD
TZOFFSETFROM:+0200
TZOFFSETTO:+0100
TZNAME:CET
DTSTART:20191027T010000
END:STANDARD
BEGIN:DAYLIGHT
TZOFFSETFROM:+0100
TZOFFSETTO:+0200
TZNAME:CEST
DTSTART:20200329T010000
END:DAYLIGHT
BEGIN:STANDARD
TZOFFSETFROM:+0200
TZOFFSETTO:+0100
TZNAME:CET
DTSTART:20201025T010000
END:STANDARD
END:VTIMEZONE
BEGIN:VEVENT
DTSTART;TZID=Europe/Lisbon:20240927T093000
DTEND;TZID=Europe/Lisbon:20240927T130000
DTSTAMP:20260420T182450
CREATED:20240924T142838Z
LAST-MODIFIED:20240924T142838Z
UID:64628-1727429400-1727442000@www.cm-santiagocacem.pt
SUMMARY:Colheita de sangue
DESCRIPTION:Dia 27 de setembro\, entre as 09h30 e as 13h00\, o serviço de imuno-hemoterapia do Hospital do Litoral Alentejano vai realizar uma recolha de sangue na Escola Secundária Manuel da Fonseca\, em Santiago do Cacém.\nDoe sangue\, doe vida!
URL:https://www.cm-santiagocacem.pt/evento/colheita-de-sangue-3/
LOCATION:Escola Secundária Manuel da Fonseca
CATEGORIES:saúde
ATTACH;FMTTYPE=image/jpeg:https://www.cm-santiagocacem.pt/wp-content/uploads/20240927-Colheita-de-Sangue.jpg
END:VEVENT
BEGIN:VEVENT
DTSTART;TZID=Europe/Lisbon:20240216T093000
DTEND;TZID=Europe/Lisbon:20240216T130000
DTSTAMP:20260420T182450
CREATED:20240214T111150Z
LAST-MODIFIED:20240214T111150Z
UID:60432-1708075800-1708088400@www.cm-santiagocacem.pt
SUMMARY:Colheita de sangue
DESCRIPTION:Dia 16 de fevereiro\, entre as 09h30 e as 13h00\, o serviço de imuno-hemoterapia do Hospital do Litoral Alentejano vai realizar uma recolha de sangue na Escola Secundária Manuel da Fonseca\, em Santiago do Cacém.\nDoe sangue\, doe vida!
URL:https://www.cm-santiagocacem.pt/evento/colheita-de-sangue-2/
LOCATION:Escola Secundária Manuel da Fonseca
CATEGORIES:saúde
ATTACH;FMTTYPE=image/jpeg:https://www.cm-santiagocacem.pt/wp-content/uploads/Recolha-de-Sangue-ESMF.jpg
END:VEVENT
BEGIN:VEVENT
DTSTART;TZID=Europe/Lisbon:20230928T143000
DTEND;TZID=Europe/Lisbon:20230928T163000
DTSTAMP:20260420T182450
CREATED:20230914T114439Z
LAST-MODIFIED:20230914T114439Z
UID:57718-1695911400-1695918600@www.cm-santiagocacem.pt
SUMMARY:Workshop gratuito sobre Inteligência Emocional
DESCRIPTION:No âmbito do projeto CDT4SONDA2026 – Continuous Development Training for Smart Open Networks Development Acceleration\, promovido pelo Instituto Politécnico de Setúbal (IPS) será desenvolvido um Workshop gratuito “Inteligência Emocional”\, a realizar-se no próximo dia 28 de setembro (quinta-feira)\, entre as 14h30 e as 16h30\, na Escola Secundária Manuel da Fonseca\, dirigido à comunidade de Santiago do Cacém.\n\n\nNeste workshop\, terão oportunidade de compreender o papel das emoções e como podem alcançar maior produtividade na gestão das relações interpessoais e profissionais.\n\n\nInscrições (até dia 25 de setembro) https://inqueritos.ips.pt/index.php?r=survey/index&sid=554513&lang=pt\nAs vagas são limitadas!
URL:https://www.cm-santiagocacem.pt/evento/workshop-gratuito-sobre-inteligencia-emocional/
LOCATION:Escola Secundária Manuel da Fonseca
ATTACH;FMTTYPE=image/png:https://www.cm-santiagocacem.pt/wp-content/uploads/workshop-Inteligencia-emocional.png
END:VEVENT
BEGIN:VEVENT
DTSTART;TZID=Europe/Paris:20191126T100000
DTEND;TZID=Europe/Paris:20191126T100000
DTSTAMP:20260420T182450
CREATED:20181102T163556Z
LAST-MODIFIED:20191118T091502Z
UID:22067-1574762400-1574762400@www.cm-santiagocacem.pt
SUMMARY:Viver (com) a escrita com o escritor Nuno Duarte
DESCRIPTION:No dia 26 de novembro realiza-se\, às 10h00\, na Escola Secundária Manuel da Fonseca\, em Santiago do Cacém\, uma sessão do Viver (com) a Escrita com o escritor Nuno Duarte e moderação de João Morales\, dedicada aos alunos do 3.º ciclo do Ensino Básico do Agrupamento da Escola Secundária Manuel da Fonseca. \nEsta iniciativa pretende colocar o escritor Nuno Duarte em diálogo com o seu público\, adequando os temas e a forma como o seu trabalho é apresentado à audiência em questão. Falaremos dele\, com ele\, dos seus trabalhos e de tudo o mais que a conversa nos traga. \nA iniciativa insere-se no programa municipal de combate ao insucesso escolar\, “Programa Insucesso Zero | Igualdade na Educação”\, elaborado pela Câmara Municipal de Santiago do Cacém com o apoio do Programa Operacional Regional Alentejo 2020 e cofinanciado pelo Fundo Social Europeu. \n  \n  \n 
URL:https://www.cm-santiagocacem.pt/evento/viver-com-a-escrita-4/
LOCATION:Escola Secundária Manuel da Fonseca
CATEGORIES:AR|Literatura,cultura,educação
ATTACH;FMTTYPE=image/jpeg:https://www.cm-santiagocacem.pt/wp-content/uploads/Viver-com-a-escrita-5.jpg
END:VEVENT
BEGIN:VEVENT
DTSTART;TZID=Europe/Paris:20180309T093000
DTEND;TZID=Europe/Paris:20180309T130000
DTSTAMP:20260420T182450
CREATED:20180306T173239Z
LAST-MODIFIED:20180306T173239Z
UID:17661-1520587800-1520600400@www.cm-santiagocacem.pt
SUMMARY:Colheita de Sangue
DESCRIPTION:Dia 9 de março\, das 9h30 às 13h00\, realiza-se Colheita de Sangue\, na Escola Secundária Manuel da Fonseca\, em Santiago do Cacém. Seja solidário…traga um amigo também!
URL:https://www.cm-santiagocacem.pt/evento/colheita-de-sangue/
LOCATION:Escola Secundária Manuel da Fonseca
CATEGORIES:saúde
ATTACH;FMTTYPE=image/jpeg:https://www.cm-santiagocacem.pt/wp-content/uploads/Cartaz-colheita-de-sangue.jpg
END:VEVENT
END:VCALENDAR