BEGIN:VCALENDAR
VERSION:2.0
PRODID:-//Câmara Municipal de Santiago do Cacém - ECPv6.15.18//NONSGML v1.0//EN
CALSCALE:GREGORIAN
METHOD:PUBLISH
X-ORIGINAL-URL:https://www.cm-santiagocacem.pt
X-WR-CALDESC:Eventos para Câmara Municipal de Santiago do Cacém
REFRESH-INTERVAL;VALUE=DURATION:PT1H
X-Robots-Tag:noindex
X-PUBLISHED-TTL:PT1H
BEGIN:VTIMEZONE
TZID:Europe/Lisbon
BEGIN:DAYLIGHT
TZOFFSETFROM:+0000
TZOFFSETTO:+0100
TZNAME:WEST
DTSTART:20200329T010000
END:DAYLIGHT
BEGIN:STANDARD
TZOFFSETFROM:+0100
TZOFFSETTO:+0000
TZNAME:WET
DTSTART:20201025T010000
END:STANDARD
BEGIN:DAYLIGHT
TZOFFSETFROM:+0000
TZOFFSETTO:+0100
TZNAME:WEST
DTSTART:20210328T010000
END:DAYLIGHT
BEGIN:STANDARD
TZOFFSETFROM:+0100
TZOFFSETTO:+0000
TZNAME:WET
DTSTART:20211031T010000
END:STANDARD
BEGIN:DAYLIGHT
TZOFFSETFROM:+0000
TZOFFSETTO:+0100
TZNAME:WEST
DTSTART:20220327T010000
END:DAYLIGHT
BEGIN:STANDARD
TZOFFSETFROM:+0100
TZOFFSETTO:+0000
TZNAME:WET
DTSTART:20221030T010000
END:STANDARD
END:VTIMEZONE
BEGIN:VTIMEZONE
TZID:Europe/Paris
BEGIN:DAYLIGHT
TZOFFSETFROM:+0100
TZOFFSETTO:+0200
TZNAME:CEST
DTSTART:20170326T010000
END:DAYLIGHT
BEGIN:STANDARD
TZOFFSETFROM:+0200
TZOFFSETTO:+0100
TZNAME:CET
DTSTART:20171029T010000
END:STANDARD
BEGIN:DAYLIGHT
TZOFFSETFROM:+0100
TZOFFSETTO:+0200
TZNAME:CEST
DTSTART:20180325T010000
END:DAYLIGHT
BEGIN:STANDARD
TZOFFSETFROM:+0200
TZOFFSETTO:+0100
TZNAME:CET
DTSTART:20181028T010000
END:STANDARD
BEGIN:DAYLIGHT
TZOFFSETFROM:+0100
TZOFFSETTO:+0200
TZNAME:CEST
DTSTART:20190331T010000
END:DAYLIGHT
BEGIN:STANDARD
TZOFFSETFROM:+0200
TZOFFSETTO:+0100
TZNAME:CET
DTSTART:20191027T010000
END:STANDARD
END:VTIMEZONE
BEGIN:VEVENT
DTSTART;TZID=Europe/Lisbon:20210810T080000
DTEND;TZID=Europe/Lisbon:20210911T170000
DTSTAMP:20260421T031631
CREATED:20210810T141154Z
LAST-MODIFIED:20210810T142150Z
UID:43019-1628582400-1631379600@www.cm-santiagocacem.pt
SUMMARY:O Jardim das Aromáticas
DESCRIPTION:“O Jardim das Aromáticas”pretende chamar à atenção de quem visita o Mercado Municipal de Santo André\, em especial as crianças e jovens\, para o seu papel na transformação dos alimentos em iguarias cheias de cores e sabores. Mas\, também para os muitos benefícios que têm na nossa saúde.\nLançam-se desafios para os mais pequenos desenvolverem à volta desta temática com as suas famílias.
URL:https://www.cm-santiagocacem.pt/evento/o-jardim-das-aromaticas/
LOCATION:Mercado Municipal de Santo André\, Vila Nova de Santo André\, Portugal
CATEGORIES:AR|Infantil,Infantil,informação
ATTACH;FMTTYPE=image/jpeg:https://www.cm-santiagocacem.pt/wp-content/uploads/o-jardim-das-aromaticas.jpg
GEO:38.3302452;-9.1566393
END:VEVENT
BEGIN:VEVENT
DTSTART;TZID=Europe/Paris:20180428T090000
DTEND;TZID=Europe/Paris:20180428T130000
DTSTAMP:20260421T031631
CREATED:20180427T111219Z
LAST-MODIFIED:20180427T111219Z
UID:18680-1524906000-1524920400@www.cm-santiagocacem.pt
SUMMARY:Mercado das Bagageiras
DESCRIPTION:Dia 28 de abril\, a partir das 9h00\, realiza-se a IX edição do Mercado das Bagageiras\, em Vila Nova de Santo André. O valor das inscrições desta edição reverte a favor das “Turmas de Artes do Agrupamento de Escolas de Santo André.
URL:https://www.cm-santiagocacem.pt/evento/mercado-das-bagageiras-7/
LOCATION:Mercado Municipal de Santo André\, Vila Nova de Santo André\, Portugal
CATEGORIES:feiras
ATTACH;FMTTYPE=image/jpeg:https://www.cm-santiagocacem.pt/wp-content/uploads/Mercado-das-Bagageiras-2.jpg
GEO:38.3302452;-9.1566393
END:VEVENT
BEGIN:VEVENT
DTSTART;VALUE=DATE:20180421
DTEND;VALUE=DATE:20180514
DTSTAMP:20260421T031631
CREATED:20180323T171149Z
LAST-MODIFIED:20180507T134539Z
UID:18048-1524268800-1526255999@www.cm-santiagocacem.pt
SUMMARY:Tasquinhas do Vilas 2018
DESCRIPTION:De 21 de abril a 13 de maio\, realiza-se no Mercado Municipal de Vila Nova de Santo André mais uma edição da Tasquinhas do Vilas.
URL:https://www.cm-santiagocacem.pt/evento/tasquinhas-do-vilas-2018/
LOCATION:Mercado Municipal de Santo André\, Vila Nova de Santo André\, Portugal
CATEGORIES:gastronomia
ATTACH;FMTTYPE=image/png:https://www.cm-santiagocacem.pt/wp-content/uploads/MELLGA-2018.03.14-TASQUINHAS-VILAS-2018-01-01.png
GEO:38.3302452;-9.1566393
END:VEVENT
BEGIN:VEVENT
DTSTART;TZID=Europe/Paris:20180331T090000
DTEND;TZID=Europe/Paris:20180331T130000
DTSTAMP:20260421T031631
CREATED:20180328T142207Z
LAST-MODIFIED:20180328T142207Z
UID:18115-1522486800-1522501200@www.cm-santiagocacem.pt
SUMMARY:Mercado das Bagageiras - IX Edição
DESCRIPTION:Dia 31 de março realiza-se a IX edição do Mercado das Bagageiras\, no Mercado Municipal\, em Vila Nova de Santo André. Nesta edição especial\, as receitas vão reverter para as turmas de Artes do Agrupamento de Escolas de Santo André. Participe! \n 
URL:https://www.cm-santiagocacem.pt/evento/mercado-das-bagageiras-ix-edicao/
LOCATION:Mercado Municipal de Santo André\, Vila Nova de Santo André\, Portugal
CATEGORIES:feiras
ATTACH;FMTTYPE=image/jpeg:https://www.cm-santiagocacem.pt/wp-content/uploads/Mercado-das-Bagageiras-1.jpg
GEO:38.3302452;-9.1566393
END:VEVENT
BEGIN:VEVENT
DTSTART;TZID=Europe/Paris:20180224T093000
DTEND;TZID=Europe/Paris:20180224T130000
DTSTAMP:20260421T031631
CREATED:20180216T124605Z
LAST-MODIFIED:20180216T125827Z
UID:17088-1519464600-1519477200@www.cm-santiagocacem.pt
SUMMARY:Mercado das Bagageiras
DESCRIPTION:Mais uma edição do Mercado das Bagageiras\, 24 de fevereiro\, 9h00\,  Mercado Municipal de Vila Nova de Santo André. Vem vender  artigos que já não usas\, artesanato\, etc…  O valor das inscrições revertem a favor da AMISSA.
URL:https://www.cm-santiagocacem.pt/evento/mercado-das-bagageiras-6/
LOCATION:Mercado Municipal de Santo André\, Vila Nova de Santo André\, Portugal
CATEGORIES:solidariedade
ATTACH;FMTTYPE=image/jpeg:https://www.cm-santiagocacem.pt/wp-content/uploads/Cartaz-mercado-das-bagageiras.jpg
GEO:38.3302452;-9.1566393
END:VEVENT
BEGIN:VEVENT
DTSTART;TZID=Europe/Paris:20180127T090000
DTEND;TZID=Europe/Paris:20180127T130000
DTSTAMP:20260421T031631
CREATED:20180116T102352Z
LAST-MODIFIED:20180116T102352Z
UID:16495-1517043600-1517058000@www.cm-santiagocacem.pt
SUMMARY:Mercado das Bagageiras
DESCRIPTION:Dia 27 de janeiro\, a partir das 9h00\, no Mercado Municipal de Vila Nova de Santo André\, realiza-se a VII edição do Mercado das Bagageiras. \nVem vender/trocar as tuas antiguidades\, velharias\, artesanato\, artigos em 2.ª mão…o valor das inscrições reverte a favor do Centro Comunitário de Santo André “O Moinho”. Inscrições / informações na Junta de Freguesia de Santo André.
URL:https://www.cm-santiagocacem.pt/evento/mercado-das-bagageiras-5/
LOCATION:Mercado Municipal de Santo André\, Vila Nova de Santo André\, Portugal
CATEGORIES:feiras
ATTACH;FMTTYPE=image/jpeg:https://www.cm-santiagocacem.pt/wp-content/uploads/Cartaz-Mercado-das-Bagageiras-1.jpg
GEO:38.3302452;-9.1566393
END:VEVENT
END:VCALENDAR