BEGIN:VCALENDAR
VERSION:2.0
PRODID:-//Câmara Municipal de Santiago do Cacém - ECPv6.15.18//NONSGML v1.0//EN
CALSCALE:GREGORIAN
METHOD:PUBLISH
X-ORIGINAL-URL:https://www.cm-santiagocacem.pt
X-WR-CALDESC:Eventos para Câmara Municipal de Santiago do Cacém
REFRESH-INTERVAL;VALUE=DURATION:PT1H
X-Robots-Tag:noindex
X-PUBLISHED-TTL:PT1H
BEGIN:VTIMEZONE
TZID:Europe/Lisbon
BEGIN:DAYLIGHT
TZOFFSETFROM:+0000
TZOFFSETTO:+0100
TZNAME:WEST
DTSTART:20200329T010000
END:DAYLIGHT
BEGIN:STANDARD
TZOFFSETFROM:+0100
TZOFFSETTO:+0000
TZNAME:WET
DTSTART:20201025T010000
END:STANDARD
BEGIN:DAYLIGHT
TZOFFSETFROM:+0000
TZOFFSETTO:+0100
TZNAME:WEST
DTSTART:20210328T010000
END:DAYLIGHT
BEGIN:STANDARD
TZOFFSETFROM:+0100
TZOFFSETTO:+0000
TZNAME:WET
DTSTART:20211031T010000
END:STANDARD
BEGIN:DAYLIGHT
TZOFFSETFROM:+0000
TZOFFSETTO:+0100
TZNAME:WEST
DTSTART:20220327T010000
END:DAYLIGHT
BEGIN:STANDARD
TZOFFSETFROM:+0100
TZOFFSETTO:+0000
TZNAME:WET
DTSTART:20221030T010000
END:STANDARD
END:VTIMEZONE
BEGIN:VEVENT
DTSTART;TZID=Europe/Lisbon:20210406T193000
DTEND;TZID=Europe/Lisbon:20210408T193000
DTSTAMP:20260423T232315
CREATED:20210330T200146Z
LAST-MODIFIED:20210330T200146Z
UID:40039-1617737400-1617910200@www.cm-santiagocacem.pt
SUMMARY:Aulas de exercício físico via zoom
DESCRIPTION:Dia 6 de abril assinala-se o Dia Mundial da Atividade Física vamos realizar nesta semana (dia 6 e dia 8 abril ) duas aulas\, com monitoras das Piscinas Municipais de Santiago do Cacém\, via Zoom. Registe-se e pratique em direto estas aulas que prometem muita interação.
URL:https://www.cm-santiagocacem.pt/evento/aulas-de-exercicio-fisico-via-zoom-2/
LOCATION:online – zoom
CATEGORIES:AR|Desporto,desporto
ATTACH;FMTTYPE=image/jpeg:https://www.cm-santiagocacem.pt/wp-content/uploads/aulas-online.jpg
END:VEVENT
BEGIN:VEVENT
DTSTART;TZID=Europe/Lisbon:20210330T080000
DTEND;TZID=Europe/Lisbon:20210330T170000
DTSTAMP:20260423T232315
CREATED:20210330T154638Z
LAST-MODIFIED:20210330T154638Z
UID:40029-1617091200-1617123600@www.cm-santiagocacem.pt
SUMMARY:Aulas de exercício físico via zoom
DESCRIPTION:Dia 6 de abril assinala-se o Dia Mundial da Atividade Física vamos realizar nesta semana (dia 6 e dia 8 abril ) duas aulas\, com monitoras das Piscinas Municipais de Santiago do Cacém\, via Zoom. Registe-se e pratique em direto estas aulas que prometem muita interação.
URL:https://www.cm-santiagocacem.pt/evento/aulas-de-exercicio-fisico-via-zoom/
LOCATION:online – zoom
CATEGORIES:AR|Desporto,desporto
ATTACH;FMTTYPE=image/jpeg:https://www.cm-santiagocacem.pt/wp-content/uploads/aulas-online.jpg
END:VEVENT
END:VCALENDAR