BEGIN:VCALENDAR
VERSION:2.0
PRODID:-//Câmara Municipal de Santiago do Cacém - ECPv6.15.18//NONSGML v1.0//EN
CALSCALE:GREGORIAN
METHOD:PUBLISH
X-WR-CALNAME:Câmara Municipal de Santiago do Cacém
X-ORIGINAL-URL:https://www.cm-santiagocacem.pt
X-WR-CALDESC:Eventos para Câmara Municipal de Santiago do Cacém
REFRESH-INTERVAL;VALUE=DURATION:PT1H
X-Robots-Tag:noindex
X-PUBLISHED-TTL:PT1H
BEGIN:VTIMEZONE
TZID:Europe/Lisbon
BEGIN:DAYLIGHT
TZOFFSETFROM:+0000
TZOFFSETTO:+0100
TZNAME:WEST
DTSTART:20210328T010000
END:DAYLIGHT
BEGIN:STANDARD
TZOFFSETFROM:+0100
TZOFFSETTO:+0000
TZNAME:WET
DTSTART:20211031T010000
END:STANDARD
BEGIN:DAYLIGHT
TZOFFSETFROM:+0000
TZOFFSETTO:+0100
TZNAME:WEST
DTSTART:20220327T010000
END:DAYLIGHT
BEGIN:STANDARD
TZOFFSETFROM:+0100
TZOFFSETTO:+0000
TZNAME:WET
DTSTART:20221030T010000
END:STANDARD
BEGIN:DAYLIGHT
TZOFFSETFROM:+0000
TZOFFSETTO:+0100
TZNAME:WEST
DTSTART:20230326T010000
END:DAYLIGHT
BEGIN:STANDARD
TZOFFSETFROM:+0100
TZOFFSETTO:+0000
TZNAME:WET
DTSTART:20231029T010000
END:STANDARD
BEGIN:DAYLIGHT
TZOFFSETFROM:+0000
TZOFFSETTO:+0100
TZNAME:WEST
DTSTART:20240331T010000
END:DAYLIGHT
BEGIN:STANDARD
TZOFFSETFROM:+0100
TZOFFSETTO:+0000
TZNAME:WET
DTSTART:20241027T010000
END:STANDARD
BEGIN:DAYLIGHT
TZOFFSETFROM:+0000
TZOFFSETTO:+0100
TZNAME:WEST
DTSTART:20250330T010000
END:DAYLIGHT
BEGIN:STANDARD
TZOFFSETFROM:+0100
TZOFFSETTO:+0000
TZNAME:WET
DTSTART:20251026T010000
END:STANDARD
BEGIN:DAYLIGHT
TZOFFSETFROM:+0000
TZOFFSETTO:+0100
TZNAME:WEST
DTSTART:20260329T010000
END:DAYLIGHT
BEGIN:STANDARD
TZOFFSETFROM:+0100
TZOFFSETTO:+0000
TZNAME:WET
DTSTART:20261025T010000
END:STANDARD
END:VTIMEZONE
BEGIN:VEVENT
DTSTART;TZID=Europe/Lisbon:20250222T160000
DTEND;TZID=Europe/Lisbon:20250222T160000
DTSTAMP:20260420T140101
CREATED:20250203T164937Z
LAST-MODIFIED:20250203T164937Z
UID:66553-1740240000-1740240000@www.cm-santiagocacem.pt
SUMMARY:Sarau de Ginástica Acrobática
DESCRIPTION:No próximo dia 22 de fevereiro\, pelas 16h00\, realiza-se o Sarau de Ginástica da ACROESA do Estrela de Santo André\, no Pavilhão Municipal Padre Amadeu Pinto\, em Vila Nova de Santo André.
URL:https://www.cm-santiagocacem.pt/evento/sarau-de-ginastica-acrobatica/
LOCATION:Pavilhão Padre Amadeu Pinto\, Portugal
CATEGORIES:AR|Desporto,desporto
ATTACH;FMTTYPE=image/jpeg:https://www.cm-santiagocacem.pt/wp-content/uploads/Sarau-ginastica-acrobatica_fev.2025.jpg
GEO:39.399872;-8.224454
END:VEVENT
BEGIN:VEVENT
DTSTART;TZID=Europe/Lisbon:20240511T190000
DTEND;TZID=Europe/Lisbon:20240511T190000
DTSTAMP:20260420T140101
CREATED:20240430T095830Z
LAST-MODIFIED:20240430T095830Z
UID:61801-1715454000-1715454000@www.cm-santiagocacem.pt
SUMMARY:DFC 38 Kickboxing
DESCRIPTION:A DFC 38 kickboxing está de volta\, no dia 11 de maio\, no Pavilhão Municipal Padre Amadeu Pinto\, em Vila Nova de Santo André. \nA próxima edição conta com fantásticos combates. Na luta da noite Andreia Conceição vs Marina Pichel na disputa pelo titulo Ibérico FPKMT em regras profissionais de cinco assaltos! \nNão percam a maior liga de luta em Portugal! \nSaiba mais em: https://www.facebook.com/dfckickboxing/
URL:https://www.cm-santiagocacem.pt/evento/dfc-38-kickboxing/
LOCATION:Pavilhão Padre Amadeu Pinto\, Portugal
CATEGORIES:AR|Desporto,desporto
ATTACH;FMTTYPE=image/jpeg:https://www.cm-santiagocacem.pt/wp-content/uploads/DFC-38-Cartaz-Principal.jpg
GEO:39.399872;-8.224454
END:VEVENT
BEGIN:VEVENT
DTSTART;TZID=Europe/Lisbon:20240504T090000
DTEND;TZID=Europe/Lisbon:20240504T090000
DTSTAMP:20260420T140101
CREATED:20240416T152821Z
LAST-MODIFIED:20240416T152821Z
UID:61508-1714813200-1714813200@www.cm-santiagocacem.pt
SUMMARY:Campeonato Territorial - Divisão Base e 2.º Torneio de Níveis
DESCRIPTION:No dia 04 de maio\, a partir das 09h00\, realiza-se o Campeonato Territorial – Divisão Base e 2.º Torneio de Níveis\, no Pavilhão Padre Amadeu Pinto\, em Vila Nova de Santo André. \nA iniciativa conta com a organização da Associação de Ginástica do Distrito de Setúbal\, numa coorganização do Estrela de Santo André e ACRO ESA e o apoio da Câmara Municipal de Santiago do Cacém\, da Junta de Freguesia de Santo André e do Intermarché.
URL:https://www.cm-santiagocacem.pt/evento/campeonato-territorial-divisao-base-e-2-o-torneio-de-niveis/
LOCATION:Pavilhão Padre Amadeu Pinto\, Portugal
CATEGORIES:desporto
ATTACH;FMTTYPE=image/png:https://www.cm-santiagocacem.pt/wp-content/uploads/CARTAZ-CAMPEONATO-TERRITORIAL_2024_FINALIZADO.png
GEO:39.399872;-8.224454
END:VEVENT
BEGIN:VEVENT
DTSTART;TZID=Europe/Lisbon:20220528T160000
DTEND;TZID=Europe/Lisbon:20220528T160000
DTSTAMP:20260420T140101
CREATED:20220519T142253Z
LAST-MODIFIED:20220519T142436Z
UID:48774-1653753600-1653753600@www.cm-santiagocacem.pt
SUMMARY:Gala Gímnica Primavera
DESCRIPTION:Realiza-se no dia 28 de maio\, pelas 18h00\, a Gala Gímnica de Primavera\, no Pavilhão Padre Amadeu Pinto\, em Vila Nova de Santo André.
URL:https://www.cm-santiagocacem.pt/evento/gala-gimnica-primavera/
LOCATION:Pavilhão Padre Amadeu Pinto\, Portugal
CATEGORIES:AR|Dança,Dança,desporto
ATTACH;FMTTYPE=image/jpeg:https://www.cm-santiagocacem.pt/wp-content/uploads/Gala-Gimnica-Primavera.jpg
GEO:39.399872;-8.224454
END:VEVENT
END:VCALENDAR