BEGIN:VCALENDAR
VERSION:2.0
PRODID:-//Câmara Municipal de Santiago do Cacém - ECPv6.15.18//NONSGML v1.0//EN
CALSCALE:GREGORIAN
METHOD:PUBLISH
X-ORIGINAL-URL:https://www.cm-santiagocacem.pt
X-WR-CALDESC:Eventos para Câmara Municipal de Santiago do Cacém
REFRESH-INTERVAL;VALUE=DURATION:PT1H
X-Robots-Tag:noindex
X-PUBLISHED-TTL:PT1H
BEGIN:VTIMEZONE
TZID:UTC
BEGIN:STANDARD
TZOFFSETFROM:+0000
TZOFFSETTO:+0000
TZNAME:UTC
DTSTART:20180101T000000
END:STANDARD
END:VTIMEZONE
BEGIN:VEVENT
DTSTART;TZID=UTC:20190408T090000
DTEND;TZID=UTC:20190422T160000
DTSTAMP:20260423T120609
CREATED:20190322T162113Z
LAST-MODIFIED:20190322T162332Z
UID:25375-1554714000-1555948800@www.cm-santiagocacem.pt
SUMMARY:Férias da Páscoa Viver a Cidade
DESCRIPTION:A União das Freguesias de Santiago do Cacém\, Santa Cruz e São Bartolomeu da Serra promove\, com o apoio da Câmara Municipal e do Associativismo (Escuteiros\, Hockey Club Santiago e Sociedade Recreativa Filarmónica União Artística) as Férias da Páscoa – Viver a Cidade.Durante 2 semanas  os jovens\, dos 8 aos 13 anos\, podem praticar atividades desportivas/ culturais/ sociais/ oficinas/concursos/ visitas e muito mais…\nInscrições nos dias 28 e 29 de março na Junta de Freguesia e Delegações de Santa Cruz e São Bartolomeu da Serra
URL:https://www.cm-santiagocacem.pt/evento/ferias-da-pascoa-viver-a-cidade/
LOCATION:Santiago do Cacém
CATEGORIES:cultura,desporto,oficinas
ATTACH;FMTTYPE=image/jpeg:https://www.cm-santiagocacem.pt/wp-content/uploads/Nova-imagem-26.jpg
END:VEVENT
END:VCALENDAR