BEGIN:VCALENDAR
VERSION:2.0
PRODID:-//Câmara Municipal de Santiago do Cacém - ECPv6.15.18//NONSGML v1.0//EN
CALSCALE:GREGORIAN
METHOD:PUBLISH
X-ORIGINAL-URL:https://www.cm-santiagocacem.pt
X-WR-CALDESC:Eventos para Câmara Municipal de Santiago do Cacém
REFRESH-INTERVAL;VALUE=DURATION:PT1H
X-Robots-Tag:noindex
X-PUBLISHED-TTL:PT1H
BEGIN:VTIMEZONE
TZID:Europe/Lisbon
BEGIN:DAYLIGHT
TZOFFSETFROM:+0000
TZOFFSETTO:+0100
TZNAME:WEST
DTSTART:20210328T010000
END:DAYLIGHT
BEGIN:STANDARD
TZOFFSETFROM:+0100
TZOFFSETTO:+0000
TZNAME:WET
DTSTART:20211031T010000
END:STANDARD
BEGIN:DAYLIGHT
TZOFFSETFROM:+0000
TZOFFSETTO:+0100
TZNAME:WEST
DTSTART:20220327T010000
END:DAYLIGHT
BEGIN:STANDARD
TZOFFSETFROM:+0100
TZOFFSETTO:+0000
TZNAME:WET
DTSTART:20221030T010000
END:STANDARD
BEGIN:DAYLIGHT
TZOFFSETFROM:+0000
TZOFFSETTO:+0100
TZNAME:WEST
DTSTART:20230326T010000
END:DAYLIGHT
BEGIN:STANDARD
TZOFFSETFROM:+0100
TZOFFSETTO:+0000
TZNAME:WET
DTSTART:20231029T010000
END:STANDARD
BEGIN:DAYLIGHT
TZOFFSETFROM:+0000
TZOFFSETTO:+0100
TZNAME:WEST
DTSTART:20240331T010000
END:DAYLIGHT
BEGIN:STANDARD
TZOFFSETFROM:+0100
TZOFFSETTO:+0000
TZNAME:WET
DTSTART:20241027T010000
END:STANDARD
END:VTIMEZONE
BEGIN:VEVENT
DTSTART;TZID=Europe/Lisbon:20230427T140000
DTEND;TZID=Europe/Lisbon:20230427T170000
DTSTAMP:20260419T183846
CREATED:20230420T151539Z
LAST-MODIFIED:20230420T151539Z
UID:54842-1682604000-1682614800@www.cm-santiagocacem.pt
SUMMARY:Atendimento de apoio ao tecido empresarial e ao empreendedorismo - União das Freguesias de São Domingos e Vale de Água
DESCRIPTION:Realiza-se no dia 27 de abril\, entre as 14h00 e as 17h00\, o Atendimento gratuito da ADRAL na Sede da União de Freguesias em São Domingos. \nFaça a sua marcação através do telefone 269 829 419 ou por e-mail ddet@cm-santiagocacem.pt \nUm atendimento personalizado e gratuito aos empresários\, por parte de técnicos da ADRAL\, que irá decorrer nas instalações do Gabinete de Apoio ao Empresário\, em Santiago do Cacém\, e nas Juntas de Freguesias para que não tenham de se deslocar à sede do Concelho. \nEste atendimento surge no âmbito do protocolo para o “Apoio ao Tecido Empresarial e ao Empreendedorismo”\, estabelecido entre a Câmara Municipal de Santiago do Cacém e a Agência de Desenvolvimento Regional do Alentejo (ADRAL)\, com o intuito de apoiar e fomentar o desenvolvimento económico sustentado do Município.
URL:https://www.cm-santiagocacem.pt/evento/atendimento-de-apoio-ao-tecido-empresarial-e-ao-empreendedorismo-uniao-das-freguesias-de-sao-domingos-e-vale-de-agua/
LOCATION:Sede da Junta de Freguesia da União de Freguesias de São Domingos e Vale de Água
CATEGORIES:desenvolvimento económico
ATTACH;FMTTYPE=image/jpeg:https://www.cm-santiagocacem.pt/wp-content/uploads/ATENDIMENTOS-27-abr-JFSDVA-1-1.jpg
END:VEVENT
BEGIN:VEVENT
DTSTART;TZID=Europe/Lisbon:20220402T153000
DTEND;TZID=Europe/Lisbon:20220402T153000
DTSTAMP:20260419T183846
CREATED:20220401T093859Z
LAST-MODIFIED:20220401T094344Z
UID:47740-1648913400-1648913400@www.cm-santiagocacem.pt
SUMMARY:Apresentação do livro “Elas estiveram nas prisões do fascismo”
DESCRIPTION:A sede da Junta de Freguesia da União de Freguesias de S. Domingos e Vale de Água recebe no dia 2 de abril\, pelas 15h30\, a apresentação do livro “Elas estiveram nas prisões do fascismo” pela URAP (União de Resistentes Antifascistas Portugueses). Com as presenças de Eulália Miranda\, secretária da Assembleia Geral da URAP\, e Margarida Machado\, Conselho Nacional da URAP.
URL:https://www.cm-santiagocacem.pt/evento/apresentacao-do-livro-elas-estiveram-nas-prisoes-do-fascismo/
LOCATION:Sede da Junta de Freguesia da União de Freguesias de São Domingos e Vale de Água
CATEGORIES:cultura,história,leitura
ATTACH;FMTTYPE=image/jpeg:https://www.cm-santiagocacem.pt/wp-content/uploads/Apresentacao-de-livro.jpg
END:VEVENT
END:VCALENDAR