BEGIN:VCALENDAR
VERSION:2.0
PRODID:-//Câmara Municipal de Santiago do Cacém - ECPv6.15.18//NONSGML v1.0//EN
CALSCALE:GREGORIAN
METHOD:PUBLISH
X-ORIGINAL-URL:https://www.cm-santiagocacem.pt
X-WR-CALDESC:Eventos para Câmara Municipal de Santiago do Cacém
REFRESH-INTERVAL;VALUE=DURATION:PT1H
X-Robots-Tag:noindex
X-PUBLISHED-TTL:PT1H
BEGIN:VTIMEZONE
TZID:UTC
BEGIN:STANDARD
TZOFFSETFROM:+0000
TZOFFSETTO:+0000
TZNAME:UTC
DTSTART:20180101T000000
END:STANDARD
END:VTIMEZONE
BEGIN:VEVENT
DTSTART;TZID=UTC:20190311T190000
DTEND;TZID=UTC:20190322T190000
DTSTAMP:20260423T161146
CREATED:20190306T093526Z
LAST-MODIFIED:20190308T165136Z
UID:25004-1552330800-1553281200@www.cm-santiagocacem.pt
SUMMARY:Aldeia Segura Pessoas Seguras
DESCRIPTION:Vão decorrer\, no mês de março\, sessões de esclarecimento sobre a prevenção e como atuar em situação de incêndio a terem lugar em Aldeia do Cano\, Catifarras\, Sonega\, Foros do Locário e Vale de Água. Com a presença de representantes  do Serviço  Municipal de Proteção Civil\, Autoridade Nacional de Proteção Civil\, Gabinete Técnico Florestal\, GNR-SEPNA\, Comandante dos Bombeiros Voluntários da Área\, Presidente da Junta de Freguesia do Cercal do Alentejo e da União de Freguesias de São Domingos e Vale de Água.
URL:https://www.cm-santiagocacem.pt/evento/aldeia-segura-pessoas-seguras/
LOCATION:Várias Aldeias
CATEGORIES:prevenção
ATTACH;FMTTYPE=image/jpeg:https://www.cm-santiagocacem.pt/wp-content/uploads/aldeias-seguras-01-01.jpg
END:VEVENT
END:VCALENDAR