BEGIN:VCALENDAR
VERSION:2.0
PRODID:-//Câmara Municipal de Santiago do Cacém - ECPv6.15.18//NONSGML v1.0//EN
CALSCALE:GREGORIAN
METHOD:PUBLISH
X-ORIGINAL-URL:https://www.cm-santiagocacem.pt
X-WR-CALDESC:Eventos para Câmara Municipal de Santiago do Cacém
REFRESH-INTERVAL;VALUE=DURATION:PT1H
X-Robots-Tag:noindex
X-PUBLISHED-TTL:PT1H
BEGIN:VTIMEZONE
TZID:Europe/Lisbon
BEGIN:DAYLIGHT
TZOFFSETFROM:+0000
TZOFFSETTO:+0100
TZNAME:WEST
DTSTART:20180325T010000
END:DAYLIGHT
BEGIN:STANDARD
TZOFFSETFROM:+0100
TZOFFSETTO:+0000
TZNAME:WET
DTSTART:20181028T010000
END:STANDARD
BEGIN:DAYLIGHT
TZOFFSETFROM:+0000
TZOFFSETTO:+0100
TZNAME:WEST
DTSTART:20190331T010000
END:DAYLIGHT
BEGIN:STANDARD
TZOFFSETFROM:+0100
TZOFFSETTO:+0000
TZNAME:WET
DTSTART:20191027T010000
END:STANDARD
BEGIN:DAYLIGHT
TZOFFSETFROM:+0000
TZOFFSETTO:+0100
TZNAME:WEST
DTSTART:20200329T010000
END:DAYLIGHT
BEGIN:STANDARD
TZOFFSETFROM:+0100
TZOFFSETTO:+0000
TZNAME:WET
DTSTART:20201025T010000
END:STANDARD
BEGIN:DAYLIGHT
TZOFFSETFROM:+0000
TZOFFSETTO:+0100
TZNAME:WEST
DTSTART:20210328T010000
END:DAYLIGHT
BEGIN:STANDARD
TZOFFSETFROM:+0100
TZOFFSETTO:+0000
TZNAME:WET
DTSTART:20211031T010000
END:STANDARD
BEGIN:DAYLIGHT
TZOFFSETFROM:+0000
TZOFFSETTO:+0100
TZNAME:WEST
DTSTART:20220327T010000
END:DAYLIGHT
BEGIN:STANDARD
TZOFFSETFROM:+0100
TZOFFSETTO:+0000
TZNAME:WET
DTSTART:20221030T010000
END:STANDARD
BEGIN:DAYLIGHT
TZOFFSETFROM:+0000
TZOFFSETTO:+0100
TZNAME:WEST
DTSTART:20230326T010000
END:DAYLIGHT
BEGIN:STANDARD
TZOFFSETFROM:+0100
TZOFFSETTO:+0000
TZNAME:WET
DTSTART:20231029T010000
END:STANDARD
BEGIN:DAYLIGHT
TZOFFSETFROM:+0000
TZOFFSETTO:+0100
TZNAME:WEST
DTSTART:20240331T010000
END:DAYLIGHT
BEGIN:STANDARD
TZOFFSETFROM:+0100
TZOFFSETTO:+0000
TZNAME:WET
DTSTART:20241027T010000
END:STANDARD
BEGIN:DAYLIGHT
TZOFFSETFROM:+0000
TZOFFSETTO:+0100
TZNAME:WEST
DTSTART:20250330T010000
END:DAYLIGHT
BEGIN:STANDARD
TZOFFSETFROM:+0100
TZOFFSETTO:+0000
TZNAME:WET
DTSTART:20251026T010000
END:STANDARD
BEGIN:DAYLIGHT
TZOFFSETFROM:+0000
TZOFFSETTO:+0100
TZNAME:WEST
DTSTART:20260329T010000
END:DAYLIGHT
BEGIN:STANDARD
TZOFFSETFROM:+0100
TZOFFSETTO:+0000
TZNAME:WET
DTSTART:20261025T010000
END:STANDARD
END:VTIMEZONE
BEGIN:VEVENT
DTSTART;TZID=Europe/Lisbon:20250919T110000
DTEND;TZID=Europe/Lisbon:20250921T233000
DTSTAMP:20260422T165617
CREATED:20250814T173208Z
LAST-MODIFIED:20250919T140632Z
UID:70305-1758279600-1758497400@www.cm-santiagocacem.pt
SUMMARY:Alvalade Medieval
DESCRIPTION:O tema escolhido para este ano do Alvalade Medieval é “As Lavadeiras” \, que decorrerá entre os dias 19 e 21 de setembro\, em Alvalade. O tema homenageia uma profissão extinta\, que marcou a cultura local de uma época.\nUma viagem ao passado é a proposta que a iniciativa Alvalade Medieval faz a todos os que visitem a vila\, no concelho de Santiago do Cacém. A recriação histórica pretende assinalar os 515 anos da atribuição da Carta de Foral\, que aconteceu a 20 de setembro de 1510\, pela mão do Rei D. Manuel I.\n\nO  Alvalade Medieval teve início em 2002 e recria tradições\, hábitos e costumes conjugando cultura\, património e turismo. Durante três dias os alvaladenses trajam a rigor e recriam espontaneamente as vivências do burgo. Aos visitantes é proporcionada uma autêntica aula de história ao vivo e o contacto com mostras de produtos e artigos regionais. \n\n Programa_ Alvalade Medieval \nMais informações: https://alvalade-medieval.webnode.pt/ \n 
URL:https://www.cm-santiagocacem.pt/evento/alvalade-medieval-4/
LOCATION:Alvalade\, Santiago do Cacém\, Praça D. Manuel I\, Alvalade\, 7565-021\, Portugal
CATEGORIES:AR|Festas/Feiras/Romarias,cultura,feiras
ATTACH;FMTTYPE=image/jpeg:https://www.cm-santiagocacem.pt/wp-content/uploads/Redes_4x3.jpg
GEO:37.9404636;-8.393768,3
X-APPLE-STRUCTURED-LOCATION;VALUE=URI;X-ADDRESS=Alvalade Santiago do Cacém Praça D. Manuel I Alvalade 7565-021 Portugal;X-APPLE-RADIUS=500;X-TITLE=Praça D. Manuel I:geo:-8.393768,3,37.9404636
END:VEVENT
BEGIN:VEVENT
DTSTART;TZID=Europe/Lisbon:20190920T203000
DTEND;TZID=Europe/Lisbon:20190920T233000
DTSTAMP:20260422T165617
CREATED:20190920T134623Z
LAST-MODIFIED:20190920T134623Z
UID:29216-1569011400-1569022200@www.cm-santiagocacem.pt
SUMMARY:Atribuição Foral Manuelino a Alvalade
DESCRIPTION:Depois de três dias de festa do Alvalade Medieval realiza-se o concerto para homenagear a data mais importante da freguesia – 20 de Setembro de 1510\, dia 20 de setembro\, pelas 21 h na Casa do Povo de Alvalade com o Coro Polifónico EBORAE MVSIC.\nÀs 20h30 haverá uma arruada pela rua Duque da Terceira e rua 31 de Maio pelo grupo de jovens VIVAFOLIA. \n\n 
URL:https://www.cm-santiagocacem.pt/evento/atribuicao-foral-manuelino-a-alvalade/
LOCATION:Casa do Povo de Alvalade
CATEGORIES:AR|Música
ATTACH;FMTTYPE=image/jpeg:https://www.cm-santiagocacem.pt/wp-content/uploads/cartaz-22.jpg
GEO:37.9403014;-8.3940712
END:VEVENT
BEGIN:VEVENT
DTSTART;TZID=Europe/Lisbon:20190913T170000
DTEND;TZID=Europe/Lisbon:20190915T233000
DTSTAMP:20260422T165617
CREATED:20190729T112223Z
LAST-MODIFIED:20190911T104213Z
UID:28141-1568394000-1568590200@www.cm-santiagocacem.pt
SUMMARY:Alvalade Medieval
DESCRIPTION:Dias 13\, 14 e 15 de setembro\, venha fazer uma viagem histórica em Alvalade. Comemorações dos 509 anos do Foral Manuelino. \nSaiba mais em: https://alvalade-medieval.webnode.pt/programa-2019/
URL:https://www.cm-santiagocacem.pt/evento/alvalade-medieval-2/
LOCATION:Alvalade\, Santiago do Cacém
CATEGORIES:AR|Festas/Feiras/Romarias
ATTACH;FMTTYPE=image/jpeg:https://www.cm-santiagocacem.pt/wp-content/uploads/Cartaz-17.jpg
GEO:37.938504;-8.391595
END:VEVENT
END:VCALENDAR