BEGIN:VCALENDAR
VERSION:2.0
PRODID:-//Câmara Municipal de Santiago do Cacém - ECPv6.15.18//NONSGML v1.0//EN
CALSCALE:GREGORIAN
METHOD:PUBLISH
X-ORIGINAL-URL:https://www.cm-santiagocacem.pt
X-WR-CALDESC:Eventos para Câmara Municipal de Santiago do Cacém
REFRESH-INTERVAL;VALUE=DURATION:PT1H
X-Robots-Tag:noindex
X-PUBLISHED-TTL:PT1H
BEGIN:VTIMEZONE
TZID:Europe/Lisbon
BEGIN:DAYLIGHT
TZOFFSETFROM:+0000
TZOFFSETTO:+0100
TZNAME:WEST
DTSTART:20200329T010000
END:DAYLIGHT
BEGIN:STANDARD
TZOFFSETFROM:+0100
TZOFFSETTO:+0000
TZNAME:WET
DTSTART:20201025T010000
END:STANDARD
BEGIN:DAYLIGHT
TZOFFSETFROM:+0000
TZOFFSETTO:+0100
TZNAME:WEST
DTSTART:20210328T010000
END:DAYLIGHT
BEGIN:STANDARD
TZOFFSETFROM:+0100
TZOFFSETTO:+0000
TZNAME:WET
DTSTART:20211031T010000
END:STANDARD
BEGIN:DAYLIGHT
TZOFFSETFROM:+0000
TZOFFSETTO:+0100
TZNAME:WEST
DTSTART:20220327T010000
END:DAYLIGHT
BEGIN:STANDARD
TZOFFSETFROM:+0100
TZOFFSETTO:+0000
TZNAME:WET
DTSTART:20221030T010000
END:STANDARD
BEGIN:DAYLIGHT
TZOFFSETFROM:+0000
TZOFFSETTO:+0100
TZNAME:WEST
DTSTART:20230326T010000
END:DAYLIGHT
BEGIN:STANDARD
TZOFFSETFROM:+0100
TZOFFSETTO:+0000
TZNAME:WET
DTSTART:20231029T010000
END:STANDARD
BEGIN:DAYLIGHT
TZOFFSETFROM:+0000
TZOFFSETTO:+0100
TZNAME:WEST
DTSTART:20240331T010000
END:DAYLIGHT
BEGIN:STANDARD
TZOFFSETFROM:+0100
TZOFFSETTO:+0000
TZNAME:WET
DTSTART:20241027T010000
END:STANDARD
END:VTIMEZONE
BEGIN:VTIMEZONE
TZID:Europe/Paris
BEGIN:DAYLIGHT
TZOFFSETFROM:+0100
TZOFFSETTO:+0200
TZNAME:CEST
DTSTART:20160327T010000
END:DAYLIGHT
BEGIN:STANDARD
TZOFFSETFROM:+0200
TZOFFSETTO:+0100
TZNAME:CET
DTSTART:20161030T010000
END:STANDARD
BEGIN:DAYLIGHT
TZOFFSETFROM:+0100
TZOFFSETTO:+0200
TZNAME:CEST
DTSTART:20170326T010000
END:DAYLIGHT
BEGIN:STANDARD
TZOFFSETFROM:+0200
TZOFFSETTO:+0100
TZNAME:CET
DTSTART:20171029T010000
END:STANDARD
BEGIN:DAYLIGHT
TZOFFSETFROM:+0100
TZOFFSETTO:+0200
TZNAME:CEST
DTSTART:20180325T010000
END:DAYLIGHT
BEGIN:STANDARD
TZOFFSETFROM:+0200
TZOFFSETTO:+0100
TZNAME:CET
DTSTART:20181028T010000
END:STANDARD
BEGIN:DAYLIGHT
TZOFFSETFROM:+0100
TZOFFSETTO:+0200
TZNAME:CEST
DTSTART:20190331T010000
END:DAYLIGHT
BEGIN:STANDARD
TZOFFSETFROM:+0200
TZOFFSETTO:+0100
TZNAME:CET
DTSTART:20191027T010000
END:STANDARD
END:VTIMEZONE
BEGIN:VEVENT
DTSTART;VALUE=DATE:20231201
DTEND;VALUE=DATE:20231231
DTSTAMP:20260421T043252
CREATED:20231123T170102Z
LAST-MODIFIED:20231123T170102Z
UID:59051-1701388800-1703980799@www.cm-santiagocacem.pt
SUMMARY:Exposição Biográfica de Manuel João da Silva
DESCRIPTION:Está patente\, de 1 a 30 de dezembro\, na Biblioteca Municipal Manuel da Fonseca\, em Santiago do Cacém\, uma exposição biográfica sobre a vida de Manuel João da Silva. \nNascido no concelho de Sines\, a 1 de dezembro de  1923\, o professor e escritor Manuel João Silva radicou-se posteriormente em Santiago do Cacém\, em 1960. Começou por trabalhar na agricultura ainda novo (com menos de 10 anos)\, mantendo-se nesta área até aos 25 anos. \nFoi mais tarde professor do 1º ciclo do ensino básico e um autodidata que procurava sempre saber um pouco mais para melhor ensinar. Exerceu o professorado como regente escolar – antigo estatuto do professor que não possuía o curso do Magistério Primário\, que viria a concluir em 1971 – para além de ter sido empregado de escritório na área comercial\, entre outras atividades que entretanto desempenhou. \nManuel João Silva colaborou também no jornal regional “A Gazeta do Sul”\, editado no Montijo. Mostrou ser um grande conhecedor da cultura local e realizou inúmeras pesquisas históricas e etnográficas\, com a preocupação de preservar a cultura e a tradição populares\, de que resultaram muitos trabalhos que o município de Santiago do Cacém tem vindo a divulgar: “A Riqueza dos Falares Regionais I”; “O Mastro da Fonte Loba”; “Pobrezinhos e Malteses de Porro e Manta”; “Como era a Vida em Casa do Lavrador Boieiros e Ganhões”; “Toponímia das ruas de Santiago de Cacém”; “Breve História e Ermidas no Tempo e no Espaço” e “Feiras tradicionais do Município de Santiago do Cacém”.\nA vida dos trabalhadores rurais\, a história local e todo o património oral da região têm um papel central nas suas obras. Dedicou-se também à poesia.
URL:https://www.cm-santiagocacem.pt/evento/exposicao-biografica-de-manuel-joao-da-silva/
LOCATION:Biblioteca Municipal Manuel da Fonseca
CATEGORIES:AR|Exposições,exposições
ATTACH;FMTTYPE=image/jpeg:https://www.cm-santiagocacem.pt/wp-content/uploads/Exposicao_Manuel-Joao-Cartaz-Expo-A3_SITE.jpg
GEO:38.0194123;-8.6947907
END:VEVENT
BEGIN:VEVENT
DTSTART;TZID=Europe/Lisbon:20211023T080000
DTEND;TZID=Europe/Lisbon:20211024T170000
DTSTAMP:20260421T043252
CREATED:20211018T100459Z
LAST-MODIFIED:20211018T100459Z
UID:44524-1634976000-1635094800@www.cm-santiagocacem.pt
SUMMARY:XIII Encontro de História do Alentejo Litoral
DESCRIPTION:Realiza-se nos dias 23 e 24 de outubro\, na Sociedade Harmonia\, o XIII Encontro de História do Alentejo Litoral\, organizado pela Associação Cultural de Santiago do Cacém\, com o apoio da Câmara Municipal de Santiago do Cacém\, conta com a presença dos conferencistas Mário Jorge Santos (médico de saúde pública) e André Silva (investigador da Universidade do Porto). \nNo dia 23 de outubro\, às 22h00\, na Sociedade Harmonia realiza-se um concerto com “O Gajo” que leva a sonoridade da tradicional Viola Campaniça para outras tonalidades\, afastando-se  da linguagem mais tradicional mas mantendo intacta a sua Portugalidade. \n Programa_XIII Encontro de História do Alentejo Litoral
URL:https://www.cm-santiagocacem.pt/evento/xiii-encontro-de-historia-do-alentejo-litoral/
LOCATION:Sociedade Harmonia
CATEGORIES:cultura,história
ATTACH;FMTTYPE=image/jpeg:https://www.cm-santiagocacem.pt/wp-content/uploads/Cartaz-35.jpg
END:VEVENT
BEGIN:VEVENT
DTSTART;VALUE=DATE:20180608
DTEND;VALUE=DATE:20180610
DTSTAMP:20260421T043252
CREATED:20180605T131848Z
LAST-MODIFIED:20180605T161955Z
UID:19439-1528416000-1528588799@www.cm-santiagocacem.pt
SUMMARY:II Grease Festival - Nos Tempos da Brilhantina
DESCRIPTION:Nos dias 08 e 09 de junho decorre na zona histórica da cidade de Santiago do Cacém o II Grease Festival – Nos Tempos da Brilhantina e tem como objetivo recordar os anos 50 do século XX. A iniciativa conta com a organização da Associação Cultural de Santiago do Cacém e da Sociedade Harmonia\, com o apoio da Câmara Municipal de Santiago do Cacém. A entrada é gratuita. \nMais  informações sobre o evento aqui.
URL:https://www.cm-santiagocacem.pt/evento/19439/
LOCATION:Santiago do Cacém
CATEGORIES:Festas,Música
ATTACH;FMTTYPE=image/jpeg:https://www.cm-santiagocacem.pt/wp-content/uploads/Grease-Festival.jpg
GEO:38.0115422;-8.8647535,11
END:VEVENT
BEGIN:VEVENT
DTSTART;TZID=Europe/Paris:20180505T210000
DTEND;TZID=Europe/Paris:20180505T210000
DTSTAMP:20260421T043252
CREATED:20180502T120150Z
LAST-MODIFIED:20180502T120150Z
UID:18811-1525554000-1525554000@www.cm-santiagocacem.pt
SUMMARY:Grease Festival - Nos tempos da brilhantina
DESCRIPTION:Dia 5 de maio\, no Auditório Municipal António Chainho\, em Santiago do Cacém: \n21h00 – Passagem de modelos à Época\n21h30 – Filme: Grease -Nos Tempos da Brilhantina
URL:https://www.cm-santiagocacem.pt/evento/grease-festival-nos-tempos-da-brilhantina/
LOCATION:Auditório Municipal António Chainho
CATEGORIES:Moda
ATTACH;FMTTYPE=image/jpeg:https://www.cm-santiagocacem.pt/wp-content/uploads/cartaz-filme-1.jpg
GEO:38.020338;-8.6939476
END:VEVENT
BEGIN:VEVENT
DTSTART;VALUE=DATE:20180505
DTEND;VALUE=DATE:20180528
DTSTAMP:20260421T043252
CREATED:20180502T115151Z
LAST-MODIFIED:20180502T115151Z
UID:18809-1525478400-1527465599@www.cm-santiagocacem.pt
SUMMARY:Pequena Mostra sobre os Anos 50
DESCRIPTION:De 5 a 27 de maio\, no Auditório Municipal António Chainho\, em Santiago do Cacém\, está patente a exposição Pequena Mostra sobre os Anos 50.  \nEsta mostra pretende ilustrar os anos 50\, também conhecidos como o período dos “anos dourados”. Passando pelo glamour da moda\, dos carros\, das motas e de toda a envolvência que nos faz viajar na cápsula do tempo até aquela época.
URL:https://www.cm-santiagocacem.pt/evento/pequena-mostra-sobre-os-anos-50/
LOCATION:Auditório Municipal António Chainho
CATEGORIES:exposições
ATTACH;FMTTYPE=image/jpeg:https://www.cm-santiagocacem.pt/wp-content/uploads/imagem-exposição-grease-festival-1.jpg
GEO:38.020338;-8.6939476
END:VEVENT
BEGIN:VEVENT
DTSTART;TZID=Europe/Paris:20170609T180000
DTEND;TZID=Europe/Paris:20170610T020000
DTSTAMP:20260421T043252
CREATED:20170524T105309Z
LAST-MODIFIED:20170605T093204Z
UID:12447-1497031200-1497060000@www.cm-santiagocacem.pt
SUMMARY:Grease Festival
DESCRIPTION:Dias 9 e 10 de junho\, na Praça Conde Bracial\, no Centro Histórico de Santiago do Cacém\, Grease Festival Nos Tempos da Brilhantina. Exposições\, Moda anos 50\, Mercado Vintage\, Showcook\, motas e carros  old school\, bares\, snacks e muito mais…
URL:https://www.cm-santiagocacem.pt/evento/grease-festival/
LOCATION:Santiago do Cacém
CATEGORIES:cultura
ATTACH;FMTTYPE=image/jpeg:https://www.cm-santiagocacem.pt/wp-content/uploads/cartaz-a3-com-novas-alterações.jpg
GEO:38.016521;-8.692972
END:VEVENT
END:VCALENDAR