BEGIN:VCALENDAR
VERSION:2.0
PRODID:-//Câmara Municipal de Santiago do Cacém - ECPv6.15.18//NONSGML v1.0//EN
CALSCALE:GREGORIAN
METHOD:PUBLISH
X-WR-CALNAME:Câmara Municipal de Santiago do Cacém
X-ORIGINAL-URL:https://www.cm-santiagocacem.pt
X-WR-CALDESC:Eventos para Câmara Municipal de Santiago do Cacém
REFRESH-INTERVAL;VALUE=DURATION:PT1H
X-Robots-Tag:noindex
X-PUBLISHED-TTL:PT1H
BEGIN:VTIMEZONE
TZID:Europe/Lisbon
BEGIN:DAYLIGHT
TZOFFSETFROM:+0000
TZOFFSETTO:+0100
TZNAME:WEST
DTSTART:20180325T010000
END:DAYLIGHT
BEGIN:STANDARD
TZOFFSETFROM:+0100
TZOFFSETTO:+0000
TZNAME:WET
DTSTART:20181028T010000
END:STANDARD
BEGIN:DAYLIGHT
TZOFFSETFROM:+0000
TZOFFSETTO:+0100
TZNAME:WEST
DTSTART:20190331T010000
END:DAYLIGHT
BEGIN:STANDARD
TZOFFSETFROM:+0100
TZOFFSETTO:+0000
TZNAME:WET
DTSTART:20191027T010000
END:STANDARD
BEGIN:DAYLIGHT
TZOFFSETFROM:+0000
TZOFFSETTO:+0100
TZNAME:WEST
DTSTART:20200329T010000
END:DAYLIGHT
BEGIN:STANDARD
TZOFFSETFROM:+0100
TZOFFSETTO:+0000
TZNAME:WET
DTSTART:20201025T010000
END:STANDARD
BEGIN:DAYLIGHT
TZOFFSETFROM:+0000
TZOFFSETTO:+0100
TZNAME:WEST
DTSTART:20210328T010000
END:DAYLIGHT
BEGIN:STANDARD
TZOFFSETFROM:+0100
TZOFFSETTO:+0000
TZNAME:WET
DTSTART:20211031T010000
END:STANDARD
BEGIN:DAYLIGHT
TZOFFSETFROM:+0000
TZOFFSETTO:+0100
TZNAME:WEST
DTSTART:20220327T010000
END:DAYLIGHT
BEGIN:STANDARD
TZOFFSETFROM:+0100
TZOFFSETTO:+0000
TZNAME:WET
DTSTART:20221030T010000
END:STANDARD
BEGIN:DAYLIGHT
TZOFFSETFROM:+0000
TZOFFSETTO:+0100
TZNAME:WEST
DTSTART:20230326T010000
END:DAYLIGHT
BEGIN:STANDARD
TZOFFSETFROM:+0100
TZOFFSETTO:+0000
TZNAME:WET
DTSTART:20231029T010000
END:STANDARD
BEGIN:DAYLIGHT
TZOFFSETFROM:+0000
TZOFFSETTO:+0100
TZNAME:WEST
DTSTART:20240331T010000
END:DAYLIGHT
BEGIN:STANDARD
TZOFFSETFROM:+0100
TZOFFSETTO:+0000
TZNAME:WET
DTSTART:20241027T010000
END:STANDARD
BEGIN:DAYLIGHT
TZOFFSETFROM:+0000
TZOFFSETTO:+0100
TZNAME:WEST
DTSTART:20250330T010000
END:DAYLIGHT
BEGIN:STANDARD
TZOFFSETFROM:+0100
TZOFFSETTO:+0000
TZNAME:WET
DTSTART:20251026T010000
END:STANDARD
END:VTIMEZONE
BEGIN:VTIMEZONE
TZID:Europe/Paris
BEGIN:DAYLIGHT
TZOFFSETFROM:+0100
TZOFFSETTO:+0200
TZNAME:CEST
DTSTART:20160327T010000
END:DAYLIGHT
BEGIN:STANDARD
TZOFFSETFROM:+0200
TZOFFSETTO:+0100
TZNAME:CET
DTSTART:20161030T010000
END:STANDARD
BEGIN:DAYLIGHT
TZOFFSETFROM:+0100
TZOFFSETTO:+0200
TZNAME:CEST
DTSTART:20170326T010000
END:DAYLIGHT
BEGIN:STANDARD
TZOFFSETFROM:+0200
TZOFFSETTO:+0100
TZNAME:CET
DTSTART:20171029T010000
END:STANDARD
BEGIN:DAYLIGHT
TZOFFSETFROM:+0100
TZOFFSETTO:+0200
TZNAME:CEST
DTSTART:20180325T010000
END:DAYLIGHT
BEGIN:STANDARD
TZOFFSETFROM:+0200
TZOFFSETTO:+0100
TZNAME:CET
DTSTART:20181028T010000
END:STANDARD
BEGIN:DAYLIGHT
TZOFFSETFROM:+0100
TZOFFSETTO:+0200
TZNAME:CEST
DTSTART:20190331T010000
END:DAYLIGHT
BEGIN:STANDARD
TZOFFSETFROM:+0200
TZOFFSETTO:+0100
TZNAME:CET
DTSTART:20191027T010000
END:STANDARD
END:VTIMEZONE
BEGIN:VEVENT
DTSTART;TZID=Europe/Lisbon:20241206T213000
DTEND;TZID=Europe/Lisbon:20241206T213000
DTSTAMP:20260422T135604
CREATED:20241202T101308Z
LAST-MODIFIED:20241202T101308Z
UID:65626-1733520600-1733520600@www.cm-santiagocacem.pt
SUMMARY:Noite de Fados em Brescos
DESCRIPTION:Uma noite de fados com Rita Ribeiro\, Joana Luz\, Luís Saturnino\, Carla Nunes com o seu acordeão fadista\, Carlos Silva\, na viola e Bruno Mira na Guitarra. \n 
URL:https://www.cm-santiagocacem.pt/evento/noite-de-fados-em-brescos/
LOCATION:Associação de Moradores da Zona de Brescos
CATEGORIES:AR|Música,Música
ATTACH;FMTTYPE=image/png:https://www.cm-santiagocacem.pt/wp-content/uploads/Noite-de-Fados-Cartaz_20241113_073940_0000.png
GEO:38.106838;-8.771544
END:VEVENT
BEGIN:VEVENT
DTSTART;TZID=Europe/Lisbon:20191116T220000
DTEND;TZID=Europe/Lisbon:20191116T233000
DTSTAMP:20260422T135604
CREATED:20191025T145936Z
LAST-MODIFIED:20191025T150222Z
UID:29957-1573941600-1573947000@www.cm-santiagocacem.pt
SUMMARY:Grande Noite de Fados
DESCRIPTION:Dia 16 de novembro\, 22h00\, Associação de Moradores da Zona de Brescos. Participação dos fadistas: Diamantina Rodrigues\, Daniela Giblott\, Joana Luz\, Ricardo Martins. Músicos: Carla Nunes\, Carlos Silva\, João Núncio e Gonçalo Cercas.
URL:https://www.cm-santiagocacem.pt/evento/grande-noite-de-fados-3/
LOCATION:Associação de Moradores da Zona de Brescos
CATEGORIES:AR|Música,Música
ATTACH;FMTTYPE=image/jpeg:https://www.cm-santiagocacem.pt/wp-content/uploads/AF_Noite-de-Fados_2019-Alterado-2.jpg
GEO:38.106838;-8.771544
END:VEVENT
BEGIN:VEVENT
DTSTART;TZID=Europe/Paris:20181005T193000
DTEND;TZID=Europe/Paris:20181005T193000
DTSTAMP:20260422T135604
CREATED:20181004T095611Z
LAST-MODIFIED:20181004T095611Z
UID:21546-1538767800-1538767800@www.cm-santiagocacem.pt
SUMMARY:Grande noite de Fado
DESCRIPTION:Dia 5 de outubro\, realiza-se\, na sala de convívio da Associação de Moradores de Brescos\, a II Grande Noite de Fado. A partir das 19h30 tem serviço de bar e jantar. \nConta com os fadistas: André Batista\, Joana Luz\, Maria Mirra\, Paula Cruz e Ricardo Martins\, com os guitarristas João Núncio\, Carlos Silva e Gonçalo Cercas.
URL:https://www.cm-santiagocacem.pt/evento/grande-noite-de-fado/
LOCATION:Brescos
CATEGORIES:Música
ATTACH;FMTTYPE=image/jpeg:https://www.cm-santiagocacem.pt/wp-content/uploads/Noite-de-Fados-Brescos.jpg
END:VEVENT
BEGIN:VEVENT
DTSTART;TZID=Europe/Paris:20171111T210000
DTEND;TZID=Europe/Paris:20171111T210000
DTSTAMP:20260422T135604
CREATED:20171031T153253Z
LAST-MODIFIED:20171031T153419Z
UID:14736-1510434000-1510434000@www.cm-santiagocacem.pt
SUMMARY:Grande Noite de Fados
DESCRIPTION:Dia 11 de novembro\, 21h00\,  na Associação de Moradores da Zona de Brescos. Fadistas: Ana Botas\, Elsa Casanova\, Hermínio Silva\, José Casanova\, Mariana Botas. Músicos: Carlos Silva (viola) e João Núncio (guitarra). A receita reverte a favor da construção da 2.ª fase da Sala de Convívio da Associação.
URL:https://www.cm-santiagocacem.pt/evento/grande-noite-de-fados/
CATEGORIES:Festas
ATTACH;FMTTYPE=image/jpeg:https://www.cm-santiagocacem.pt/wp-content/uploads/Grande-Noite-de-Fados-Brescos.jpg
END:VEVENT
END:VCALENDAR