BEGIN:VCALENDAR
VERSION:2.0
PRODID:-//Câmara Municipal de Santiago do Cacém - ECPv6.15.18//NONSGML v1.0//EN
CALSCALE:GREGORIAN
METHOD:PUBLISH
X-ORIGINAL-URL:https://www.cm-santiagocacem.pt
X-WR-CALDESC:Eventos para Câmara Municipal de Santiago do Cacém
REFRESH-INTERVAL;VALUE=DURATION:PT1H
X-Robots-Tag:noindex
X-PUBLISHED-TTL:PT1H
BEGIN:VTIMEZONE
TZID:Europe/Lisbon
BEGIN:DAYLIGHT
TZOFFSETFROM:+0000
TZOFFSETTO:+0100
TZNAME:WEST
DTSTART:20210328T010000
END:DAYLIGHT
BEGIN:STANDARD
TZOFFSETFROM:+0100
TZOFFSETTO:+0000
TZNAME:WET
DTSTART:20211031T010000
END:STANDARD
BEGIN:DAYLIGHT
TZOFFSETFROM:+0000
TZOFFSETTO:+0100
TZNAME:WEST
DTSTART:20220327T010000
END:DAYLIGHT
BEGIN:STANDARD
TZOFFSETFROM:+0100
TZOFFSETTO:+0000
TZNAME:WET
DTSTART:20221030T010000
END:STANDARD
BEGIN:DAYLIGHT
TZOFFSETFROM:+0000
TZOFFSETTO:+0100
TZNAME:WEST
DTSTART:20230326T010000
END:DAYLIGHT
BEGIN:STANDARD
TZOFFSETFROM:+0100
TZOFFSETTO:+0000
TZNAME:WET
DTSTART:20231029T010000
END:STANDARD
BEGIN:DAYLIGHT
TZOFFSETFROM:+0000
TZOFFSETTO:+0100
TZNAME:WEST
DTSTART:20240331T010000
END:DAYLIGHT
BEGIN:STANDARD
TZOFFSETFROM:+0100
TZOFFSETTO:+0000
TZNAME:WET
DTSTART:20241027T010000
END:STANDARD
BEGIN:DAYLIGHT
TZOFFSETFROM:+0000
TZOFFSETTO:+0100
TZNAME:WEST
DTSTART:20250330T010000
END:DAYLIGHT
BEGIN:STANDARD
TZOFFSETFROM:+0100
TZOFFSETTO:+0000
TZNAME:WET
DTSTART:20251026T010000
END:STANDARD
END:VTIMEZONE
BEGIN:VEVENT
DTSTART;TZID=Europe/Lisbon:20240921T090000
DTEND;TZID=Europe/Lisbon:20240921T090000
DTSTAMP:20260420T165834
CREATED:20240919T103809Z
LAST-MODIFIED:20240919T103809Z
UID:64585-1726909200-1726909200@www.cm-santiagocacem.pt
SUMMARY:"Correr pela Europa” - 7.ª edição
DESCRIPTION:Realiza-se\, no dia 21 de setembro\, a 7.ª edição da prova “Correr pela Europa” com o objetivo de sensibilizar os cidadãos europeus a escolherem opções de mobilidade mais sustentáveis. \nA 7.ª edição da prova de atletismo “Correr pela Europa” visa a promoção do exercício físico e de hábitos de vida saudáveis junto da população\, através de uma corrida de 10 Km e de uma caminhada de 5 km para adultos e uma prova destinada a crianças e jovens até aos 17 anos. Com o presente evento\, visa-se assinalar a Semana Europeia da Mobilidade e o Dia Europeu sem Carros. \nA Câmara Municipal de Santiago do Cacém\, a Junta de Freguesia de Santo André\, os Kotas Bike Team e Decisões & Soluções de Vila Nova de Santo André mantêm-se como parceiros na organização desta iniciativa\, do Europe Direct – Alentejo Central e Litoral.
URL:https://www.cm-santiagocacem.pt/evento/correr-pela-europa-7-a-edicao/
LOCATION:Parque Central – Vila Nova de Santo André
CATEGORIES:AR|Desporto,desporto
ATTACH;FMTTYPE=image/jpeg:https://www.cm-santiagocacem.pt/wp-content/uploads/7.a-edicao-Correr-pela-Europa.jpg
END:VEVENT
BEGIN:VEVENT
DTSTART;VALUE=DATE:20220924
DTEND;VALUE=DATE:20220925
DTSTAMP:20260420T165834
CREATED:20220822T095627Z
LAST-MODIFIED:20220919T081227Z
UID:50672-1663977600-1664063999@www.cm-santiagocacem.pt
SUMMARY:Correr pela Europa - 5ª edição
DESCRIPTION:Realiza-se\, no dia 24 de setembro\, a 5ª edição da prova “Correr pela Europa” com o objetivo de sensibilizar os cidadãos europeus a escolherem opções de mobilidade mais sustentáveis. \nA atividade configura uma prova de corrida e/ou caminhada\, tendo por objetivo motivar e inspirar a comunidade local e regional\, a adotar um estilo de vida saudável e sustentável\, permitindo assim atingir os compromissos adotados para uma mobilidade urbana mais sustentável\, através do Pacto Ecológico Europeu. \nCada atleta poderá escolher o desafio indicado para si\, com 10km de corrida\, 5km de caminhada ou ainda uma minicorrida para menores de 18 anos. Os diversos escalões em competição e respetivos vencedores serão premiados de acordo com o regulamento de prova. \nA Câmara Municipal de Santiago do Cacém\, a Junta de Freguesia de Santo André\, os Kotas e Decisões & Soluções de Vila Nova de Santo André mantêm-se como parceiros na organização desta iniciativa\, do Centro Europe Direct Alentejo Central e Litoral. \nInscrições e mais informações em: https://meutempo.pt/prova?correrpelaeuropa
URL:https://www.cm-santiagocacem.pt/evento/correr-pela-europa-5a-edicao/
LOCATION:Parque Central – Vila Nova de Santo André
CATEGORIES:AR|Desporto,desporto
ATTACH;FMTTYPE=image/jpeg:https://www.cm-santiagocacem.pt/wp-content/uploads/Correr-pela-Europa-2022.jpg
END:VEVENT
END:VCALENDAR