BEGIN:VCALENDAR
VERSION:2.0
PRODID:-//Câmara Municipal de Santiago do Cacém - ECPv6.15.18//NONSGML v1.0//EN
CALSCALE:GREGORIAN
METHOD:PUBLISH
X-ORIGINAL-URL:https://www.cm-santiagocacem.pt
X-WR-CALDESC:Eventos para Câmara Municipal de Santiago do Cacém
REFRESH-INTERVAL;VALUE=DURATION:PT1H
X-Robots-Tag:noindex
X-PUBLISHED-TTL:PT1H
BEGIN:VTIMEZONE
TZID:Europe/Lisbon
BEGIN:DAYLIGHT
TZOFFSETFROM:+0000
TZOFFSETTO:+0100
TZNAME:WEST
DTSTART:20180325T010000
END:DAYLIGHT
BEGIN:STANDARD
TZOFFSETFROM:+0100
TZOFFSETTO:+0000
TZNAME:WET
DTSTART:20181028T010000
END:STANDARD
BEGIN:DAYLIGHT
TZOFFSETFROM:+0000
TZOFFSETTO:+0100
TZNAME:WEST
DTSTART:20190331T010000
END:DAYLIGHT
BEGIN:STANDARD
TZOFFSETFROM:+0100
TZOFFSETTO:+0000
TZNAME:WET
DTSTART:20191027T010000
END:STANDARD
BEGIN:DAYLIGHT
TZOFFSETFROM:+0000
TZOFFSETTO:+0100
TZNAME:WEST
DTSTART:20200329T010000
END:DAYLIGHT
BEGIN:STANDARD
TZOFFSETFROM:+0100
TZOFFSETTO:+0000
TZNAME:WET
DTSTART:20201025T010000
END:STANDARD
END:VTIMEZONE
BEGIN:VTIMEZONE
TZID:Europe/Paris
BEGIN:DAYLIGHT
TZOFFSETFROM:+0100
TZOFFSETTO:+0200
TZNAME:CEST
DTSTART:20160327T010000
END:DAYLIGHT
BEGIN:STANDARD
TZOFFSETFROM:+0200
TZOFFSETTO:+0100
TZNAME:CET
DTSTART:20161030T010000
END:STANDARD
BEGIN:DAYLIGHT
TZOFFSETFROM:+0100
TZOFFSETTO:+0200
TZNAME:CEST
DTSTART:20170326T010000
END:DAYLIGHT
BEGIN:STANDARD
TZOFFSETFROM:+0200
TZOFFSETTO:+0100
TZNAME:CET
DTSTART:20171029T010000
END:STANDARD
BEGIN:DAYLIGHT
TZOFFSETFROM:+0100
TZOFFSETTO:+0200
TZNAME:CEST
DTSTART:20180325T010000
END:DAYLIGHT
BEGIN:STANDARD
TZOFFSETFROM:+0200
TZOFFSETTO:+0100
TZNAME:CET
DTSTART:20181028T010000
END:STANDARD
END:VTIMEZONE
BEGIN:VEVENT
DTSTART;TZID=Europe/Lisbon:20191213T213000
DTEND;TZID=Europe/Lisbon:20191213T213000
DTSTAMP:20260425T134121
CREATED:20191203T150209Z
LAST-MODIFIED:20191209T104746Z
UID:30764-1576272600-1576272600@www.cm-santiagocacem.pt
SUMMARY:Teatro "A Viagem" - Cercisiago
DESCRIPTION:Realiza-se no dia 13 de dezembro\, pelas 21h30\, no Auditório Municipal António Chainho\, em Santiago do Cacém a peça de teatro A Viagem\, promovido pela Cercisiago. \nA vida é como uma viagem de comboio cheia de surpresas agradáveis com os embarques e tristezas com os desembarques. Fazer desta viagem “a VIAGEM” é dever de todos. \nOs bilhetes estão à venda na Cercisiago e no Auditório Municipal António Chainho.
URL:https://www.cm-santiagocacem.pt/evento/teatro-a-viagem-cercisiago/
LOCATION:Auditório Municipal António Chainho
CATEGORIES:AR|Teatro,cultura,teatro
ATTACH;FMTTYPE=image/jpeg:https://www.cm-santiagocacem.pt/wp-content/uploads/A-Viagem-Poster-A3.jpg
GEO:38.020338;-8.6939476
END:VEVENT
BEGIN:VEVENT
DTSTART;TZID=Europe/Paris:20171213T213000
DTEND;TZID=Europe/Paris:20171213T213000
DTSTAMP:20260425T134121
CREATED:20171204T122429Z
LAST-MODIFIED:20171207T165000Z
UID:15339-1513200600-1513200600@www.cm-santiagocacem.pt
SUMMARY:Teatro - "De Olhos Fechados"
DESCRIPTION:Dia 13 de dezembro\, 21h30\, Auditório Municipal António Chainho. Co-produção: Cercisiago e Projeto Crinabel Teatro.
URL:https://www.cm-santiagocacem.pt/evento/teatro-de-olhos-fechados/
LOCATION:Auditório Municipal António Chainho
CATEGORIES:teatro
ATTACH;FMTTYPE=image/jpeg:https://www.cm-santiagocacem.pt/wp-content/uploads/teatro_de-olhos-fechados.jpg
GEO:38.020338;-8.6939476
END:VEVENT
BEGIN:VEVENT
DTSTART;TZID=Europe/Paris:20171128T131500
DTEND;TZID=Europe/Paris:20171128T131500
DTSTAMP:20260425T134121
CREATED:20171025T152759Z
LAST-MODIFIED:20171025T152759Z
UID:14644-1511874900-1511874900@www.cm-santiagocacem.pt
SUMMARY:Super aula de hidroginástica
DESCRIPTION:Dia 28 de novembro\, 13h15\, Piscinas Municipais de Santiago do Cacém. Aberto à comunidade. Inscrições gratuitas. Organizado em parceria com a Cercisiago.
URL:https://www.cm-santiagocacem.pt/evento/super-aula-de-hidroginastica/
LOCATION:Piscinas Municipais de Santiago do Cacém\, 7540
CATEGORIES:desporto
ATTACH;FMTTYPE=image/jpeg:https://www.cm-santiagocacem.pt/wp-content/uploads/Nova-imagem-8-1.jpg
GEO:38.0124339;-8.6979613,17
END:VEVENT
END:VCALENDAR