BEGIN:VCALENDAR
VERSION:2.0
PRODID:-//Câmara Municipal de Santiago do Cacém - ECPv6.15.18//NONSGML v1.0//EN
CALSCALE:GREGORIAN
METHOD:PUBLISH
X-WR-CALNAME:Câmara Municipal de Santiago do Cacém
X-ORIGINAL-URL:https://www.cm-santiagocacem.pt
X-WR-CALDESC:Eventos para Câmara Municipal de Santiago do Cacém
REFRESH-INTERVAL;VALUE=DURATION:PT1H
X-Robots-Tag:noindex
X-PUBLISHED-TTL:PT1H
BEGIN:VTIMEZONE
TZID:Europe/Lisbon
BEGIN:DAYLIGHT
TZOFFSETFROM:+0000
TZOFFSETTO:+0100
TZNAME:WEST
DTSTART:20210328T010000
END:DAYLIGHT
BEGIN:STANDARD
TZOFFSETFROM:+0100
TZOFFSETTO:+0000
TZNAME:WET
DTSTART:20211031T010000
END:STANDARD
BEGIN:DAYLIGHT
TZOFFSETFROM:+0000
TZOFFSETTO:+0100
TZNAME:WEST
DTSTART:20220327T010000
END:DAYLIGHT
BEGIN:STANDARD
TZOFFSETFROM:+0100
TZOFFSETTO:+0000
TZNAME:WET
DTSTART:20221030T010000
END:STANDARD
BEGIN:DAYLIGHT
TZOFFSETFROM:+0000
TZOFFSETTO:+0100
TZNAME:WEST
DTSTART:20230326T010000
END:DAYLIGHT
BEGIN:STANDARD
TZOFFSETFROM:+0100
TZOFFSETTO:+0000
TZNAME:WET
DTSTART:20231029T010000
END:STANDARD
END:VTIMEZONE
BEGIN:VEVENT
DTSTART;TZID=Europe/Lisbon:20220401T080000
DTEND;TZID=Europe/Lisbon:20220430T233000
DTSTAMP:20260424T004431
CREATED:20220401T103956Z
LAST-MODIFIED:20220403T162736Z
UID:47750-1648800000-1651361400@www.cm-santiagocacem.pt
SUMMARY:Abril- Mês da Prevenção dos Maus Tratos na Infância.
DESCRIPTION:A Câmara Municipal de Santiago do Cacém e as Juntas de Freguesia do Município associam-se à Comissão de Proteção de Crianças e Jovens de Santiago do Cacém na campanha de promoção da prevenção dos maus tratos infantis. Durante o mês de abril\, serão distribuídos laços azuis em memória daqueles que são vítimas de abuso infantil e também como forma de apoiar as famílias e fortalecer as comunidades\, nos esforços necessários para prevenir o abuso infantil e a negligência.\nPrograma:\nDia 13 de abril\nAção de rua em Vila Nova de Santo André – Mercado Municipal\nDistribuição de laços azuis e informação de sensibilização para os Direitos das Crianças\n\n\nPrograma:\nDia 25 de abril\nAção de rua em Santiago do Cacém – Jardim Municipal\nDistribuição de laços azuis e informação de sensibilização para os Direitos das Crianças\n\n\n\n\n\n\nFolheto_cpcj_ Direitos das crianças – O que são os maus tratos
URL:https://www.cm-santiagocacem.pt/evento/abril-mes-da-prevencao-dos-maus-tratos-na-infancia/
LOCATION:Vários locais
CATEGORIES:AR|Infantil,prevenção
ATTACH;FMTTYPE=image/jpeg:https://www.cm-santiagocacem.pt/wp-content/uploads/Abril-mes-de-prevencao-1.jpg
END:VEVENT
END:VCALENDAR