BEGIN:VCALENDAR
VERSION:2.0
PRODID:-//Câmara Municipal de Santiago do Cacém - ECPv6.15.18//NONSGML v1.0//EN
CALSCALE:GREGORIAN
METHOD:PUBLISH
X-ORIGINAL-URL:https://www.cm-santiagocacem.pt
X-WR-CALDESC:Eventos para Câmara Municipal de Santiago do Cacém
REFRESH-INTERVAL;VALUE=DURATION:PT1H
X-Robots-Tag:noindex
X-PUBLISHED-TTL:PT1H
BEGIN:VTIMEZONE
TZID:Europe/Lisbon
BEGIN:DAYLIGHT
TZOFFSETFROM:+0000
TZOFFSETTO:+0100
TZNAME:WEST
DTSTART:20180325T010000
END:DAYLIGHT
BEGIN:STANDARD
TZOFFSETFROM:+0100
TZOFFSETTO:+0000
TZNAME:WET
DTSTART:20181028T010000
END:STANDARD
BEGIN:DAYLIGHT
TZOFFSETFROM:+0000
TZOFFSETTO:+0100
TZNAME:WEST
DTSTART:20190331T010000
END:DAYLIGHT
BEGIN:STANDARD
TZOFFSETFROM:+0100
TZOFFSETTO:+0000
TZNAME:WET
DTSTART:20191027T010000
END:STANDARD
BEGIN:DAYLIGHT
TZOFFSETFROM:+0000
TZOFFSETTO:+0100
TZNAME:WEST
DTSTART:20200329T010000
END:DAYLIGHT
BEGIN:STANDARD
TZOFFSETFROM:+0100
TZOFFSETTO:+0000
TZNAME:WET
DTSTART:20201025T010000
END:STANDARD
BEGIN:DAYLIGHT
TZOFFSETFROM:+0000
TZOFFSETTO:+0100
TZNAME:WEST
DTSTART:20210328T010000
END:DAYLIGHT
BEGIN:STANDARD
TZOFFSETFROM:+0100
TZOFFSETTO:+0000
TZNAME:WET
DTSTART:20211031T010000
END:STANDARD
BEGIN:DAYLIGHT
TZOFFSETFROM:+0000
TZOFFSETTO:+0100
TZNAME:WEST
DTSTART:20220327T010000
END:DAYLIGHT
BEGIN:STANDARD
TZOFFSETFROM:+0100
TZOFFSETTO:+0000
TZNAME:WET
DTSTART:20221030T010000
END:STANDARD
BEGIN:DAYLIGHT
TZOFFSETFROM:+0000
TZOFFSETTO:+0100
TZNAME:WEST
DTSTART:20230326T010000
END:DAYLIGHT
BEGIN:STANDARD
TZOFFSETFROM:+0100
TZOFFSETTO:+0000
TZNAME:WET
DTSTART:20231029T010000
END:STANDARD
BEGIN:DAYLIGHT
TZOFFSETFROM:+0000
TZOFFSETTO:+0100
TZNAME:WEST
DTSTART:20240331T010000
END:DAYLIGHT
BEGIN:STANDARD
TZOFFSETFROM:+0100
TZOFFSETTO:+0000
TZNAME:WET
DTSTART:20241027T010000
END:STANDARD
END:VTIMEZONE
BEGIN:VTIMEZONE
TZID:Europe/Paris
BEGIN:DAYLIGHT
TZOFFSETFROM:+0100
TZOFFSETTO:+0200
TZNAME:CEST
DTSTART:20160327T010000
END:DAYLIGHT
BEGIN:STANDARD
TZOFFSETFROM:+0200
TZOFFSETTO:+0100
TZNAME:CET
DTSTART:20161030T010000
END:STANDARD
BEGIN:DAYLIGHT
TZOFFSETFROM:+0100
TZOFFSETTO:+0200
TZNAME:CEST
DTSTART:20170326T010000
END:DAYLIGHT
BEGIN:STANDARD
TZOFFSETFROM:+0200
TZOFFSETTO:+0100
TZNAME:CET
DTSTART:20171029T010000
END:STANDARD
BEGIN:DAYLIGHT
TZOFFSETFROM:+0100
TZOFFSETTO:+0200
TZNAME:CEST
DTSTART:20180325T010000
END:DAYLIGHT
BEGIN:STANDARD
TZOFFSETFROM:+0200
TZOFFSETTO:+0100
TZNAME:CET
DTSTART:20181028T010000
END:STANDARD
BEGIN:DAYLIGHT
TZOFFSETFROM:+0100
TZOFFSETTO:+0200
TZNAME:CEST
DTSTART:20190331T010000
END:DAYLIGHT
BEGIN:STANDARD
TZOFFSETFROM:+0200
TZOFFSETTO:+0100
TZNAME:CET
DTSTART:20191027T010000
END:STANDARD
END:VTIMEZONE
BEGIN:VEVENT
DTSTART;VALUE=DATE:20231101
DTEND;VALUE=DATE:20231106
DTSTAMP:20260421T055548
CREATED:20231018T092332Z
LAST-MODIFIED:20231018T094023Z
UID:58401-1698796800-1699228799@www.cm-santiagocacem.pt
SUMMARY:Peditório Nacional 2023 – Liga Portuguesa Contra o Cancro
DESCRIPTION:Realiza-se de 1 a 5 de novembro de 2023 o Peditório Nacional da Liga Portuguesa Contra o Cancro. \n\nDesenvolvido anualmente e em contexto de voluntariado\, o peditório de rua da Liga Portuguesa Contra o Cancro representa\, não só\, a principal fonte de financiamento da Instituição na sua relação com a comunidade\, mas sobretudo o garante da sustentabilidade das atividades que promove no âmbito dos seus quatro eixos de missão: o apoio ao doente oncológico e cuidadores\, a promoção da saúde\, a prevenção do cancro e o estímulo à formação e investigação em oncologia.\nMais uma vez\, este peditório nacional é apadrinhado por Cristiano Ronaldo\, convidando os cidadãos a juntarem-se a esta causa\, com o objetivo de fazer da luta contra o cancro um exemplo nacional de entreajuda e de solidariedade.\n\n\nNinguém consegue fazer tudo sozinho. Faça parte desta equipa… porque contra o Cancro\, todos contam!\n\nMais informações em https://www.ligacontracancro.pt/peditorio
URL:https://www.cm-santiagocacem.pt/evento/peditorio-nacional-2023-liga-portuguesa-contra-o-cancro/
CATEGORIES:saúde
ATTACH;FMTTYPE=image/jpeg:https://www.cm-santiagocacem.pt/wp-content/uploads/AFr-LPCC-Peditorio-Nacional-post-1200x1200px.jpg
END:VEVENT
BEGIN:VEVENT
DTSTART;VALUE=DATE:20191031
DTEND;VALUE=DATE:20191104
DTSTAMP:20260421T055548
CREATED:20191015T093726Z
LAST-MODIFIED:20191015T093726Z
UID:29672-1572480000-1572825599@www.cm-santiagocacem.pt
SUMMARY:Peditório Nacional 2019 - Liga Portuguesa Contra o Cancro
DESCRIPTION:Realiza-se de 31 de outubro a 3 de novembro o Peditório Nacional da Liga Portuguesa Contra o Cancro. Colabore como voluntário no Peditório Nacional. \nNA LUTA CONTRA O CANCRO\, TODOS CONTAM.
URL:https://www.cm-santiagocacem.pt/evento/peditorio-nacional-2019-liga-portuguesa-contra-o-cancro/
LOCATION:Município de Santiago do Cacém
CATEGORIES:informação
ATTACH;FMTTYPE=image/jpeg:https://www.cm-santiagocacem.pt/wp-content/uploads/Peditorio_Nac_Post_LPCC-2019_900x900px.jpg
GEO:37.9380587;-8.6994583
END:VEVENT
BEGIN:VEVENT
DTSTART;TZID=Europe/Paris:20180319T080000
DTEND;TZID=Europe/Paris:20180501T170000
DTSTAMP:20260421T055548
CREATED:20180319T122852Z
LAST-MODIFIED:20180319T122852Z
UID:17887-1521446400-1525194000@www.cm-santiagocacem.pt
SUMMARY:Liga Portuguesa Contra o Cancro
DESCRIPTION:  \nQuando efetuar a declaração de IRS ajude a Liga Portuguesa Contra o Cancro (LPPC) com o seu contributo a LPCC  poderá amplicar o apoio social ao doente oncológico e famílias carenciadas\,  promover  hábitos de vida saudável\,  rastreios do cancro da mama\,  apoias a investigação científica\,  formação de profissionais em oncologia\, e em tudo o mais que a LPCC faz.
URL:https://www.cm-santiagocacem.pt/evento/liga-portuguesa-contra-o-cancro/
CATEGORIES:saúde
ATTACH;FMTTYPE=image/png:https://www.cm-santiagocacem.pt/wp-content/uploads/cartaz.png
END:VEVENT
BEGIN:VEVENT
DTSTART;VALUE=DATE:20171101
DTEND;VALUE=DATE:20171106
DTSTAMP:20260421T055548
CREATED:20171017T092436Z
LAST-MODIFIED:20171017T092832Z
UID:14458-1509494400-1509926399@www.cm-santiagocacem.pt
SUMMARY:Peditório Nacional - Liga Portuguesa Contra o Cancro
DESCRIPTION:De 1 a 5 de novembro realiza-se a\, nível nacional\, o Peditório Nacional da Liga Portuguesa Contra o Cancro. Ser o melhor do mundo é dizer SIM a esta causa! \nhttps://www.cm-santiagocacem.pt/wp-content/uploads/Vídeo_LPCC.mp4
URL:https://www.cm-santiagocacem.pt/evento/peditorio-nacional-liga-portuguesa-contra-o-cancro/
CATEGORIES:solidariedade
ATTACH;FMTTYPE=image/jpeg:https://www.cm-santiagocacem.pt/wp-content/uploads/Cartaz_LPCC-peditorio-Nacional.jpg
END:VEVENT
END:VCALENDAR