BEGIN:VCALENDAR
VERSION:2.0
PRODID:-//Câmara Municipal de Santiago do Cacém - ECPv6.15.18//NONSGML v1.0//EN
CALSCALE:GREGORIAN
METHOD:PUBLISH
X-WR-CALNAME:Câmara Municipal de Santiago do Cacém
X-ORIGINAL-URL:https://www.cm-santiagocacem.pt
X-WR-CALDESC:Eventos para Câmara Municipal de Santiago do Cacém
REFRESH-INTERVAL;VALUE=DURATION:PT1H
X-Robots-Tag:noindex
X-PUBLISHED-TTL:PT1H
BEGIN:VTIMEZONE
TZID:Europe/Lisbon
BEGIN:DAYLIGHT
TZOFFSETFROM:+0000
TZOFFSETTO:+0100
TZNAME:WEST
DTSTART:20210328T010000
END:DAYLIGHT
BEGIN:STANDARD
TZOFFSETFROM:+0100
TZOFFSETTO:+0000
TZNAME:WET
DTSTART:20211031T010000
END:STANDARD
BEGIN:DAYLIGHT
TZOFFSETFROM:+0000
TZOFFSETTO:+0100
TZNAME:WEST
DTSTART:20220327T010000
END:DAYLIGHT
BEGIN:STANDARD
TZOFFSETFROM:+0100
TZOFFSETTO:+0000
TZNAME:WET
DTSTART:20221030T010000
END:STANDARD
BEGIN:DAYLIGHT
TZOFFSETFROM:+0000
TZOFFSETTO:+0100
TZNAME:WEST
DTSTART:20230326T010000
END:DAYLIGHT
BEGIN:STANDARD
TZOFFSETFROM:+0100
TZOFFSETTO:+0000
TZNAME:WET
DTSTART:20231029T010000
END:STANDARD
BEGIN:DAYLIGHT
TZOFFSETFROM:+0000
TZOFFSETTO:+0100
TZNAME:WEST
DTSTART:20240331T010000
END:DAYLIGHT
BEGIN:STANDARD
TZOFFSETFROM:+0100
TZOFFSETTO:+0000
TZNAME:WET
DTSTART:20241027T010000
END:STANDARD
END:VTIMEZONE
BEGIN:VEVENT
DTSTART;TZID=Europe/Lisbon:20230402T090000
DTEND;TZID=Europe/Lisbon:20230402T090000
DTSTAMP:20260419T173010
CREATED:20230331T084131Z
LAST-MODIFIED:20230331T084131Z
UID:54438-1680426000-1680426000@www.cm-santiagocacem.pt
SUMMARY:2.º Passeio de motorizadas por terra batida
DESCRIPTION:Passeio de motorizadas guiado num percurso de 30km pelo território de município de Santiago do Cacém.
URL:https://www.cm-santiagocacem.pt/evento/2-o-passeio-de-motorizadas-por-terra-batida/
LOCATION:Município de Santiago do Cacém
CATEGORIES:cultura,Festas
ATTACH;FMTTYPE=image/jpeg:https://www.cm-santiagocacem.pt/wp-content/uploads/Passeio-motizadas.jpg
GEO:37.9380587;-8.6994583
END:VEVENT
BEGIN:VEVENT
DTSTART;VALUE=DATE:20220327
DTEND;VALUE=DATE:20220328
DTSTAMP:20260419T173010
CREATED:20220318T120752Z
LAST-MODIFIED:20220318T120752Z
UID:47446-1648339200-1648425599@www.cm-santiagocacem.pt
SUMMARY:1.º Passeio de Motorizadas Relvas Verdes
DESCRIPTION:Realiza-se no dia 27 de março\, a partir das 8h00\, com concentração junto à sala de convívio dos Relvenses\, o 1.º Passeio de Motorizadas nas Relvas Verdes\, em terra batida\, organizado pelos “Os Cola Pistons”. \nInscrições até 20 de março.
URL:https://www.cm-santiagocacem.pt/evento/1-o-passeio-de-motorizadas-relvas-verdes/
LOCATION:Relvas Verdes\, Santiago do Cacém\, Portugal
CATEGORIES:AR|Desporto,desporto
ATTACH;FMTTYPE=image/jpeg:https://www.cm-santiagocacem.pt/wp-content/uploads/FlyersColaPistonsPasseio-27Marco2022.jpg
GEO:38.0162314;-8.6956768
END:VEVENT
END:VCALENDAR