BEGIN:VCALENDAR
VERSION:2.0
PRODID:-//Câmara Municipal de Santiago do Cacém - ECPv6.15.18//NONSGML v1.0//EN
CALSCALE:GREGORIAN
METHOD:PUBLISH
X-WR-CALNAME:Câmara Municipal de Santiago do Cacém
X-ORIGINAL-URL:https://www.cm-santiagocacem.pt
X-WR-CALDESC:Eventos para Câmara Municipal de Santiago do Cacém
REFRESH-INTERVAL;VALUE=DURATION:PT1H
X-Robots-Tag:noindex
X-PUBLISHED-TTL:PT1H
BEGIN:VTIMEZONE
TZID:Europe/Lisbon
BEGIN:DAYLIGHT
TZOFFSETFROM:+0000
TZOFFSETTO:+0100
TZNAME:WEST
DTSTART:20200329T010000
END:DAYLIGHT
BEGIN:STANDARD
TZOFFSETFROM:+0100
TZOFFSETTO:+0000
TZNAME:WET
DTSTART:20201025T010000
END:STANDARD
BEGIN:DAYLIGHT
TZOFFSETFROM:+0000
TZOFFSETTO:+0100
TZNAME:WEST
DTSTART:20210328T010000
END:DAYLIGHT
BEGIN:STANDARD
TZOFFSETFROM:+0100
TZOFFSETTO:+0000
TZNAME:WET
DTSTART:20211031T010000
END:STANDARD
BEGIN:DAYLIGHT
TZOFFSETFROM:+0000
TZOFFSETTO:+0100
TZNAME:WEST
DTSTART:20220327T010000
END:DAYLIGHT
BEGIN:STANDARD
TZOFFSETFROM:+0100
TZOFFSETTO:+0000
TZNAME:WET
DTSTART:20221030T010000
END:STANDARD
END:VTIMEZONE
BEGIN:VEVENT
DTSTART;TZID=Europe/Lisbon:20210731T200000
DTEND;TZID=Europe/Lisbon:20210731T213000
DTSTAMP:20260421T032000
CREATED:20210726T150113Z
LAST-MODIFIED:20210726T150113Z
UID:42803-1627761600-1627767000@www.cm-santiagocacem.pt
SUMMARY:A Costa das Cegonhas
DESCRIPTION:Desde 2012 que a Associação Rota Vicentina procura mostrar ao país e ao mundo\, aquilo que é este pedaço de terra e toda a rede viva que dele faz parte. E é essa missão que continua a guiar o seu caminho e que a conduz a uma mostra itinerante do documentário “A Costa das Cegonhas – Um retrato natural do Sudoeste pelas salas da região\, durante os meses de Verão.\nProduzido pela Rota Vicentina\, este filme apresenta a Costa do Sudoeste de Portugal através de uma narrativa sobre o papel do Homem no ecossistema\, numa história guiada pela cegonha-branca\, um ícone da região.\nRealizado por Ricardo Guerreiro e Luís Quinta\, uma dupla conhecida em Portugal pela fotografia e paixão pelo mundo selvagem\, este documentário de natureza mostra também um contraponto com os humanos e do seu modo de vida mais recente\, passando também\npelo momento atual e perspetivas de futuro.\nCom texto de Sandro William Junqueira e música de Avelino Santolalla\, o documentário “A Costa das Cegonhas” contou ainda com a revisão científica da professora e bióloga local Paula Canha.
URL:https://www.cm-santiagocacem.pt/evento/a-costa-das-cegonhas/
LOCATION:Auditório Municipal António Chainho
CATEGORIES:AR|Cinema,cinema
ATTACH;FMTTYPE=image/jpeg:https://www.cm-santiagocacem.pt/wp-content/uploads/Cartaz-33.jpg
GEO:38.020338;-8.6939476
END:VEVENT
END:VCALENDAR