BEGIN:VCALENDAR
VERSION:2.0
PRODID:-//Câmara Municipal de Santiago do Cacém - ECPv6.15.18//NONSGML v1.0//EN
CALSCALE:GREGORIAN
METHOD:PUBLISH
X-ORIGINAL-URL:https://www.cm-santiagocacem.pt
X-WR-CALDESC:Eventos para Câmara Municipal de Santiago do Cacém
REFRESH-INTERVAL;VALUE=DURATION:PT1H
X-Robots-Tag:noindex
X-PUBLISHED-TTL:PT1H
BEGIN:VTIMEZONE
TZID:Europe/Lisbon
BEGIN:DAYLIGHT
TZOFFSETFROM:+0000
TZOFFSETTO:+0100
TZNAME:WEST
DTSTART:20220327T010000
END:DAYLIGHT
BEGIN:STANDARD
TZOFFSETFROM:+0100
TZOFFSETTO:+0000
TZNAME:WET
DTSTART:20221030T010000
END:STANDARD
BEGIN:DAYLIGHT
TZOFFSETFROM:+0000
TZOFFSETTO:+0100
TZNAME:WEST
DTSTART:20230326T010000
END:DAYLIGHT
BEGIN:STANDARD
TZOFFSETFROM:+0100
TZOFFSETTO:+0000
TZNAME:WET
DTSTART:20231029T010000
END:STANDARD
BEGIN:DAYLIGHT
TZOFFSETFROM:+0000
TZOFFSETTO:+0100
TZNAME:WEST
DTSTART:20240331T010000
END:DAYLIGHT
BEGIN:STANDARD
TZOFFSETFROM:+0100
TZOFFSETTO:+0000
TZNAME:WET
DTSTART:20241027T010000
END:STANDARD
END:VTIMEZONE
BEGIN:VEVENT
DTSTART;VALUE=DATE:20230405
DTEND;VALUE=DATE:20230430
DTSTAMP:20260423T095255
CREATED:20230405T114507Z
LAST-MODIFIED:20230405T114604Z
UID:54573-1680652800-1682812799@www.cm-santiagocacem.pt
SUMMARY:Exposição 25 de Abril - Ontem e Hoje - Evocação\, Memória e Luta
DESCRIPTION:Está patente\, de 5 a 29 de abril\, a Exposição 25 de Abril – Ontem e Hoje – Evocação\, Memória e Luta\, na Biblioteca Municipal Manuel da Fonseca\, em Santiago do Cacém.
URL:https://www.cm-santiagocacem.pt/evento/exposicao-25-de-abril-ontem-e-hoje-evocacao-memoria-e-luta/
LOCATION:Biblioteca Municipal Manuel da Fonseca
CATEGORIES:AR|Exposições,Bibliotecas,exposições
ATTACH;FMTTYPE=image/jpeg:https://www.cm-santiagocacem.pt/wp-content/uploads/expo-25-Abril_bmsc-scaled.jpg
GEO:38.0194123;-8.6947907
END:VEVENT
END:VCALENDAR